BEGIN:VCALENDAR
VERSION:2.0
PRODID:-//Family Hub - ECPv6.15.20//NONSGML v1.0//EN
CALSCALE:GREGORIAN
METHOD:PUBLISH
X-ORIGINAL-URL:https://richmondtwickenhamfamilyhub.com
X-WR-CALDESC:Events for Family Hub
REFRESH-INTERVAL;VALUE=DURATION:PT1H
X-Robots-Tag:noindex
X-PUBLISHED-TTL:PT1H
BEGIN:VTIMEZONE
TZID:Europe/London
BEGIN:DAYLIGHT
TZOFFSETFROM:+0000
TZOFFSETTO:+0100
TZNAME:BST
DTSTART:20250330T010000
END:DAYLIGHT
BEGIN:STANDARD
TZOFFSETFROM:+0100
TZOFFSETTO:+0000
TZNAME:GMT
DTSTART:20251026T010000
END:STANDARD
BEGIN:DAYLIGHT
TZOFFSETFROM:+0000
TZOFFSETTO:+0100
TZNAME:BST
DTSTART:20260329T010000
END:DAYLIGHT
BEGIN:STANDARD
TZOFFSETFROM:+0100
TZOFFSETTO:+0000
TZNAME:GMT
DTSTART:20261025T010000
END:STANDARD
BEGIN:DAYLIGHT
TZOFFSETFROM:+0000
TZOFFSETTO:+0100
TZNAME:BST
DTSTART:20270328T010000
END:DAYLIGHT
BEGIN:STANDARD
TZOFFSETFROM:+0100
TZOFFSETTO:+0000
TZNAME:GMT
DTSTART:20271031T010000
END:STANDARD
END:VTIMEZONE
BEGIN:VEVENT
DTSTART;TZID=Europe/London:20260222T090000
DTEND;TZID=Europe/London:20260222T100000
DTSTAMP:20260423T103937
CREATED:20260114T212938Z
LAST-MODIFIED:20260114T212938Z
UID:10021093-1771750800-1771754400@richmondtwickenhamfamilyhub.com
SUMMARY:Junior Parkrun – Osterley
DESCRIPTION:A 2k event for juniors only (4 to 14 year olds). ​ \nIt is held every Sunday at 9:00am. \nThe event takes place at Osterley Park\, Jersey Rd\, Isleworth\, TW7 4RB. See Course page for more details. \nThe course is 2000m (2K) long. The course is in Osterley Park\, Isleworth. The course is run on a mixture of paved paths\, unpaved paths and grass. Some sections of the course may accumulate mud\, leaves and puddles after rain. Marshals will be at key sections of the course and signs will be in place.\nThe course begins in front of the steps to Osterley House. Turn right in to the field in front of the house. After a clock wise lap of the field\, come off the field and on to the pathway and run down to the large gate at the back entrance by Osterley Lane. Turn around and run back along the same path. Then turn left in to the field and run another clockwise lap with the finish funnel in the field in front of the steps to the house. \nIt’s free! but please register before your first visit. Only ever register with parkrun once. Don’t forget to bring a printed copy of your barcode. \nThe aim is to have fun. Please go along and join in whatever your pace! \nEvery week they grab a post parkrun coffee in The Tearooms\, Stable Yard – please go and join us! \nhttps://www.parkrun.org.uk/osterley-juniors/
URL:https://richmondtwickenhamfamilyhub.com/event/junior-parkrun-osterley/2026-02-22/
LOCATION:Osterley Park\, Jersey Road\, Isleworth\, TW7 4RB\, United Kingdom
CATEGORIES:Kids Activities
END:VEVENT
BEGIN:VEVENT
DTSTART;TZID=Europe/London:20260222T090000
DTEND;TZID=Europe/London:20260222T100000
DTSTAMP:20260423T103937
CREATED:20260114T214024Z
LAST-MODIFIED:20260114T214024Z
UID:10021206-1771750800-1771754400@richmondtwickenhamfamilyhub.com
SUMMARY:Junior Parkrun – Moormead\, St Margarets
DESCRIPTION:A 2k event for juniors only (4 to 14 year olds). ​ \nThe aim is to have fun. Please go along and join in whatever your pace! \nWhat does it cost to join in?\nNothing – it’s free! but please register before your first visit. Only ever register with parkrun once. Don’t forget to take a printed copy of your barcode (request a reminder). \nhttps://www.parkrun.org.uk/moormead-juniors/
URL:https://richmondtwickenhamfamilyhub.com/event/junior-parkrun-moormead-st-margarets/2026-02-22/
LOCATION:Moormead & Bandy Recreation Gound\, Moor Mead Road\, St Margarets\, TW1 1JS\, United Kingdom
CATEGORIES:Kids Activities
END:VEVENT
BEGIN:VEVENT
DTSTART;TZID=Europe/London:20260222T100000
DTEND;TZID=Europe/London:20260222T114500
DTSTAMP:20260423T103937
CREATED:20260115T205543Z
LAST-MODIFIED:20260115T205543Z
UID:10021310-1771754400-1771760700@richmondtwickenhamfamilyhub.com
SUMMARY:One O'Clock Club (0-5yrs) – Marble Hill Playcentres\, Twickenham
DESCRIPTION:The One O’Clock Club is a fun and safe outdoor play space for children under 5 and their parents/carers. Grown-ups can relax with a cuppa and a snack from the newly refurbished kiosk\, while the little ones explore. With ride-ons\, scooters\, playhouses and sandpit\, there is plenty to occupy them. Playworkers are there to oversee\, and facilitate any messy play and craft activities\, and on warm days\, the paddling pool and sprinkler is always popular. They are open whatever the weather\, rain or shine! They offer a range of messy & wet play opportunities so please expect that your child may need a change of clothes at the end of the session. Please support your child in their play by dressing them in clothes for playing in that you don’t mind getting messy. \n\nFamilies need to pre-book before entering the One O’Clock Club.\n\nEvery Saturday morning 10am – 11.45am \nWeek Days: \nThurs: 9.30am – 12pm \nFri: 9.30am – 12pm & 1.30pm – 5pm \n\n\n\nOne O’Clock Club \n \nhttps://marblehillplaycentres.com/one-oclock-club/
URL:https://richmondtwickenhamfamilyhub.com/event/one-oclock-club-0-5yrs-marble-hill-playcentres-twickenham-2/2026-02-22/
LOCATION:Marble Hill Playcentres\, Richmond Road\, Twickeham\, TW1 2NL\, United Kingdom
CATEGORIES:Kids Activities
END:VEVENT
BEGIN:VEVENT
DTSTART;TZID=Europe/London:20260222T100000
DTEND;TZID=Europe/London:20260222T160000
DTSTAMP:20260423T103937
CREATED:20260209T113914Z
LAST-MODIFIED:20260209T113914Z
UID:10021495-1771754400-1771776000@richmondtwickenhamfamilyhub.com
SUMMARY:Mudfest – London Wetland Centre\, Barnes
DESCRIPTION:Stomp\, splash and squelch with the Wetland Centre’s mud-tastic half-term. Grab your wellies and get stuck in with Mudfest – where messy means fun! Mud isn’t just messy – it’s marvellous. It’s the stuff super-powered wetlands and great family adventures are made of. Embrace the mess and discover just how brilliant mud can be with hands-on activities\, including mud kitchen\, mud art\, brilliant beaks\, nest building and more. \nNormal admission applies. \nhttps://www.wwt.org.uk/wetland-centres/london/whats-on/events
URL:https://richmondtwickenhamfamilyhub.com/event/mudfest-london-wetland-centre-barnes/2026-02-22/
LOCATION:London Wetland Centre\, Queen Elizabeth's Walk\, Barnes\, SW13 9WT\, United Kingdom
CATEGORIES:Holiday/Seasonal Events
END:VEVENT
BEGIN:VEVENT
DTSTART;TZID=Europe/London:20260222T100000
DTEND;TZID=Europe/London:20260222T160000
DTSTAMP:20260423T103937
CREATED:20260209T115656Z
LAST-MODIFIED:20260209T115656Z
UID:10021536-1771754400-1771776000@richmondtwickenhamfamilyhub.com
SUMMARY:The Very Hungry Caterpillar™️ Trail – Osterley Park
DESCRIPTION:Become the world’s most famous caterpillar\, from Eric Carle’s best-selling book The Very Hungry Caterpillar™. This charming trail brings to life the best-selling story of the tiny caterpillar who hatches from an egg and is very hungry\, so he eats through a variety of fruits and snacks each day. The caterpillar then forms a chrysalis around himself and later\, emerges as a beautiful butterfly. Brought to life with beautifully illustrated trail markers\, giant food cut-outs\, activities and games\, children learn about the days of the week\, counting\, and the life cycle of a butterfly\, within the picturesque setting of Osterley’s early spring gardens. Pick up a free trail sheet and discover accompanying QR codes\, games and activities to learn fun and fascinating facts inspired by this classic children’s tale. Celebrate completing the trail with a snap in front of our stunning photo opportunity – giant\, colourful butterfly wings!  Recommended ages 3-6yrs. \nNormal admission applies. \nhttps://www.nationaltrust.org.uk/visit/london/osterley-park-and-house/events
URL:https://richmondtwickenhamfamilyhub.com/event/the-very-hungry-caterpillar%ef%b8%8f-trail-osterley-park-2/2026-02-22/
LOCATION:Osterley Park\, Jersey Road\, Isleworth\, TW7 4RB\, United Kingdom
CATEGORIES:Holiday/Seasonal Events
END:VEVENT
BEGIN:VEVENT
DTSTART;TZID=Europe/London:20260222T100000
DTEND;TZID=Europe/London:20260222T170000
DTSTAMP:20260423T103937
CREATED:20260207T214648Z
LAST-MODIFIED:20260207T214648Z
UID:10021463-1771754400-1771779600@richmondtwickenhamfamilyhub.com
SUMMARY:Fantastic Beasts – Hounslow Urban Farm
DESCRIPTION:Join a magical adventure to discover real farm animals with super powers. If you’re looking for something special this half-term\, discover the real-life skills and talents of the beasts at Hounslow Urban Farm. \nNormal admission applies..  \nhttps://hounslowurbanfarm.co.uk/whats-on/
URL:https://richmondtwickenhamfamilyhub.com/event/fantastic-beasts-hounslow-urban-farm/2026-02-22/
LOCATION:Hounslow Urban Farm\, Faggs Road\, Feltham\, TW14 0LZ
CATEGORIES:Holiday/Seasonal Events
END:VEVENT
BEGIN:VEVENT
DTSTART;TZID=Europe/London:20260222T113000
DTEND;TZID=Europe/London:20260222T153000
DTSTAMP:20260423T103937
CREATED:20260207T193814Z
LAST-MODIFIED:20260207T193814Z
UID:10021427-1771759800-1771774200@richmondtwickenhamfamilyhub.com
SUMMARY:Blossom Crafts – Ham House
DESCRIPTION:Join Ham House for craft activities inspired by the coming season and have a go at making origami blossom. Explore the spectacular 17th-century house\, which reopens on 14th February after the annual winter conservation closure\, with new opening hours or 11.30am-3.30pm (last entry 3pm). \nFree but normal admission applies. \nhttps://www.nationaltrust.org.uk/visit/london/ham-house-and-garden/events
URL:https://richmondtwickenhamfamilyhub.com/event/blossom-crafts-ham-house/2026-02-22/
LOCATION:Ham House\, Ham Street\, Ham\, TW10 7RS\, United Kingdom
CATEGORIES:Holiday/Seasonal Events
END:VEVENT
BEGIN:VEVENT
DTSTART;TZID=Europe/London:20260222T130000
DTEND;TZID=Europe/London:20260222T150000
DTSTAMP:20260423T103937
CREATED:20260116T210828Z
LAST-MODIFIED:20260116T210828Z
UID:10021379-1771765200-1771772400@richmondtwickenhamfamilyhub.com
SUMMARY:Wonderful Wildlife Weekend – Crane Park Island\, Whitton
DESCRIPTION:Drop-in for free fun family nature activities at Crane Park Island. \nJoin the London Wildlife Trust to explore ponds and surrounding areas to discover the wildlife that lives at Crane Park Island. Toads\, tadpoles\, woodlice and worms are just a selection of the animals that you might discover there! Activities will include using nets to look at animals found in the pond and looking under logs to see what minibeasts we can find. \nMeet at the Shot Tower (what3words: tens.closer.trap). \nThis session will be led by James (he/him) from the Learning & Engagement team. \nSessions are aimed at children of all ages and parents/carers together. All children must be accompanied throughout the session by a responsible adult. \nNo need to book\, just drop in on the day. Please wear suitable clothing for the weather. \nThis is a free event\, but donations are welcome. All profits are invested into London Wildlife Trust’s conservation and education work and the care of its nature reserves. \nhttps://www.wildlondon.org.uk/family-learning-events/crane-park-island
URL:https://richmondtwickenhamfamilyhub.com/event/wonderful-wildlife-weekend-crane-park-island-whitton/2026-02-22/
LOCATION:Crane Park Island\, Ellerman Avenue\, Whitton\, TW2 6AA
CATEGORIES:Kids Activities
END:VEVENT
END:VCALENDAR