BEGIN:VCALENDAR
VERSION:2.0
PRODID:-//Family Hub - ECPv6.15.20//NONSGML v1.0//EN
CALSCALE:GREGORIAN
METHOD:PUBLISH
X-ORIGINAL-URL:https://richmondtwickenhamfamilyhub.com
X-WR-CALDESC:Events for Family Hub
REFRESH-INTERVAL;VALUE=DURATION:PT1H
X-Robots-Tag:noindex
X-PUBLISHED-TTL:PT1H
BEGIN:VTIMEZONE
TZID:Europe/London
BEGIN:DAYLIGHT
TZOFFSETFROM:+0000
TZOFFSETTO:+0100
TZNAME:BST
DTSTART:20250330T010000
END:DAYLIGHT
BEGIN:STANDARD
TZOFFSETFROM:+0100
TZOFFSETTO:+0000
TZNAME:GMT
DTSTART:20251026T010000
END:STANDARD
BEGIN:DAYLIGHT
TZOFFSETFROM:+0000
TZOFFSETTO:+0100
TZNAME:BST
DTSTART:20260329T010000
END:DAYLIGHT
BEGIN:STANDARD
TZOFFSETFROM:+0100
TZOFFSETTO:+0000
TZNAME:GMT
DTSTART:20261025T010000
END:STANDARD
BEGIN:DAYLIGHT
TZOFFSETFROM:+0000
TZOFFSETTO:+0100
TZNAME:BST
DTSTART:20270328T010000
END:DAYLIGHT
BEGIN:STANDARD
TZOFFSETFROM:+0100
TZOFFSETTO:+0000
TZNAME:GMT
DTSTART:20271031T010000
END:STANDARD
END:VTIMEZONE
BEGIN:VEVENT
DTSTART;TZID=Europe/London:20260228T100000
DTEND;TZID=Europe/London:20260228T114500
DTSTAMP:20260423T015558
CREATED:20260115T205543Z
LAST-MODIFIED:20260115T205543Z
UID:10021311-1772272800-1772279100@richmondtwickenhamfamilyhub.com
SUMMARY:One O'Clock Club (0-5yrs) – Marble Hill Playcentres\, Twickenham
DESCRIPTION:The One O’Clock Club is a fun and safe outdoor play space for children under 5 and their parents/carers. Grown-ups can relax with a cuppa and a snack from the newly refurbished kiosk\, while the little ones explore. With ride-ons\, scooters\, playhouses and sandpit\, there is plenty to occupy them. Playworkers are there to oversee\, and facilitate any messy play and craft activities\, and on warm days\, the paddling pool and sprinkler is always popular. They are open whatever the weather\, rain or shine! They offer a range of messy & wet play opportunities so please expect that your child may need a change of clothes at the end of the session. Please support your child in their play by dressing them in clothes for playing in that you don’t mind getting messy. \n\nFamilies need to pre-book before entering the One O’Clock Club.\n\nEvery Saturday morning 10am – 11.45am \nWeek Days: \nThurs: 9.30am – 12pm \nFri: 9.30am – 12pm & 1.30pm – 5pm \n\n\n\nOne O’Clock Club \n \nhttps://marblehillplaycentres.com/one-oclock-club/
URL:https://richmondtwickenhamfamilyhub.com/event/one-oclock-club-0-5yrs-marble-hill-playcentres-twickenham-2/2026-02-28/
LOCATION:Marble Hill Playcentres\, Richmond Road\, Twickeham\, TW1 2NL\, United Kingdom
CATEGORIES:Kids Activities
END:VEVENT
BEGIN:VEVENT
DTSTART;TZID=Europe/London:20260228T100000
DTEND;TZID=Europe/London:20260228T160000
DTSTAMP:20260423T015558
CREATED:20260209T115754Z
LAST-MODIFIED:20260209T120040Z
UID:10021547-1772272800-1772294400@richmondtwickenhamfamilyhub.com
SUMMARY:The Very Hungry Caterpillar™️ Trail – Osterley Park
DESCRIPTION:Become the world’s most famous caterpillar\, from Eric Carle’s best-selling book The Very Hungry Caterpillar™. This charming trail brings to life the best-selling story of the tiny caterpillar who hatches from an egg and is very hungry\, so he eats through a variety of fruits and snacks each day. The caterpillar then forms a chrysalis around himself and later\, emerges as a beautiful butterfly. Brought to life with beautifully illustrated trail markers\, giant food cut-outs\, activities and games\, children learn about the days of the week\, counting\, and the life cycle of a butterfly\, within the picturesque setting of Osterley’s early spring gardens. Pick up a free trail sheet and discover accompanying QR codes\, games and activities to learn fun and fascinating facts inspired by this classic children’s tale. Celebrate completing the trail with a snap in front of our stunning photo opportunity – giant\, colourful butterfly wings!  Recommended ages 3-6yrs. \nNormal admission applies. \nhttps://www.nationaltrust.org.uk/visit/london/osterley-park-and-house/events
URL:https://richmondtwickenhamfamilyhub.com/event/the-very-hungry-caterpillar%ef%b8%8f-trail-osterley-park-3/2026-02-28/
LOCATION:Osterley Park\, Jersey Road\, Isleworth\, TW7 4RB\, United Kingdom
CATEGORIES:Kids Activities
END:VEVENT
BEGIN:VEVENT
DTSTART;TZID=Europe/London:20260228T130000
DTEND;TZID=Europe/London:20260228T150000
DTSTAMP:20260423T015558
CREATED:20260115T204840Z
LAST-MODIFIED:20260115T210146Z
UID:10021272-1772283600-1772290800@richmondtwickenhamfamilyhub.com
SUMMARY:Adventure Playground (5-15yrs) – Marble Hill Playcentres\, Twickenham
DESCRIPTION:The Adventure Playground at Marble Hill Playcentres is completely unique in this borough. With its huge wooden structures and large open spaces\, they provide a special place for thousands of children each year. Children learn fantastic life lessons by testing their limits\, discovering how things work and what they really enjoy to do. Adults are not permitted in the AP\, giving the children freedom to make their own choices\, and the opportunity to play and form new friendships with others outside of their usual peer group. They have a team of playworkers to supervise the children\, facilitate play\, and organise daily activities. If you have a child with additional needs who requires adult 1-1 support please complete the “All About Me” form (check link below) with your child\, and call/message on 07522 182524 or email ap@marblehillplaycentres.com so they can help identify the right support for your child. \nAll children must be booked in prior to the session. \nAdventure Playground \n \nhttps://marblehillplaycentres.com/adventure-playground/
URL:https://richmondtwickenhamfamilyhub.com/event/adventure-playground-5-15yrs-marble-hill-playcentres-twickenham/2026-02-28/
LOCATION:Marble Hill Playcentres\, Richmond Road\, Twickeham\, TW1 2NL\, United Kingdom
CATEGORIES:Kids Activities
END:VEVENT
END:VCALENDAR