BEGIN:VCALENDAR
VERSION:2.0
PRODID:-//Family Hub - ECPv6.15.20//NONSGML v1.0//EN
CALSCALE:GREGORIAN
METHOD:PUBLISH
X-ORIGINAL-URL:https://richmondtwickenhamfamilyhub.com
X-WR-CALDESC:Events for Family Hub
REFRESH-INTERVAL;VALUE=DURATION:PT1H
X-Robots-Tag:noindex
X-PUBLISHED-TTL:PT1H
BEGIN:VTIMEZONE
TZID:Europe/London
BEGIN:DAYLIGHT
TZOFFSETFROM:+0000
TZOFFSETTO:+0100
TZNAME:BST
DTSTART:20250330T010000
END:DAYLIGHT
BEGIN:STANDARD
TZOFFSETFROM:+0100
TZOFFSETTO:+0000
TZNAME:GMT
DTSTART:20251026T010000
END:STANDARD
BEGIN:DAYLIGHT
TZOFFSETFROM:+0000
TZOFFSETTO:+0100
TZNAME:BST
DTSTART:20260329T010000
END:DAYLIGHT
BEGIN:STANDARD
TZOFFSETFROM:+0100
TZOFFSETTO:+0000
TZNAME:GMT
DTSTART:20261025T010000
END:STANDARD
BEGIN:DAYLIGHT
TZOFFSETFROM:+0000
TZOFFSETTO:+0100
TZNAME:BST
DTSTART:20270328T010000
END:DAYLIGHT
BEGIN:STANDARD
TZOFFSETFROM:+0100
TZOFFSETTO:+0000
TZNAME:GMT
DTSTART:20271031T010000
END:STANDARD
END:VTIMEZONE
BEGIN:VEVENT
DTSTART;TZID=Europe/London:20260302T100000
DTEND;TZID=Europe/London:20260302T104500
DTSTAMP:20260423T015556
CREATED:20260114T210213Z
LAST-MODIFIED:20260114T210213Z
UID:10020950-1772445600-1772448300@richmondtwickenhamfamilyhub.com
SUMMARY:RhymeTime – East Sheen
DESCRIPTION:RhymeTime’s lively preschool music and movement classes help children develop their abilities\, skills and confidence by unlocking their natural love of music. Sessions are interactive and are fun for you and your child. They use songs and music you know and love\, plus new songs you’ll love learning\, along with pom-poms\, maracas\, parachutes\, puppets and instruments\, all topped off with lots of bubbly fun. \nPlease contact Janie: 07958 662 296 / Catie: 07887 608 299 if you’d like to attend\, or just turn up! \nhttps://rhymetimemusicclasses.wordpress.com/blog/about/
URL:https://richmondtwickenhamfamilyhub.com/event/rhymetime-east-sheen-2/2026-03-02/
LOCATION:East Sheen Baptist Church\, Temple Sheen Road\, East Sheen\, SW14 7PY\, United Kingdom
CATEGORIES:Kids Classes
END:VEVENT
BEGIN:VEVENT
DTSTART;TZID=Europe/London:20260302T100000
DTEND;TZID=Europe/London:20260302T160000
DTSTAMP:20260423T015556
CREATED:20260209T115754Z
LAST-MODIFIED:20260209T120040Z
UID:10021549-1772445600-1772467200@richmondtwickenhamfamilyhub.com
SUMMARY:The Very Hungry Caterpillar™️ Trail – Osterley Park
DESCRIPTION:Become the world’s most famous caterpillar\, from Eric Carle’s best-selling book The Very Hungry Caterpillar™. This charming trail brings to life the best-selling story of the tiny caterpillar who hatches from an egg and is very hungry\, so he eats through a variety of fruits and snacks each day. The caterpillar then forms a chrysalis around himself and later\, emerges as a beautiful butterfly. Brought to life with beautifully illustrated trail markers\, giant food cut-outs\, activities and games\, children learn about the days of the week\, counting\, and the life cycle of a butterfly\, within the picturesque setting of Osterley’s early spring gardens. Pick up a free trail sheet and discover accompanying QR codes\, games and activities to learn fun and fascinating facts inspired by this classic children’s tale. Celebrate completing the trail with a snap in front of our stunning photo opportunity – giant\, colourful butterfly wings!  Recommended ages 3-6yrs. \nNormal admission applies. \nhttps://www.nationaltrust.org.uk/visit/london/osterley-park-and-house/events
URL:https://richmondtwickenhamfamilyhub.com/event/the-very-hungry-caterpillar%ef%b8%8f-trail-osterley-park-3/2026-03-02/
LOCATION:Osterley Park\, Jersey Road\, Isleworth\, TW7 4RB\, United Kingdom
CATEGORIES:Kids Activities
END:VEVENT
BEGIN:VEVENT
DTSTART;TZID=Europe/London:20260302T101500
DTEND;TZID=Europe/London:20260302T164500
DTSTAMP:20260423T015556
CREATED:20260114T212156Z
LAST-MODIFIED:20260114T212156Z
UID:10020998-1772446500-1772469900@richmondtwickenhamfamilyhub.com
SUMMARY:Penny Poppins Messy Play – Mortlake
DESCRIPTION:Penny Poppins Musical Playtime & Messy Play. \n\nMonday sessions at 10.15-11.15am & 3.45-4.45pm\nWeekly themed messy play classes consist of 40 minutes of messy playtime\, where you and your little ones can explore the room freely. There is a range of sensory experiences which include foam\, water\, spaghetti\, sand\, paint\, mud and more. You will also get the opportunity to create something to take home with you! You will finish the class off with 20 minutes of musical playtime. With familiar songs and rhymes.\n\n\n£10.00 per session\n\nClasses are drop in and pay as you go but please remember to check that the session you wish to attend is running. You can book here.\n\nhttps://www.pennypoppinsmusic.co.uk
URL:https://richmondtwickenhamfamilyhub.com/event/penny-poppins-messy-play-mortlake-2/2026-03-02/
LOCATION:St Mary The Virgin Church\, Mortlake High Street\, Mortlake\, SW14 8JA\, United Kingdom
CATEGORIES:Kids Classes
END:VEVENT
END:VCALENDAR