BEGIN:VCALENDAR
VERSION:2.0
PRODID:-//Family Hub - ECPv6.15.20//NONSGML v1.0//EN
CALSCALE:GREGORIAN
METHOD:PUBLISH
X-ORIGINAL-URL:https://richmondtwickenhamfamilyhub.com
X-WR-CALDESC:Events for Family Hub
REFRESH-INTERVAL;VALUE=DURATION:PT1H
X-Robots-Tag:noindex
X-PUBLISHED-TTL:PT1H
BEGIN:VTIMEZONE
TZID:Europe/London
BEGIN:DAYLIGHT
TZOFFSETFROM:+0000
TZOFFSETTO:+0100
TZNAME:BST
DTSTART:20250330T010000
END:DAYLIGHT
BEGIN:STANDARD
TZOFFSETFROM:+0100
TZOFFSETTO:+0000
TZNAME:GMT
DTSTART:20251026T010000
END:STANDARD
BEGIN:DAYLIGHT
TZOFFSETFROM:+0000
TZOFFSETTO:+0100
TZNAME:BST
DTSTART:20260329T010000
END:DAYLIGHT
BEGIN:STANDARD
TZOFFSETFROM:+0100
TZOFFSETTO:+0000
TZNAME:GMT
DTSTART:20261025T010000
END:STANDARD
BEGIN:DAYLIGHT
TZOFFSETFROM:+0000
TZOFFSETTO:+0100
TZNAME:BST
DTSTART:20270328T010000
END:DAYLIGHT
BEGIN:STANDARD
TZOFFSETFROM:+0100
TZOFFSETTO:+0000
TZNAME:GMT
DTSTART:20271031T010000
END:STANDARD
END:VTIMEZONE
BEGIN:VEVENT
DTSTART;TZID=Europe/London:20260303T100000
DTEND;TZID=Europe/London:20260303T111500
DTSTAMP:20260423T050401
CREATED:20260114T213732Z
LAST-MODIFIED:20260114T213732Z
UID:10021174-1772532000-1772536500@richmondtwickenhamfamilyhub.com
SUMMARY:Baby & Toddler Group – St Mary's\, Barnes
DESCRIPTION:A baby and toddler group every Tuesday in term time from 10am. All welcome with no booking required. Start with a short service and bible story followed by play\, craft\, snacks and singing\, finishing at around 11.15am. \nhttps://www.stmarybarnes.org/children-teens/
URL:https://richmondtwickenhamfamilyhub.com/event/baby-toddler-group-st-marys-barnes-2/2026-03-03/
LOCATION:St Mary’s Church\, Barnes\, Church Road\, Barnes\, SW13 9HL
CATEGORIES:Playgroups
END:VEVENT
BEGIN:VEVENT
DTSTART;TZID=Europe/London:20260303T100000
DTEND;TZID=Europe/London:20260303T160000
DTSTAMP:20260423T050401
CREATED:20260209T115754Z
LAST-MODIFIED:20260209T120040Z
UID:10021550-1772532000-1772553600@richmondtwickenhamfamilyhub.com
SUMMARY:The Very Hungry Caterpillar™️ Trail – Osterley Park
DESCRIPTION:Become the world’s most famous caterpillar\, from Eric Carle’s best-selling book The Very Hungry Caterpillar™. This charming trail brings to life the best-selling story of the tiny caterpillar who hatches from an egg and is very hungry\, so he eats through a variety of fruits and snacks each day. The caterpillar then forms a chrysalis around himself and later\, emerges as a beautiful butterfly. Brought to life with beautifully illustrated trail markers\, giant food cut-outs\, activities and games\, children learn about the days of the week\, counting\, and the life cycle of a butterfly\, within the picturesque setting of Osterley’s early spring gardens. Pick up a free trail sheet and discover accompanying QR codes\, games and activities to learn fun and fascinating facts inspired by this classic children’s tale. Celebrate completing the trail with a snap in front of our stunning photo opportunity – giant\, colourful butterfly wings!  Recommended ages 3-6yrs. \nNormal admission applies. \nhttps://www.nationaltrust.org.uk/visit/london/osterley-park-and-house/events
URL:https://richmondtwickenhamfamilyhub.com/event/the-very-hungry-caterpillar%ef%b8%8f-trail-osterley-park-3/2026-03-03/
LOCATION:Osterley Park\, Jersey Road\, Isleworth\, TW7 4RB\, United Kingdom
CATEGORIES:Kids Activities
END:VEVENT
END:VCALENDAR