BEGIN:VCALENDAR
VERSION:2.0
PRODID:-//Family Hub - ECPv6.15.20//NONSGML v1.0//EN
CALSCALE:GREGORIAN
METHOD:PUBLISH
X-WR-CALNAME:Family Hub
X-ORIGINAL-URL:https://richmondtwickenhamfamilyhub.com
X-WR-CALDESC:Events for Family Hub
REFRESH-INTERVAL;VALUE=DURATION:PT1H
X-Robots-Tag:noindex
X-PUBLISHED-TTL:PT1H
BEGIN:VTIMEZONE
TZID:Europe/London
BEGIN:DAYLIGHT
TZOFFSETFROM:+0000
TZOFFSETTO:+0100
TZNAME:BST
DTSTART:20250330T010000
END:DAYLIGHT
BEGIN:STANDARD
TZOFFSETFROM:+0100
TZOFFSETTO:+0000
TZNAME:GMT
DTSTART:20251026T010000
END:STANDARD
BEGIN:DAYLIGHT
TZOFFSETFROM:+0000
TZOFFSETTO:+0100
TZNAME:BST
DTSTART:20260329T010000
END:DAYLIGHT
BEGIN:STANDARD
TZOFFSETFROM:+0100
TZOFFSETTO:+0000
TZNAME:GMT
DTSTART:20261025T010000
END:STANDARD
BEGIN:DAYLIGHT
TZOFFSETFROM:+0000
TZOFFSETTO:+0100
TZNAME:BST
DTSTART:20270328T010000
END:DAYLIGHT
BEGIN:STANDARD
TZOFFSETFROM:+0100
TZOFFSETTO:+0000
TZNAME:GMT
DTSTART:20271031T010000
END:STANDARD
END:VTIMEZONE
BEGIN:VEVENT
DTSTART;TZID=Europe/London:20260304T093000
DTEND;TZID=Europe/London:20260304T113000
DTSTAMP:20260423T014905
CREATED:20260114T205511Z
LAST-MODIFIED:20260114T205511Z
UID:10020910-1772616600-1772623800@richmondtwickenhamfamilyhub.com
SUMMARY:Teddington Tots (0-3yrs)
DESCRIPTION:Drop In Toddler Group at Teddington Methodist Church  \nWednesdays 9.30am – 11.30am (Term Time Only) \nTeddington Tots is a fun family group that welcomes pre-school age children (0 – 3 yrs) and their parents\, grandparents or carers. Fees are £3 per “family group” per session.  \nChildren can play with a variety of toys\, take part in singing/dancing and craft activities. Refreshments are provided for both parents/carers and children. Meet in the church hall – entrance through the garden gate\, just left of the main entrance on Stanley Road. \nhttps://www.teddingtonmethodistchurch.org.uk/teddingtontots.htm
URL:https://richmondtwickenhamfamilyhub.com/event/teddington-tots-0-3yrs-2/2026-03-04/
LOCATION:Teddington Methodist Church\, 1 Stanley Road\, Teddington\, TW11 8TP\, United Kingdom
CATEGORIES:Playgroups
END:VEVENT
END:VCALENDAR