BEGIN:VCALENDAR
VERSION:2.0
PRODID:-//Family Hub - ECPv6.15.20//NONSGML v1.0//EN
CALSCALE:GREGORIAN
METHOD:PUBLISH
X-ORIGINAL-URL:https://richmondtwickenhamfamilyhub.com
X-WR-CALDESC:Events for Family Hub
REFRESH-INTERVAL;VALUE=DURATION:PT1H
X-Robots-Tag:noindex
X-PUBLISHED-TTL:PT1H
BEGIN:VTIMEZONE
TZID:Europe/London
BEGIN:DAYLIGHT
TZOFFSETFROM:+0000
TZOFFSETTO:+0100
TZNAME:BST
DTSTART:20250330T010000
END:DAYLIGHT
BEGIN:STANDARD
TZOFFSETFROM:+0100
TZOFFSETTO:+0000
TZNAME:GMT
DTSTART:20251026T010000
END:STANDARD
BEGIN:DAYLIGHT
TZOFFSETFROM:+0000
TZOFFSETTO:+0100
TZNAME:BST
DTSTART:20260329T010000
END:DAYLIGHT
BEGIN:STANDARD
TZOFFSETFROM:+0100
TZOFFSETTO:+0000
TZNAME:GMT
DTSTART:20261025T010000
END:STANDARD
BEGIN:DAYLIGHT
TZOFFSETFROM:+0000
TZOFFSETTO:+0100
TZNAME:BST
DTSTART:20270328T010000
END:DAYLIGHT
BEGIN:STANDARD
TZOFFSETFROM:+0100
TZOFFSETTO:+0000
TZNAME:GMT
DTSTART:20271031T010000
END:STANDARD
END:VTIMEZONE
BEGIN:VEVENT
DTSTART;TZID=Europe/London:20260305T093000
DTEND;TZID=Europe/London:20260305T170000
DTSTAMP:20260423T015608
CREATED:20260115T205913Z
LAST-MODIFIED:20260115T205913Z
UID:10021369-1772703000-1772730000@richmondtwickenhamfamilyhub.com
SUMMARY:One O'Clock Club (0-5yrs) – Marble Hill Playcentres\, Twickenham
DESCRIPTION:The One O’Clock Club is a fun and safe outdoor play space for children under 5 and their parents/carers. Grown-ups can relax with a cuppa and a snack from the newly refurbished kiosk\, while the little ones explore. With ride-ons\, scooters\, playhouses and sandpit\, there is plenty to occupy them. Playworkers are there to oversee\, and facilitate any messy play and craft activities\, and on warm days\, the paddling pool and sprinkler is always popular. They are open whatever the weather\, rain or shine! They offer a range of messy & wet play opportunities so please expect that your child may need a change of clothes at the end of the session. Please support your child in their play by dressing them in clothes for playing in that you don’t mind getting messy. \n\nFamilies need to pre-book before entering the One O’Clock Club.\n\nEvery Saturday morning 10am – 11.45am \nWeek Days: \nThurs: 9.30am – 12pm \nFri: 9.30am – 12pm & 1.30pm – 5pm \n\n\n\nOne O’Clock Club \n \nhttps://marblehillplaycentres.com/one-oclock-club/
URL:https://richmondtwickenhamfamilyhub.com/event/one-oclock-club-0-5yrs-marble-hill-playcentres-twickenham-3/2026-03-05/
LOCATION:Marble Hill Playcentres\, Richmond Road\, Twickeham\, TW1 2NL\, United Kingdom
CATEGORIES:Kids Activities
END:VEVENT
BEGIN:VEVENT
DTSTART;TZID=Europe/London:20260305T100000
DTEND;TZID=Europe/London:20260305T110000
DTSTAMP:20260423T015608
CREATED:20260114T212321Z
LAST-MODIFIED:20260114T212626Z
UID:10021018-1772704800-1772708400@richmondtwickenhamfamilyhub.com
SUMMARY:Penny Poppins Messy Play – Barnes
DESCRIPTION:Penny Poppins Musical Playtime & Messy Play. \n\nFriday sessions at 10.00-11.00am\nWeekly themed messy play classes consist of 40 minutes of messy playtime\, where you and your little ones can explore the room freely. There is a range of sensory experiences which include foam\, water\, spaghetti\, sand\, paint\, mud and more. You will also get the opportunity to create something to take home with you! You will finish the class off with 20 minutes of musical playtime. With familiar songs and rhymes.\n\n\n£10.00 per session\n\nClasses are drop in and pay as you go but please remember to check that the session you wish to attend is running. You can book here.\n\nhttps://www.pennypoppinsmusic.co.uk
URL:https://richmondtwickenhamfamilyhub.com/event/penny-poppins-messy-play-barnes-2/2026-03-05/
LOCATION:Rose House\, 70 Barnes High Street\, Barnes\, SW13 9LD\, United Kingdom
CATEGORIES:Kids Classes
END:VEVENT
BEGIN:VEVENT
DTSTART;TZID=Europe/London:20260305T100000
DTEND;TZID=Europe/London:20260305T113000
DTSTAMP:20260423T015608
CREATED:20260114T204928Z
LAST-MODIFIED:20260114T204928Z
UID:10020890-1772704800-1772710200@richmondtwickenhamfamilyhub.com
SUMMARY:Tiny Tunes (3m-5yrs) – Twickenham
DESCRIPTION:Classes at 10.00am & 10.50am \nCLASSES MUST BE PRE-BOOKED \nCharge: £9.50 (sibling £4.50) \nAge: 3mths – 5 yrs \nDuration: 40 mins \nClasses  in the Twickenham Library upstairs in Arthur Burrell’s room. Lift at the back of the library as well as baby changing area. \n​ \nhttps://www.tinytuneslive.com/twickenham
URL:https://richmondtwickenhamfamilyhub.com/event/tiny-tunes-3m-5yrs-twickenham-2/2026-03-05/
LOCATION:Twickenham Library\, Garfield Road\, Twickenham\, TW1 3JT\, United Kingdom
CATEGORIES:Kids Classes
END:VEVENT
END:VCALENDAR