BEGIN:VCALENDAR
VERSION:2.0
PRODID:-//Family Hub - ECPv6.15.20//NONSGML v1.0//EN
CALSCALE:GREGORIAN
METHOD:PUBLISH
X-ORIGINAL-URL:https://richmondtwickenhamfamilyhub.com
X-WR-CALDESC:Events for Family Hub
REFRESH-INTERVAL;VALUE=DURATION:PT1H
X-Robots-Tag:noindex
X-PUBLISHED-TTL:PT1H
BEGIN:VTIMEZONE
TZID:Europe/London
BEGIN:DAYLIGHT
TZOFFSETFROM:+0000
TZOFFSETTO:+0100
TZNAME:BST
DTSTART:20250330T010000
END:DAYLIGHT
BEGIN:STANDARD
TZOFFSETFROM:+0100
TZOFFSETTO:+0000
TZNAME:GMT
DTSTART:20251026T010000
END:STANDARD
BEGIN:DAYLIGHT
TZOFFSETFROM:+0000
TZOFFSETTO:+0100
TZNAME:BST
DTSTART:20260329T010000
END:DAYLIGHT
BEGIN:STANDARD
TZOFFSETFROM:+0100
TZOFFSETTO:+0000
TZNAME:GMT
DTSTART:20261025T010000
END:STANDARD
BEGIN:DAYLIGHT
TZOFFSETFROM:+0000
TZOFFSETTO:+0100
TZNAME:BST
DTSTART:20270328T010000
END:DAYLIGHT
BEGIN:STANDARD
TZOFFSETFROM:+0100
TZOFFSETTO:+0000
TZNAME:GMT
DTSTART:20271031T010000
END:STANDARD
END:VTIMEZONE
BEGIN:VEVENT
DTSTART;TZID=Europe/London:20260307T100000
DTEND;TZID=Europe/London:20260307T114500
DTSTAMP:20260423T015609
CREATED:20260115T204456Z
LAST-MODIFIED:20260115T204456Z
UID:10021254-1772877600-1772883900@richmondtwickenhamfamilyhub.com
SUMMARY:SENsational Saturday Club (0-15yrs) – Marble Hill Playcentres\, Twickenham
DESCRIPTION:All children need to play and be active. Play is essential to the healthy\, physical\, social and emotional development of all children\, and a fundamental part of childhood. Children with disabilities need to play as much as their non-disabled peers. Indeed the benefits of play and physical activity can be even greater than for other children so it is vital they do not miss out. \nOn every first Saturday of the month throughout the year\, from 10am – 11.45am the SENsational Saturday Club offers children from 0 – 15 years\, with disabilities or additional needs\, time to explore the Adventure Playground with their families/carers. And it’s FREE! SENsational Saturday sessions are also open and free to the siblings of children with additional needs. Siblings too\, need the opportunity to choose to play either with their brother or sister or to have some\, often much needed time to explore and engage in their own play. Please note\, sessions may sometimes move\, so please check with them  before attending. \nSessions give parents and carers an opportunity to take some time out and chat to other parents while the children are free to explore\, socialise and learn through play in a fun but safe environment. Over the years parents and carers have developed an active social group\, sharing information and advice or just lending a friendly ear to each other. \nExperienced and dedicated playworkers are on site throughout the sessions to run activities\, play games and offer a little respite for those who might need it. They make full use of all of the rope swings\, cook together\, build dens and get messy with lots of craft and making activities. \n\n\n\nThese 2 hour sessions are free\, but any donations that enable MHP to continue and improve this much loved and essential service to local families are always needed and much appreciated. \n\n\n\n\n\n\n\nEveryone needs to register before entering the SENsational Saturday Club and PRE BOOK the session you wish to attend – please note that you will not be able to drop in due to Covid safe site procedures. This is to make sure that they have safe numbers of people on site and the right contact details in case of emergency. This is also to provide information about usage that they need for their funders. \nSENsational Saturday Club
URL:https://richmondtwickenhamfamilyhub.com/event/sensational-saturday-club-0-15yrs-marble-hill-playcentres-twickenham-2/2026-03-07/
LOCATION:Marble Hill Playcentres\, Richmond Road\, Twickeham\, TW1 2NL\, United Kingdom
CATEGORIES:Kids Activities
END:VEVENT
BEGIN:VEVENT
DTSTART;TZID=Europe/London:20260307T100000
DTEND;TZID=Europe/London:20260307T114500
DTSTAMP:20260423T015609
CREATED:20260115T205543Z
LAST-MODIFIED:20260115T205543Z
UID:10021313-1772877600-1772883900@richmondtwickenhamfamilyhub.com
SUMMARY:One O'Clock Club (0-5yrs) – Marble Hill Playcentres\, Twickenham
DESCRIPTION:The One O’Clock Club is a fun and safe outdoor play space for children under 5 and their parents/carers. Grown-ups can relax with a cuppa and a snack from the newly refurbished kiosk\, while the little ones explore. With ride-ons\, scooters\, playhouses and sandpit\, there is plenty to occupy them. Playworkers are there to oversee\, and facilitate any messy play and craft activities\, and on warm days\, the paddling pool and sprinkler is always popular. They are open whatever the weather\, rain or shine! They offer a range of messy & wet play opportunities so please expect that your child may need a change of clothes at the end of the session. Please support your child in their play by dressing them in clothes for playing in that you don’t mind getting messy. \n\nFamilies need to pre-book before entering the One O’Clock Club.\n\nEvery Saturday morning 10am – 11.45am \nWeek Days: \nThurs: 9.30am – 12pm \nFri: 9.30am – 12pm & 1.30pm – 5pm \n\n\n\nOne O’Clock Club \n \nhttps://marblehillplaycentres.com/one-oclock-club/
URL:https://richmondtwickenhamfamilyhub.com/event/one-oclock-club-0-5yrs-marble-hill-playcentres-twickenham-2/2026-03-07/
LOCATION:Marble Hill Playcentres\, Richmond Road\, Twickeham\, TW1 2NL\, United Kingdom
CATEGORIES:Kids Activities
END:VEVENT
BEGIN:VEVENT
DTSTART;TZID=Europe/London:20260307T130000
DTEND;TZID=Europe/London:20260307T150000
DTSTAMP:20260423T015609
CREATED:20260115T204840Z
LAST-MODIFIED:20260115T210146Z
UID:10021273-1772888400-1772895600@richmondtwickenhamfamilyhub.com
SUMMARY:Adventure Playground (5-15yrs) – Marble Hill Playcentres\, Twickenham
DESCRIPTION:The Adventure Playground at Marble Hill Playcentres is completely unique in this borough. With its huge wooden structures and large open spaces\, they provide a special place for thousands of children each year. Children learn fantastic life lessons by testing their limits\, discovering how things work and what they really enjoy to do. Adults are not permitted in the AP\, giving the children freedom to make their own choices\, and the opportunity to play and form new friendships with others outside of their usual peer group. They have a team of playworkers to supervise the children\, facilitate play\, and organise daily activities. If you have a child with additional needs who requires adult 1-1 support please complete the “All About Me” form (check link below) with your child\, and call/message on 07522 182524 or email ap@marblehillplaycentres.com so they can help identify the right support for your child. \nAll children must be booked in prior to the session. \nAdventure Playground \n \nhttps://marblehillplaycentres.com/adventure-playground/
URL:https://richmondtwickenhamfamilyhub.com/event/adventure-playground-5-15yrs-marble-hill-playcentres-twickenham/2026-03-07/
LOCATION:Marble Hill Playcentres\, Richmond Road\, Twickeham\, TW1 2NL\, United Kingdom
CATEGORIES:Kids Activities
END:VEVENT
END:VCALENDAR