BEGIN:VCALENDAR
VERSION:2.0
PRODID:-//Family Hub - ECPv6.15.20//NONSGML v1.0//EN
CALSCALE:GREGORIAN
METHOD:PUBLISH
X-ORIGINAL-URL:https://richmondtwickenhamfamilyhub.com
X-WR-CALDESC:Events for Family Hub
REFRESH-INTERVAL;VALUE=DURATION:PT1H
X-Robots-Tag:noindex
X-PUBLISHED-TTL:PT1H
BEGIN:VTIMEZONE
TZID:Europe/London
BEGIN:DAYLIGHT
TZOFFSETFROM:+0000
TZOFFSETTO:+0100
TZNAME:BST
DTSTART:20250330T010000
END:DAYLIGHT
BEGIN:STANDARD
TZOFFSETFROM:+0100
TZOFFSETTO:+0000
TZNAME:GMT
DTSTART:20251026T010000
END:STANDARD
BEGIN:DAYLIGHT
TZOFFSETFROM:+0000
TZOFFSETTO:+0100
TZNAME:BST
DTSTART:20260329T010000
END:DAYLIGHT
BEGIN:STANDARD
TZOFFSETFROM:+0100
TZOFFSETTO:+0000
TZNAME:GMT
DTSTART:20261025T010000
END:STANDARD
BEGIN:DAYLIGHT
TZOFFSETFROM:+0000
TZOFFSETTO:+0100
TZNAME:BST
DTSTART:20270328T010000
END:DAYLIGHT
BEGIN:STANDARD
TZOFFSETFROM:+0100
TZOFFSETTO:+0000
TZNAME:GMT
DTSTART:20271031T010000
END:STANDARD
END:VTIMEZONE
BEGIN:VEVENT
DTSTART;TZID=Europe/London:20260310T100000
DTEND;TZID=Europe/London:20260310T111500
DTSTAMP:20260423T015606
CREATED:20260114T213732Z
LAST-MODIFIED:20260114T213732Z
UID:10021175-1773136800-1773141300@richmondtwickenhamfamilyhub.com
SUMMARY:Baby & Toddler Group – St Mary's\, Barnes
DESCRIPTION:A baby and toddler group every Tuesday in term time from 10am. All welcome with no booking required. Start with a short service and bible story followed by play\, craft\, snacks and singing\, finishing at around 11.15am. \nhttps://www.stmarybarnes.org/children-teens/
URL:https://richmondtwickenhamfamilyhub.com/event/baby-toddler-group-st-marys-barnes-2/2026-03-10/
LOCATION:St Mary’s Church\, Barnes\, Church Road\, Barnes\, SW13 9HL
CATEGORIES:Playgroups
END:VEVENT
END:VCALENDAR