BEGIN:VCALENDAR
VERSION:2.0
PRODID:-//Family Hub - ECPv6.15.20//NONSGML v1.0//EN
CALSCALE:GREGORIAN
METHOD:PUBLISH
X-WR-CALNAME:Family Hub
X-ORIGINAL-URL:https://richmondtwickenhamfamilyhub.com
X-WR-CALDESC:Events for Family Hub
REFRESH-INTERVAL;VALUE=DURATION:PT1H
X-Robots-Tag:noindex
X-PUBLISHED-TTL:PT1H
BEGIN:VTIMEZONE
TZID:Europe/London
BEGIN:DAYLIGHT
TZOFFSETFROM:+0000
TZOFFSETTO:+0100
TZNAME:BST
DTSTART:20250330T010000
END:DAYLIGHT
BEGIN:STANDARD
TZOFFSETFROM:+0100
TZOFFSETTO:+0000
TZNAME:GMT
DTSTART:20251026T010000
END:STANDARD
BEGIN:DAYLIGHT
TZOFFSETFROM:+0000
TZOFFSETTO:+0100
TZNAME:BST
DTSTART:20260329T010000
END:DAYLIGHT
BEGIN:STANDARD
TZOFFSETFROM:+0100
TZOFFSETTO:+0000
TZNAME:GMT
DTSTART:20261025T010000
END:STANDARD
BEGIN:DAYLIGHT
TZOFFSETFROM:+0000
TZOFFSETTO:+0100
TZNAME:BST
DTSTART:20270328T010000
END:DAYLIGHT
BEGIN:STANDARD
TZOFFSETFROM:+0100
TZOFFSETTO:+0000
TZNAME:GMT
DTSTART:20271031T010000
END:STANDARD
END:VTIMEZONE
BEGIN:VEVENT
DTSTART;TZID=Europe/London:20260328T100000
DTEND;TZID=Europe/London:20260328T114500
DTSTAMP:20260423T015507
CREATED:20260115T205543Z
LAST-MODIFIED:20260115T205543Z
UID:10021319-1774692000-1774698300@richmondtwickenhamfamilyhub.com
SUMMARY:One O'Clock Club (0-5yrs) – Marble Hill Playcentres\, Twickenham
DESCRIPTION:The One O’Clock Club is a fun and safe outdoor play space for children under 5 and their parents/carers. Grown-ups can relax with a cuppa and a snack from the newly refurbished kiosk\, while the little ones explore. With ride-ons\, scooters\, playhouses and sandpit\, there is plenty to occupy them. Playworkers are there to oversee\, and facilitate any messy play and craft activities\, and on warm days\, the paddling pool and sprinkler is always popular. They are open whatever the weather\, rain or shine! They offer a range of messy & wet play opportunities so please expect that your child may need a change of clothes at the end of the session. Please support your child in their play by dressing them in clothes for playing in that you don’t mind getting messy. \n\nFamilies need to pre-book before entering the One O’Clock Club.\n\nEvery Saturday morning 10am – 11.45am \nWeek Days: \nThurs: 9.30am – 12pm \nFri: 9.30am – 12pm & 1.30pm – 5pm \n\n\n\nOne O’Clock Club \n \nhttps://marblehillplaycentres.com/one-oclock-club/
URL:https://richmondtwickenhamfamilyhub.com/event/one-oclock-club-0-5yrs-marble-hill-playcentres-twickenham-2/2026-03-28/
LOCATION:Marble Hill Playcentres\, Richmond Road\, Twickeham\, TW1 2NL\, United Kingdom
CATEGORIES:Kids Activities
END:VEVENT
BEGIN:VEVENT
DTSTART;TZID=Europe/London:20260328T100000
DTEND;TZID=Europe/London:20260328T160000
DTSTAMP:20260423T015507
CREATED:20260318T154642Z
LAST-MODIFIED:20260318T154642Z
UID:10021617-1774692000-1774713600@richmondtwickenhamfamilyhub.com
SUMMARY:Easter Lindt Gold Bunny Hunt – Hampton Court Palace
DESCRIPTION:Embark on the ultimate family Easter hunt. Explore the iconic gardens and discover the remarkable individuals who left their mark on Henry VIII’s home. Roam through lush gardens\, keeping your eyes peeled for elusive Lindt Gold Bunny statues peeking out from colourful daffodils or early buds from the Tulip Festival. Follow the trail and match the names of influential characters to the distinctive red ribbons adorning every adorable Lindt Gold Bunny statue. Once you’ve found all the statue\, your quest will be rewarded with a delicious miniature Lindt Gold Bunny 10g chocolate treat. Don’t miss also exploring the entire palace\, 60 acres of gardens\, the legendary Maze\, and the popular Magic Garden playground. \nNormal admission applies. \nhttps://www.hrp.org.uk/hampton-court-palace/whats-on/?types=2551&allDates=on&from=&to=&sort=date&page=1
URL:https://richmondtwickenhamfamilyhub.com/event/easter-lindt-gold-bunny-hunt-hampton-court-palace/2026-03-28/
LOCATION:Hampton Court Palace\, Hampton Court Way\, East Molesey\, KT8 9AU\, United Kingdom
CATEGORIES:Holiday/Seasonal Events
END:VEVENT
BEGIN:VEVENT
DTSTART;TZID=Europe/London:20260328T100000
DTEND;TZID=Europe/London:20260328T160000
DTSTAMP:20260423T015507
CREATED:20260318T161317Z
LAST-MODIFIED:20260318T161317Z
UID:10021673-1774692000-1774713600@richmondtwickenhamfamilyhub.com
SUMMARY:Steam Up – London Museum Of Water & Steam
DESCRIPTION:Experience the golden-age of engineering as the Museum’s historic engines come to life. \nThroughout the day\, these colossal machines will be set into motion through the power of steam. \nTalk to the team of engineers and discover the science and stories behind London’s public water supply. \nReciprocating engines the Waddon\, the Triple\, the Dancer’s End\, and the Easton and Amos will run at regular intervals every half-an-hour.* \nTwo of historic Cornish engines – still in their original location – will be running at select times throughout the day. \n\nThe Boulton & Watt engine will be running between 12.15 – 12.45pm\, and 3.15 – 3.45pm.\nThe Bull engine will be running be between 2.00 – 3.30pm.\n\n*Subject to availability of the engines \nhttps://waterandsteam.org.uk/events/
URL:https://richmondtwickenhamfamilyhub.com/event/steam-up-london-museum-of-water-steam-2/2026-03-28/
LOCATION:London Museum Of Water & Steam\, Green Dragon Lane\, Brentford\, TW8 0EN\, United Kingdom
CATEGORIES:Kids Activities
END:VEVENT
BEGIN:VEVENT
DTSTART;TZID=Europe/London:20260328T100000
DTEND;TZID=Europe/London:20260328T160000
DTSTAMP:20260423T015507
CREATED:20260318T161844Z
LAST-MODIFIED:20260318T161844Z
UID:10021682-1774692000-1774713600@richmondtwickenhamfamilyhub.com
SUMMARY:Easter Egg Hunt – London Museum Of Water & Steam
DESCRIPTION:The Easter Bunny has visited the Museum and left eggs for you to find! Eggs will be hidden amongst the Museum’s historic engines – can you find them all? Complete the trail to claim a special prize!Perfect for children aged 3+yrs. Enjoy even more holiday fun with Easter crafts\, the March Steam Up\, and the new Wildplay Garden! \nNormal admission applies plus £3.50/trail. \nhttps://waterandsteam.org.uk/whats-on-new
URL:https://richmondtwickenhamfamilyhub.com/event/easter-egg-hunt-london-museum-of-water-steam/2026-03-28/
LOCATION:London Museum Of Water & Steam\, Green Dragon Lane\, Brentford\, TW8 0EN\, United Kingdom
CATEGORIES:Holiday/Seasonal Events
END:VEVENT
BEGIN:VEVENT
DTSTART;TZID=Europe/London:20260328T100000
DTEND;TZID=Europe/London:20260328T163000
DTSTAMP:20260423T015508
CREATED:20260319T203005Z
LAST-MODIFIED:20260319T203353Z
UID:10021715-1774692000-1774715400@richmondtwickenhamfamilyhub.com
SUMMARY:Gozzle – London Wetland Centre\, Barnes
DESCRIPTION:The Wetland Centre has teamed up with Macmillan Children’s Books to explore the wonderful world of wetlands with Gozzle the gosling\, from Julia Donaldson and Sara Ogilvie’s freshly hatched picture book. With outdoor adventures\, special activities\, storytelling sessions and more\, enjoy a season of firsts. Follow the interactive trail to discover what it takes for your fuzzy little friend to become a grown-up goose. From her first nibble to her first splash… right up to the day she flies away on her first migration. There are lots more firsts for you to discover along the way – whether it’s your first time pond dipping\, your first time birdwatching with binoculars\, or simply your first visit. From 28th March – 31st May\, you can also waddle into the Vet Check station and become an amazing animal helper. Your mission: is to nurse your toy goose back to health\, becoming an expert with x-rays and discovering how to handle\, measure and weigh birds just like a real WWT vet. \nNormal admission applies. \n  \nhttps://www.wwt.org.uk/wetland-centres/london/whats-on/events
URL:https://richmondtwickenhamfamilyhub.com/event/gozzle-london-wetland-centre-barnes/2026-03-28/
LOCATION:London Wetland Centre\, Queen Elizabeth's Walk\, Barnes\, SW13 9WT\, United Kingdom
CATEGORIES:Kids Activities
END:VEVENT
BEGIN:VEVENT
DTSTART;TZID=Europe/London:20260328T100000
DTEND;TZID=Europe/London:20260328T170000
DTSTAMP:20260423T015508
CREATED:20260318T152644Z
LAST-MODIFIED:20260318T152644Z
UID:10021579-1774692000-1774717200@richmondtwickenhamfamilyhub.com
SUMMARY:Easter Egg Hunt – Ham House
DESCRIPTION:Make your way along a trail inspired by the British Civil Wars and enjoy activities for the whole family\, exploring the beautiful gardens around Ham House. Trail includes an Easter trail sheet\, bunny ears and chocolate egg. \nNormal admission applies plus £3.50/trail. \nhttps://www.nationaltrust.org.uk/visit/london/ham-house-and-garden/events
URL:https://richmondtwickenhamfamilyhub.com/event/easter-egg-hunt-ham-house/2026-03-28/
LOCATION:Ham House\, Ham Street\, Ham\, TW10 7RS\, United Kingdom
CATEGORIES:Holiday/Seasonal Events
END:VEVENT
BEGIN:VEVENT
DTSTART;TZID=Europe/London:20260328T100000
DTEND;TZID=Europe/London:20260328T170000
DTSTAMP:20260423T015508
CREATED:20260320T111103Z
LAST-MODIFIED:20260320T111103Z
UID:10021828-1774692000-1774717200@richmondtwickenhamfamilyhub.com
SUMMARY:Easter Adventure – Osterley Park
DESCRIPTION:This spring\, a friendly bunch of animals has escaped from the Tapestry Room and are now running about in the gardens! Help out by seeing if you can catch them and return them to the beautiful tapestries. Make your way around the Formal Garden and find art and nature-inspired activities for the whole family. The trail price includes an Easter trail sheet\, bunny ears and chocolate egg. \nNormal admission applies plus £3.50/trail. \n  \nhttps://www.nationaltrust.org.uk/visit/london/osterley-park-and-house/events
URL:https://richmondtwickenhamfamilyhub.com/event/easter-adventure-osterley-park/2026-03-28/
LOCATION:Osterley Park\, Jersey Road\, Isleworth\, TW7 4RB\, United Kingdom
CATEGORIES:Holiday/Seasonal Events
END:VEVENT
BEGIN:VEVENT
DTSTART;TZID=Europe/London:20260328T100000
DTEND;TZID=Europe/London:20260328T180000
DTSTAMP:20260423T015508
CREATED:20260318T160535Z
LAST-MODIFIED:20260318T160535Z
UID:10021653-1774692000-1774720800@richmondtwickenhamfamilyhub.com
SUMMARY:Octonauts Above & Beyond – Kew Gardens
DESCRIPTION:This Easter\, join the Octonauts on an exciting outdoor mission at Kew Gardens. Some honeybees have lost their home\, and it’s up to the Octonauts\, I.e. young visitors to help. Through a series of finding\, learning and making installations\, children will search for the bees\, build them a new hive\, and help get them there safely. Perfect for children aged 3-6yrs and their families\, this interactive trail invites young explorers to complete fun challenges\, discover amazing facts\, and learn how to protect our planet. Enjoy a fun-filled family Easter adventure set in Kew’s beautiful landscape. \nNormal admission applies. \nhttps://www.kew.org/kew-gardens/whats-on
URL:https://richmondtwickenhamfamilyhub.com/event/octonauts-above-beyond-kew-gardens/2026-03-28/
LOCATION:Kew Gardens\, Kew\, TW9\, United Kingdom
CATEGORIES:Holiday/Seasonal Events
END:VEVENT
BEGIN:VEVENT
DTSTART;TZID=Europe/London:20260328T110000
DTEND;TZID=Europe/London:20260328T123000
DTSTAMP:20260423T015508
CREATED:20260320T112648Z
LAST-MODIFIED:20260320T112648Z
UID:10021861-1774695600-1774701000@richmondtwickenhamfamilyhub.com
SUMMARY:Minibeast Adventures – Strawberry Hill House
DESCRIPTION:Celebrate the Easter holidays with a hands-on nature workshop\, led by the expert team from Habitats & Heritage. \nPerfect for curious children and their grown-ups\, this interactive 1.5hr session begins with a fun and informative talk introducing some favourite minibeasts and why they’re so important to local ecosystems. Families will then work together to build a small bug hotel to take home\, before heading outdoors for a guided minibeast hunt in the gardens and woodland (weather permitting). \nWorkshops will take place indoors and outdoors\, with access to classroom space if needed. Suitable for families with KS2-aged children\, though slightly younger or older children are very welcome. \nAdults £8.00-9.00 \nChildren £15.00-16.50 \nhttps://tickets.strawberryhillhouse.org.uk/event-tickets/74510?catID=13844
URL:https://richmondtwickenhamfamilyhub.com/event/minibeast-adventures-strawberry-hill-house/2026-03-28/
LOCATION:Strawberry Hill House\, 268 Waldegrave Road\, Twickenham\, TW1 4ST
CATEGORIES:Holiday/Seasonal Workshops
END:VEVENT
BEGIN:VEVENT
DTSTART;TZID=Europe/London:20260328T130000
DTEND;TZID=Europe/London:20260328T150000
DTSTAMP:20260423T015508
CREATED:20260115T204840Z
LAST-MODIFIED:20260115T210146Z
UID:10021276-1774702800-1774710000@richmondtwickenhamfamilyhub.com
SUMMARY:Adventure Playground (5-15yrs) – Marble Hill Playcentres\, Twickenham
DESCRIPTION:The Adventure Playground at Marble Hill Playcentres is completely unique in this borough. With its huge wooden structures and large open spaces\, they provide a special place for thousands of children each year. Children learn fantastic life lessons by testing their limits\, discovering how things work and what they really enjoy to do. Adults are not permitted in the AP\, giving the children freedom to make their own choices\, and the opportunity to play and form new friendships with others outside of their usual peer group. They have a team of playworkers to supervise the children\, facilitate play\, and organise daily activities. If you have a child with additional needs who requires adult 1-1 support please complete the “All About Me” form (check link below) with your child\, and call/message on 07522 182524 or email ap@marblehillplaycentres.com so they can help identify the right support for your child. \nAll children must be booked in prior to the session. \nAdventure Playground \n \nhttps://marblehillplaycentres.com/adventure-playground/
URL:https://richmondtwickenhamfamilyhub.com/event/adventure-playground-5-15yrs-marble-hill-playcentres-twickenham/2026-03-28/
LOCATION:Marble Hill Playcentres\, Richmond Road\, Twickeham\, TW1 2NL\, United Kingdom
CATEGORIES:Kids Activities
END:VEVENT
END:VCALENDAR