BEGIN:VCALENDAR
VERSION:2.0
PRODID:-//Family Hub - ECPv6.15.20//NONSGML v1.0//EN
CALSCALE:GREGORIAN
METHOD:PUBLISH
X-ORIGINAL-URL:https://richmondtwickenhamfamilyhub.com
X-WR-CALDESC:Events for Family Hub
REFRESH-INTERVAL;VALUE=DURATION:PT1H
X-Robots-Tag:noindex
X-PUBLISHED-TTL:PT1H
BEGIN:VTIMEZONE
TZID:Europe/London
BEGIN:DAYLIGHT
TZOFFSETFROM:+0000
TZOFFSETTO:+0100
TZNAME:BST
DTSTART:20250330T010000
END:DAYLIGHT
BEGIN:STANDARD
TZOFFSETFROM:+0100
TZOFFSETTO:+0000
TZNAME:GMT
DTSTART:20251026T010000
END:STANDARD
BEGIN:DAYLIGHT
TZOFFSETFROM:+0000
TZOFFSETTO:+0100
TZNAME:BST
DTSTART:20260329T010000
END:DAYLIGHT
BEGIN:STANDARD
TZOFFSETFROM:+0100
TZOFFSETTO:+0000
TZNAME:GMT
DTSTART:20261025T010000
END:STANDARD
BEGIN:DAYLIGHT
TZOFFSETFROM:+0000
TZOFFSETTO:+0100
TZNAME:BST
DTSTART:20270328T010000
END:DAYLIGHT
BEGIN:STANDARD
TZOFFSETFROM:+0100
TZOFFSETTO:+0000
TZNAME:GMT
DTSTART:20271031T010000
END:STANDARD
END:VTIMEZONE
BEGIN:VEVENT
DTSTART;TZID=Europe/London:20260412T090000
DTEND;TZID=Europe/London:20260412T100000
DTSTAMP:20260423T002546
CREATED:20260114T212938Z
LAST-MODIFIED:20260114T212938Z
UID:10021100-1775984400-1775988000@richmondtwickenhamfamilyhub.com
SUMMARY:Junior Parkrun – Osterley
DESCRIPTION:A 2k event for juniors only (4 to 14 year olds). ​ \nIt is held every Sunday at 9:00am. \nThe event takes place at Osterley Park\, Jersey Rd\, Isleworth\, TW7 4RB. See Course page for more details. \nThe course is 2000m (2K) long. The course is in Osterley Park\, Isleworth. The course is run on a mixture of paved paths\, unpaved paths and grass. Some sections of the course may accumulate mud\, leaves and puddles after rain. Marshals will be at key sections of the course and signs will be in place.\nThe course begins in front of the steps to Osterley House. Turn right in to the field in front of the house. After a clock wise lap of the field\, come off the field and on to the pathway and run down to the large gate at the back entrance by Osterley Lane. Turn around and run back along the same path. Then turn left in to the field and run another clockwise lap with the finish funnel in the field in front of the steps to the house. \nIt’s free! but please register before your first visit. Only ever register with parkrun once. Don’t forget to bring a printed copy of your barcode. \nThe aim is to have fun. Please go along and join in whatever your pace! \nEvery week they grab a post parkrun coffee in The Tearooms\, Stable Yard – please go and join us! \nhttps://www.parkrun.org.uk/osterley-juniors/
URL:https://richmondtwickenhamfamilyhub.com/event/junior-parkrun-osterley/2026-04-12/
LOCATION:Osterley Park\, Jersey Road\, Isleworth\, TW7 4RB\, United Kingdom
CATEGORIES:Kids Activities
END:VEVENT
BEGIN:VEVENT
DTSTART;TZID=Europe/London:20260412T090000
DTEND;TZID=Europe/London:20260412T100000
DTSTAMP:20260423T002546
CREATED:20260114T214024Z
LAST-MODIFIED:20260114T214024Z
UID:10021213-1775984400-1775988000@richmondtwickenhamfamilyhub.com
SUMMARY:Junior Parkrun – Moormead\, St Margarets
DESCRIPTION:A 2k event for juniors only (4 to 14 year olds). ​ \nThe aim is to have fun. Please go along and join in whatever your pace! \nWhat does it cost to join in?\nNothing – it’s free! but please register before your first visit. Only ever register with parkrun once. Don’t forget to take a printed copy of your barcode (request a reminder). \nhttps://www.parkrun.org.uk/moormead-juniors/
URL:https://richmondtwickenhamfamilyhub.com/event/junior-parkrun-moormead-st-margarets/2026-04-12/
LOCATION:Moormead & Bandy Recreation Gound\, Moor Mead Road\, St Margarets\, TW1 1JS\, United Kingdom
CATEGORIES:Kids Activities
END:VEVENT
BEGIN:VEVENT
DTSTART;TZID=Europe/London:20260412T100000
DTEND;TZID=Europe/London:20260412T160000
DTSTAMP:20260423T002546
CREATED:20260318T154642Z
LAST-MODIFIED:20260318T154642Z
UID:10021632-1775988000-1776009600@richmondtwickenhamfamilyhub.com
SUMMARY:Easter Lindt Gold Bunny Hunt – Hampton Court Palace
DESCRIPTION:Embark on the ultimate family Easter hunt. Explore the iconic gardens and discover the remarkable individuals who left their mark on Henry VIII’s home. Roam through lush gardens\, keeping your eyes peeled for elusive Lindt Gold Bunny statues peeking out from colourful daffodils or early buds from the Tulip Festival. Follow the trail and match the names of influential characters to the distinctive red ribbons adorning every adorable Lindt Gold Bunny statue. Once you’ve found all the statue\, your quest will be rewarded with a delicious miniature Lindt Gold Bunny 10g chocolate treat. Don’t miss also exploring the entire palace\, 60 acres of gardens\, the legendary Maze\, and the popular Magic Garden playground. \nNormal admission applies. \nhttps://www.hrp.org.uk/hampton-court-palace/whats-on/?types=2551&allDates=on&from=&to=&sort=date&page=1
URL:https://richmondtwickenhamfamilyhub.com/event/easter-lindt-gold-bunny-hunt-hampton-court-palace/2026-04-12/
LOCATION:Hampton Court Palace\, Hampton Court Way\, East Molesey\, KT8 9AU\, United Kingdom
CATEGORIES:Holiday/Seasonal Events
END:VEVENT
BEGIN:VEVENT
DTSTART;TZID=Europe/London:20260412T100000
DTEND;TZID=Europe/London:20260412T160000
DTSTAMP:20260423T002546
CREATED:20260318T161844Z
LAST-MODIFIED:20260318T161844Z
UID:10021697-1775988000-1776009600@richmondtwickenhamfamilyhub.com
SUMMARY:Easter Egg Hunt – London Museum Of Water & Steam
DESCRIPTION:The Easter Bunny has visited the Museum and left eggs for you to find! Eggs will be hidden amongst the Museum’s historic engines – can you find them all? Complete the trail to claim a special prize!Perfect for children aged 3+yrs. Enjoy even more holiday fun with Easter crafts\, the March Steam Up\, and the new Wildplay Garden! \nNormal admission applies plus £3.50/trail. \nhttps://waterandsteam.org.uk/whats-on-new
URL:https://richmondtwickenhamfamilyhub.com/event/easter-egg-hunt-london-museum-of-water-steam/2026-04-12/
LOCATION:London Museum Of Water & Steam\, Green Dragon Lane\, Brentford\, TW8 0EN\, United Kingdom
CATEGORIES:Holiday/Seasonal Events
END:VEVENT
BEGIN:VEVENT
DTSTART;TZID=Europe/London:20260412T100000
DTEND;TZID=Europe/London:20260412T170000
DTSTAMP:20260423T002546
CREATED:20260320T111103Z
LAST-MODIFIED:20260320T111103Z
UID:10021843-1775988000-1776013200@richmondtwickenhamfamilyhub.com
SUMMARY:Easter Adventure – Osterley Park
DESCRIPTION:This spring\, a friendly bunch of animals has escaped from the Tapestry Room and are now running about in the gardens! Help out by seeing if you can catch them and return them to the beautiful tapestries. Make your way around the Formal Garden and find art and nature-inspired activities for the whole family. The trail price includes an Easter trail sheet\, bunny ears and chocolate egg. \nNormal admission applies plus £3.50/trail. \n  \nhttps://www.nationaltrust.org.uk/visit/london/osterley-park-and-house/events
URL:https://richmondtwickenhamfamilyhub.com/event/easter-adventure-osterley-park/2026-04-12/
LOCATION:Osterley Park\, Jersey Road\, Isleworth\, TW7 4RB\, United Kingdom
CATEGORIES:Holiday/Seasonal Events
END:VEVENT
BEGIN:VEVENT
DTSTART;TZID=Europe/London:20260412T100000
DTEND;TZID=Europe/London:20260412T173000
DTSTAMP:20260423T002546
CREATED:20260319T203248Z
LAST-MODIFIED:20260319T203248Z
UID:10021739-1775988000-1776015000@richmondtwickenhamfamilyhub.com
SUMMARY:Gozzle – London Wetland Centre\, Barnes
DESCRIPTION:The Wetland Centre has teamed up with Macmillan Children’s Books to explore the wonderful world of wetlands with Gozzle the gosling\, from Julia Donaldson and Sara Ogilvie’s freshly hatched picture book. With outdoor adventures\, special activities\, storytelling sessions and more\, enjoy a season of firsts. Follow the interactive trail to discover what it takes for your fuzzy little friend to become a grown-up goose. From her first nibble to her first splash… right up to the day she flies away on her first migration. There are lots more firsts for you to discover along the way – whether it’s your first time pond dipping\, your first time birdwatching with binoculars\, or simply your first visit. From 28th March – 31st May\, you can also waddle into the Vet Check station and become an amazing animal helper. Your mission: is to nurse your toy goose back to health\, becoming an expert with x-rays and discovering how to handle\, measure and weigh birds just like a real WWT vet. \nNormal admission applies. \n  \nhttps://www.wwt.org.uk/wetland-centres/london/whats-on/events
URL:https://richmondtwickenhamfamilyhub.com/event/gozzle-london-wetland-centre-barnes-2/2026-04-12/
LOCATION:London Wetland Centre\, Queen Elizabeth's Walk\, Barnes\, SW13 9WT\, United Kingdom
CATEGORIES:Holiday/Seasonal Events
END:VEVENT
BEGIN:VEVENT
DTSTART;TZID=Europe/London:20260412T100000
DTEND;TZID=Europe/London:20260412T180000
DTSTAMP:20260423T002546
CREATED:20260318T160535Z
LAST-MODIFIED:20260318T160535Z
UID:10021668-1775988000-1776016800@richmondtwickenhamfamilyhub.com
SUMMARY:Octonauts Above & Beyond – Kew Gardens
DESCRIPTION:This Easter\, join the Octonauts on an exciting outdoor mission at Kew Gardens. Some honeybees have lost their home\, and it’s up to the Octonauts\, I.e. young visitors to help. Through a series of finding\, learning and making installations\, children will search for the bees\, build them a new hive\, and help get them there safely. Perfect for children aged 3-6yrs and their families\, this interactive trail invites young explorers to complete fun challenges\, discover amazing facts\, and learn how to protect our planet. Enjoy a fun-filled family Easter adventure set in Kew’s beautiful landscape. \nNormal admission applies. \nhttps://www.kew.org/kew-gardens/whats-on
URL:https://richmondtwickenhamfamilyhub.com/event/octonauts-above-beyond-kew-gardens/2026-04-12/
LOCATION:Kew Gardens\, Kew\, TW9\, United Kingdom
CATEGORIES:Holiday/Seasonal Events
END:VEVENT
BEGIN:VEVENT
DTSTART;TZID=Europe/London:20260412T110000
DTEND;TZID=Europe/London:20260412T120000
DTSTAMP:20260423T002546
CREATED:20260320T112648Z
LAST-MODIFIED:20260320T112648Z
UID:10021864-1775991600-1775995200@richmondtwickenhamfamilyhub.com
SUMMARY:Minibeast Adventures – Strawberry Hill House
DESCRIPTION:Celebrate the Easter holidays with a hands-on nature workshop\, led by the expert team from Habitats & Heritage. \nPerfect for curious children and their grown-ups\, this interactive 1.5hr session begins with a fun and informative talk introducing some favourite minibeasts and why they’re so important to local ecosystems. Families will then work together to build a small bug hotel to take home\, before heading outdoors for a guided minibeast hunt in the gardens and woodland (weather permitting). \nWorkshops will take place indoors and outdoors\, with access to classroom space if needed. Suitable for families with KS2-aged children\, though slightly younger or older children are very welcome. \nAdults £8.00-9.00 \nChildren £15.00-16.50 \nhttps://tickets.strawberryhillhouse.org.uk/event-tickets/74510?catID=13844
URL:https://richmondtwickenhamfamilyhub.com/event/minibeast-adventures-strawberry-hill-house/2026-04-12/
LOCATION:Strawberry Hill House\, 268 Waldegrave Road\, Twickenham\, TW1 4ST
CATEGORIES:Holiday/Seasonal Workshops
END:VEVENT
END:VCALENDAR