BEGIN:VCALENDAR
VERSION:2.0
PRODID:-//Family Hub - ECPv6.15.20//NONSGML v1.0//EN
CALSCALE:GREGORIAN
METHOD:PUBLISH
X-WR-CALNAME:Family Hub
X-ORIGINAL-URL:https://richmondtwickenhamfamilyhub.com
X-WR-CALDESC:Events for Family Hub
REFRESH-INTERVAL;VALUE=DURATION:PT1H
X-Robots-Tag:noindex
X-PUBLISHED-TTL:PT1H
BEGIN:VTIMEZONE
TZID:Europe/London
BEGIN:DAYLIGHT
TZOFFSETFROM:+0000
TZOFFSETTO:+0100
TZNAME:BST
DTSTART:20250330T010000
END:DAYLIGHT
BEGIN:STANDARD
TZOFFSETFROM:+0100
TZOFFSETTO:+0000
TZNAME:GMT
DTSTART:20251026T010000
END:STANDARD
BEGIN:DAYLIGHT
TZOFFSETFROM:+0000
TZOFFSETTO:+0100
TZNAME:BST
DTSTART:20260329T010000
END:DAYLIGHT
BEGIN:STANDARD
TZOFFSETFROM:+0100
TZOFFSETTO:+0000
TZNAME:GMT
DTSTART:20261025T010000
END:STANDARD
BEGIN:DAYLIGHT
TZOFFSETFROM:+0000
TZOFFSETTO:+0100
TZNAME:BST
DTSTART:20270328T010000
END:DAYLIGHT
BEGIN:STANDARD
TZOFFSETFROM:+0100
TZOFFSETTO:+0000
TZNAME:GMT
DTSTART:20271031T010000
END:STANDARD
END:VTIMEZONE
BEGIN:VEVENT
DTSTART;TZID=Europe/London:20260425T100000
DTEND;TZID=Europe/London:20260425T160000
DTSTAMP:20260423T030322
CREATED:20260318T161317Z
LAST-MODIFIED:20260318T161317Z
UID:10021675-1777111200-1777132800@richmondtwickenhamfamilyhub.com
SUMMARY:Steam Up – London Museum Of Water & Steam
DESCRIPTION:Experience the golden-age of engineering as the Museum’s historic engines come to life. \nThroughout the day\, these colossal machines will be set into motion through the power of steam. \nTalk to the team of engineers and discover the science and stories behind London’s public water supply. \nReciprocating engines the Waddon\, the Triple\, the Dancer’s End\, and the Easton and Amos will run at regular intervals every half-an-hour.* \nTwo of historic Cornish engines – still in their original location – will be running at select times throughout the day. \n\nThe Boulton & Watt engine will be running between 12.15 – 12.45pm\, and 3.15 – 3.45pm.\nThe Bull engine will be running be between 2.00 – 3.30pm.\n\n*Subject to availability of the engines \nhttps://waterandsteam.org.uk/events/
URL:https://richmondtwickenhamfamilyhub.com/event/steam-up-london-museum-of-water-steam-2/2026-04-25/
LOCATION:London Museum Of Water & Steam\, Green Dragon Lane\, Brentford\, TW8 0EN\, United Kingdom
CATEGORIES:Kids Activities
END:VEVENT
BEGIN:VEVENT
DTSTART;TZID=Europe/London:20260425T100000
DTEND;TZID=Europe/London:20260425T173000
DTSTAMP:20260423T030322
CREATED:20260319T203601Z
LAST-MODIFIED:20260319T203601Z
UID:10021761-1777111200-1777138200@richmondtwickenhamfamilyhub.com
SUMMARY:Gozzle – London Wetland Centre\, Barnes
DESCRIPTION:The Wetland Centre has teamed up with Macmillan Children’s Books to explore the wonderful world of wetlands with Gozzle the gosling\, from Julia Donaldson and Sara Ogilvie’s freshly hatched picture book. With outdoor adventures\, special activities\, storytelling sessions and more\, enjoy a season of firsts. Follow the interactive trail to discover what it takes for your fuzzy little friend to become a grown-up goose. From her first nibble to her first splash… right up to the day she flies away on her first migration. There are lots more firsts for you to discover along the way – whether it’s your first time pond dipping\, your first time birdwatching with binoculars\, or simply your first visit. From 28th March – 31st May\, you can also waddle into the Vet Check station and become an amazing animal helper. Your mission: is to nurse your toy goose back to health\, becoming an expert with x-rays and discovering how to handle\, measure and weigh birds just like a real WWT vet. \nNormal admission applies. \n  \nhttps://www.wwt.org.uk/wetland-centres/london/whats-on/events
URL:https://richmondtwickenhamfamilyhub.com/event/gozzle-london-wetland-centre-barnes-3/2026-04-25/
LOCATION:London Wetland Centre\, Queen Elizabeth's Walk\, Barnes\, SW13 9WT\, United Kingdom
CATEGORIES:Kids Activities
END:VEVENT
END:VCALENDAR