BEGIN:VCALENDAR
VERSION:2.0
PRODID:-//Family Hub - ECPv6.15.20//NONSGML v1.0//EN
CALSCALE:GREGORIAN
METHOD:PUBLISH
X-WR-CALNAME:Family Hub
X-ORIGINAL-URL:https://richmondtwickenhamfamilyhub.com
X-WR-CALDESC:Events for Family Hub
REFRESH-INTERVAL;VALUE=DURATION:PT1H
X-Robots-Tag:noindex
X-PUBLISHED-TTL:PT1H
BEGIN:VTIMEZONE
TZID:Europe/London
BEGIN:DAYLIGHT
TZOFFSETFROM:+0000
TZOFFSETTO:+0100
TZNAME:BST
DTSTART:20250330T010000
END:DAYLIGHT
BEGIN:STANDARD
TZOFFSETFROM:+0100
TZOFFSETTO:+0000
TZNAME:GMT
DTSTART:20251026T010000
END:STANDARD
BEGIN:DAYLIGHT
TZOFFSETFROM:+0000
TZOFFSETTO:+0100
TZNAME:BST
DTSTART:20260329T010000
END:DAYLIGHT
BEGIN:STANDARD
TZOFFSETFROM:+0100
TZOFFSETTO:+0000
TZNAME:GMT
DTSTART:20261025T010000
END:STANDARD
BEGIN:DAYLIGHT
TZOFFSETFROM:+0000
TZOFFSETTO:+0100
TZNAME:BST
DTSTART:20270328T010000
END:DAYLIGHT
BEGIN:STANDARD
TZOFFSETFROM:+0100
TZOFFSETTO:+0000
TZNAME:GMT
DTSTART:20271031T010000
END:STANDARD
END:VTIMEZONE
BEGIN:VEVENT
DTSTART;TZID=Europe/London:20260427T100000
DTEND;TZID=Europe/London:20260427T173000
DTSTAMP:20260423T030315
CREATED:20260319T203601Z
LAST-MODIFIED:20260319T203601Z
UID:10021763-1777284000-1777311000@richmondtwickenhamfamilyhub.com
SUMMARY:Gozzle – London Wetland Centre\, Barnes
DESCRIPTION:The Wetland Centre has teamed up with Macmillan Children’s Books to explore the wonderful world of wetlands with Gozzle the gosling\, from Julia Donaldson and Sara Ogilvie’s freshly hatched picture book. With outdoor adventures\, special activities\, storytelling sessions and more\, enjoy a season of firsts. Follow the interactive trail to discover what it takes for your fuzzy little friend to become a grown-up goose. From her first nibble to her first splash… right up to the day she flies away on her first migration. There are lots more firsts for you to discover along the way – whether it’s your first time pond dipping\, your first time birdwatching with binoculars\, or simply your first visit. From 28th March – 31st May\, you can also waddle into the Vet Check station and become an amazing animal helper. Your mission: is to nurse your toy goose back to health\, becoming an expert with x-rays and discovering how to handle\, measure and weigh birds just like a real WWT vet. \nNormal admission applies. \n  \nhttps://www.wwt.org.uk/wetland-centres/london/whats-on/events
URL:https://richmondtwickenhamfamilyhub.com/event/gozzle-london-wetland-centre-barnes-3/2026-04-27/
LOCATION:London Wetland Centre\, Queen Elizabeth's Walk\, Barnes\, SW13 9WT\, United Kingdom
CATEGORIES:Kids Activities
END:VEVENT
END:VCALENDAR