BEGIN:VCALENDAR
VERSION:2.0
PRODID:-//Family Hub - ECPv6.15.20//NONSGML v1.0//EN
CALSCALE:GREGORIAN
METHOD:PUBLISH
X-ORIGINAL-URL:https://richmondtwickenhamfamilyhub.com
X-WR-CALDESC:Events for Family Hub
REFRESH-INTERVAL;VALUE=DURATION:PT1H
X-Robots-Tag:noindex
X-PUBLISHED-TTL:PT1H
BEGIN:VTIMEZONE
TZID:Europe/London
BEGIN:DAYLIGHT
TZOFFSETFROM:+0000
TZOFFSETTO:+0100
TZNAME:BST
DTSTART:20250330T010000
END:DAYLIGHT
BEGIN:STANDARD
TZOFFSETFROM:+0100
TZOFFSETTO:+0000
TZNAME:GMT
DTSTART:20251026T010000
END:STANDARD
BEGIN:DAYLIGHT
TZOFFSETFROM:+0000
TZOFFSETTO:+0100
TZNAME:BST
DTSTART:20260329T010000
END:DAYLIGHT
BEGIN:STANDARD
TZOFFSETFROM:+0100
TZOFFSETTO:+0000
TZNAME:GMT
DTSTART:20261025T010000
END:STANDARD
BEGIN:DAYLIGHT
TZOFFSETFROM:+0000
TZOFFSETTO:+0100
TZNAME:BST
DTSTART:20270328T010000
END:DAYLIGHT
BEGIN:STANDARD
TZOFFSETFROM:+0100
TZOFFSETTO:+0000
TZNAME:GMT
DTSTART:20271031T010000
END:STANDARD
END:VTIMEZONE
BEGIN:VEVENT
DTSTART;TZID=Europe/London:20260522T100000
DTEND;TZID=Europe/London:20260522T173000
DTSTAMP:20260423T014131
CREATED:20260319T203601Z
LAST-MODIFIED:20260319T203601Z
UID:10021788-1779444000-1779471000@richmondtwickenhamfamilyhub.com
SUMMARY:Gozzle – London Wetland Centre\, Barnes
DESCRIPTION:The Wetland Centre has teamed up with Macmillan Children’s Books to explore the wonderful world of wetlands with Gozzle the gosling\, from Julia Donaldson and Sara Ogilvie’s freshly hatched picture book. With outdoor adventures\, special activities\, storytelling sessions and more\, enjoy a season of firsts. Follow the interactive trail to discover what it takes for your fuzzy little friend to become a grown-up goose. From her first nibble to her first splash… right up to the day she flies away on her first migration. There are lots more firsts for you to discover along the way – whether it’s your first time pond dipping\, your first time birdwatching with binoculars\, or simply your first visit. From 28th March – 31st May\, you can also waddle into the Vet Check station and become an amazing animal helper. Your mission: is to nurse your toy goose back to health\, becoming an expert with x-rays and discovering how to handle\, measure and weigh birds just like a real WWT vet. \nNormal admission applies. \n  \nhttps://www.wwt.org.uk/wetland-centres/london/whats-on/events
URL:https://richmondtwickenhamfamilyhub.com/event/gozzle-london-wetland-centre-barnes-3/2026-05-22/
LOCATION:London Wetland Centre\, Queen Elizabeth's Walk\, Barnes\, SW13 9WT\, United Kingdom
CATEGORIES:Kids Activities
END:VEVENT
BEGIN:VEVENT
DTSTART;TZID=Europe/London:20260522T103000
DTEND;TZID=Europe/London:20260522T123000
DTSTAMP:20260423T014131
CREATED:20260114T211321Z
LAST-MODIFIED:20260114T211321Z
UID:10020978-1779445800-1779453000@richmondtwickenhamfamilyhub.com
SUMMARY:Play:Make:Art (2-5yrs) – Orleans House Gallery\, Twickenham
DESCRIPTION:Play:Make:Art is a unique session that enables time and space for you and your little one(s) to create and just be together. There are no expectations\, pressures or milestones to meet\, only materials to roll\, cut\, tear\, mark\, balance\, thread\, crawl under\, move and inspect. You’ll be supported and gently guided by artist and early years facilitator Abigail Hunt\, who has over twenty years’ experience working with families and developing creative projects for galleries and museums.    \nWhat will you create\, what new skills and stories will unfold? It will be led by your child’s imagination\, and you will be held in a space that allows you to breathe and experiment. Watch as your child deeply concentrates on a creative task that they have set for themselves\, developing new skills before your eyes.    \nFamilies are encouraged to enjoy the experience of Play:Make:Art\, taking only memories home\, so all materials can be used again.   \nKey information  \n\nSuitable for 2-5 year-olds\, children must be accompanied by an adult \nSessions are fortnightly on Fridays  \nDrop-in session starting at 10:30 and last entry is at 12:00 – arrive at a time that works for you!     \nTickets are £6 full price\, £4 concessions per session\n\nBook tickets on the link below: \nhttps://www.orleanshousegallery.org/events/playmakeart-2/
URL:https://richmondtwickenhamfamilyhub.com/event/playmakeart-2-5yrs-orleans-house-gallery-twickenham/2026-05-22/
LOCATION:Orleans House Gallery\, Orleans Road\, Twickenham\, TW1 3BL\, United Kingdom
CATEGORIES:Kids Activities
END:VEVENT
END:VCALENDAR