BEGIN:VCALENDAR
VERSION:2.0
PRODID:-//Family Hub - ECPv6.15.20//NONSGML v1.0//EN
CALSCALE:GREGORIAN
METHOD:PUBLISH
X-ORIGINAL-URL:https://richmondtwickenhamfamilyhub.com
X-WR-CALDESC:Events for Family Hub
REFRESH-INTERVAL;VALUE=DURATION:PT1H
X-Robots-Tag:noindex
X-PUBLISHED-TTL:PT1H
BEGIN:VTIMEZONE
TZID:Europe/London
BEGIN:DAYLIGHT
TZOFFSETFROM:+0000
TZOFFSETTO:+0100
TZNAME:BST
DTSTART:20250330T010000
END:DAYLIGHT
BEGIN:STANDARD
TZOFFSETFROM:+0100
TZOFFSETTO:+0000
TZNAME:GMT
DTSTART:20251026T010000
END:STANDARD
BEGIN:DAYLIGHT
TZOFFSETFROM:+0000
TZOFFSETTO:+0100
TZNAME:BST
DTSTART:20260329T010000
END:DAYLIGHT
BEGIN:STANDARD
TZOFFSETFROM:+0100
TZOFFSETTO:+0000
TZNAME:GMT
DTSTART:20261025T010000
END:STANDARD
BEGIN:DAYLIGHT
TZOFFSETFROM:+0000
TZOFFSETTO:+0100
TZNAME:BST
DTSTART:20270328T010000
END:DAYLIGHT
BEGIN:STANDARD
TZOFFSETFROM:+0100
TZOFFSETTO:+0000
TZNAME:GMT
DTSTART:20271031T010000
END:STANDARD
END:VTIMEZONE
BEGIN:VEVENT
DTSTART;TZID=Europe/London:20260524T090000
DTEND;TZID=Europe/London:20260524T100000
DTSTAMP:20260423T030841
CREATED:20260114T212938Z
LAST-MODIFIED:20260114T212938Z
UID:10021106-1779613200-1779616800@richmondtwickenhamfamilyhub.com
SUMMARY:Junior Parkrun – Osterley
DESCRIPTION:A 2k event for juniors only (4 to 14 year olds). ​ \nIt is held every Sunday at 9:00am. \nThe event takes place at Osterley Park\, Jersey Rd\, Isleworth\, TW7 4RB. See Course page for more details. \nThe course is 2000m (2K) long. The course is in Osterley Park\, Isleworth. The course is run on a mixture of paved paths\, unpaved paths and grass. Some sections of the course may accumulate mud\, leaves and puddles after rain. Marshals will be at key sections of the course and signs will be in place.\nThe course begins in front of the steps to Osterley House. Turn right in to the field in front of the house. After a clock wise lap of the field\, come off the field and on to the pathway and run down to the large gate at the back entrance by Osterley Lane. Turn around and run back along the same path. Then turn left in to the field and run another clockwise lap with the finish funnel in the field in front of the steps to the house. \nIt’s free! but please register before your first visit. Only ever register with parkrun once. Don’t forget to bring a printed copy of your barcode. \nThe aim is to have fun. Please go along and join in whatever your pace! \nEvery week they grab a post parkrun coffee in The Tearooms\, Stable Yard – please go and join us! \nhttps://www.parkrun.org.uk/osterley-juniors/
URL:https://richmondtwickenhamfamilyhub.com/event/junior-parkrun-osterley/2026-05-24/
LOCATION:Osterley Park\, Jersey Road\, Isleworth\, TW7 4RB\, United Kingdom
CATEGORIES:Kids Activities
END:VEVENT
BEGIN:VEVENT
DTSTART;TZID=Europe/London:20260524T090000
DTEND;TZID=Europe/London:20260524T100000
DTSTAMP:20260423T030841
CREATED:20260114T214024Z
LAST-MODIFIED:20260114T214024Z
UID:10021219-1779613200-1779616800@richmondtwickenhamfamilyhub.com
SUMMARY:Junior Parkrun – Moormead\, St Margarets
DESCRIPTION:A 2k event for juniors only (4 to 14 year olds). ​ \nThe aim is to have fun. Please go along and join in whatever your pace! \nWhat does it cost to join in?\nNothing – it’s free! but please register before your first visit. Only ever register with parkrun once. Don’t forget to take a printed copy of your barcode (request a reminder). \nhttps://www.parkrun.org.uk/moormead-juniors/
URL:https://richmondtwickenhamfamilyhub.com/event/junior-parkrun-moormead-st-margarets/2026-05-24/
LOCATION:Moormead & Bandy Recreation Gound\, Moor Mead Road\, St Margarets\, TW1 1JS\, United Kingdom
CATEGORIES:Kids Activities
END:VEVENT
BEGIN:VEVENT
DTSTART;TZID=Europe/London:20260524T100000
DTEND;TZID=Europe/London:20260524T173000
DTSTAMP:20260423T030841
CREATED:20260319T203812Z
LAST-MODIFIED:20260319T203812Z
UID:10021799-1779616800-1779643800@richmondtwickenhamfamilyhub.com
SUMMARY:Gozzle – London Wetland Centre\, Barnes
DESCRIPTION:The Wetland Centre has teamed up with Macmillan Children’s Books to explore the wonderful world of wetlands with Gozzle the gosling\, from Julia Donaldson and Sara Ogilvie’s freshly hatched picture book. With outdoor adventures\, special activities\, storytelling sessions and more\, enjoy a season of firsts. Follow the interactive trail to discover what it takes for your fuzzy little friend to become a grown-up goose. From her first nibble to her first splash… right up to the day she flies away on her first migration. There are lots more firsts for you to discover along the way – whether it’s your first time pond dipping\, your first time birdwatching with binoculars\, or simply your first visit. From 28th March – 31st May\, you can also waddle into the Vet Check station and become an amazing animal helper. Your mission: is to nurse your toy goose back to health\, becoming an expert with x-rays and discovering how to handle\, measure and weigh birds just like a real WWT vet. \nNormal admission applies. \n  \nhttps://www.wwt.org.uk/wetland-centres/london/whats-on/events
URL:https://richmondtwickenhamfamilyhub.com/event/gozzle-london-wetland-centre-barnes-4/2026-05-24/
LOCATION:London Wetland Centre\, Queen Elizabeth's Walk\, Barnes\, SW13 9WT\, United Kingdom
CATEGORIES:Holiday/Seasonal Events
END:VEVENT
BEGIN:VEVENT
DTSTART;TZID=Europe/London:20260524T150000
DTEND;TZID=Europe/London:20260524T154500
DTSTAMP:20260423T030841
CREATED:20251112T145053Z
LAST-MODIFIED:20260305T095358Z
UID:10021556-1779634800-1779637500@richmondtwickenhamfamilyhub.com
SUMMARY:Bach to Baby Family Concert – Kew
DESCRIPTION:Bach to Baby is the critically acclaimed concert series for babies\, toddlers and their carers. Tots dance\, roam about and revel in the wonder of live music\, while you take a moment out of your busy day to hear top notch performances by outstanding musicians\, with your young babes in tow. \nOutstanding Musicians\, Exhilarating Performances\, Inspiring Locations across the UK. As seen at Royal Albert Hall and Buckingham Palace. Featured in The Times (London) and the New York Times. \nRemember: Up to 2 children go free on every Adult Ticket! \nYou can book on the link below.Get £2 off on your first concert when you sign up to Bach To Baby e-updates. Be the first to hear about concerts in your area\, exclusive & special events\, e.g. Buckingham Palace\, offers and early bird ticket sales at https://www.bachtobaby.com/signup \nhttps://www.bachtobaby.com/kew-music-concerts-for-baby-and-family
URL:https://richmondtwickenhamfamilyhub.com/event/bach-to-baby-family-concert-kew-2026/2026-05-24/
LOCATION:Barn Church\, 41 Atwood Avenue\, Kew\, TW9 4HF\, United Kingdom
CATEGORIES:Theatre / Concerts
END:VEVENT
END:VCALENDAR