BEGIN:VCALENDAR
VERSION:2.0
PRODID:-//Family Hub - ECPv6.15.20//NONSGML v1.0//EN
CALSCALE:GREGORIAN
METHOD:PUBLISH
X-WR-CALNAME:Family Hub
X-ORIGINAL-URL:https://richmondtwickenhamfamilyhub.com
X-WR-CALDESC:Events for Family Hub
REFRESH-INTERVAL;VALUE=DURATION:PT1H
X-Robots-Tag:noindex
X-PUBLISHED-TTL:PT1H
BEGIN:VTIMEZONE
TZID:Europe/London
BEGIN:DAYLIGHT
TZOFFSETFROM:+0000
TZOFFSETTO:+0100
TZNAME:BST
DTSTART:20250330T010000
END:DAYLIGHT
BEGIN:STANDARD
TZOFFSETFROM:+0100
TZOFFSETTO:+0000
TZNAME:GMT
DTSTART:20251026T010000
END:STANDARD
BEGIN:DAYLIGHT
TZOFFSETFROM:+0000
TZOFFSETTO:+0100
TZNAME:BST
DTSTART:20260329T010000
END:DAYLIGHT
BEGIN:STANDARD
TZOFFSETFROM:+0100
TZOFFSETTO:+0000
TZNAME:GMT
DTSTART:20261025T010000
END:STANDARD
BEGIN:DAYLIGHT
TZOFFSETFROM:+0000
TZOFFSETTO:+0100
TZNAME:BST
DTSTART:20270328T010000
END:DAYLIGHT
BEGIN:STANDARD
TZOFFSETFROM:+0100
TZOFFSETTO:+0000
TZNAME:GMT
DTSTART:20271031T010000
END:STANDARD
END:VTIMEZONE
BEGIN:VEVENT
DTSTART;TZID=Europe/London:20260214T100000
DTEND;TZID=Europe/London:20260214T160000
DTSTAMP:20260424T060425
CREATED:20260209T113914Z
LAST-MODIFIED:20260209T113914Z
UID:10021487-1771063200-1771084800@richmondtwickenhamfamilyhub.com
SUMMARY:Mudfest – London Wetland Centre\, Barnes
DESCRIPTION:Stomp\, splash and squelch with the Wetland Centre’s mud-tastic half-term. Grab your wellies and get stuck in with Mudfest – where messy means fun! Mud isn’t just messy – it’s marvellous. It’s the stuff super-powered wetlands and great family adventures are made of. Embrace the mess and discover just how brilliant mud can be with hands-on activities\, including mud kitchen\, mud art\, brilliant beaks\, nest building and more. \nNormal admission applies. \nhttps://www.wwt.org.uk/wetland-centres/london/whats-on/events
URL:https://richmondtwickenhamfamilyhub.com/event/mudfest-london-wetland-centre-barnes/2026-02-14/
LOCATION:London Wetland Centre\, Queen Elizabeth's Walk\, Barnes\, SW13 9WT\, United Kingdom
CATEGORIES:Holiday/Seasonal Events
END:VEVENT
BEGIN:VEVENT
DTSTART;TZID=Europe/London:20260214T100000
DTEND;TZID=Europe/London:20260214T160000
DTSTAMP:20260424T060425
CREATED:20260209T115656Z
LAST-MODIFIED:20260209T115656Z
UID:10021528-1771063200-1771084800@richmondtwickenhamfamilyhub.com
SUMMARY:The Very Hungry Caterpillar™️ Trail – Osterley Park
DESCRIPTION:Become the world’s most famous caterpillar\, from Eric Carle’s best-selling book The Very Hungry Caterpillar™. This charming trail brings to life the best-selling story of the tiny caterpillar who hatches from an egg and is very hungry\, so he eats through a variety of fruits and snacks each day. The caterpillar then forms a chrysalis around himself and later\, emerges as a beautiful butterfly. Brought to life with beautifully illustrated trail markers\, giant food cut-outs\, activities and games\, children learn about the days of the week\, counting\, and the life cycle of a butterfly\, within the picturesque setting of Osterley’s early spring gardens. Pick up a free trail sheet and discover accompanying QR codes\, games and activities to learn fun and fascinating facts inspired by this classic children’s tale. Celebrate completing the trail with a snap in front of our stunning photo opportunity – giant\, colourful butterfly wings!  Recommended ages 3-6yrs. \nNormal admission applies. \nhttps://www.nationaltrust.org.uk/visit/london/osterley-park-and-house/events
URL:https://richmondtwickenhamfamilyhub.com/event/the-very-hungry-caterpillar%ef%b8%8f-trail-osterley-park-2/2026-02-14/
LOCATION:Osterley Park\, Jersey Road\, Isleworth\, TW7 4RB\, United Kingdom
CATEGORIES:Holiday/Seasonal Events
END:VEVENT
BEGIN:VEVENT
DTSTART;TZID=Europe/London:20260214T100000
DTEND;TZID=Europe/London:20260214T170000
DTSTAMP:20260424T060425
CREATED:20260207T214648Z
LAST-MODIFIED:20260207T214648Z
UID:10021455-1771063200-1771088400@richmondtwickenhamfamilyhub.com
SUMMARY:Fantastic Beasts – Hounslow Urban Farm
DESCRIPTION:Join a magical adventure to discover real farm animals with super powers. If you’re looking for something special this half-term\, discover the real-life skills and talents of the beasts at Hounslow Urban Farm. \nNormal admission applies..  \nhttps://hounslowurbanfarm.co.uk/whats-on/
URL:https://richmondtwickenhamfamilyhub.com/event/fantastic-beasts-hounslow-urban-farm/2026-02-14/
LOCATION:Hounslow Urban Farm\, Faggs Road\, Feltham\, TW14 0LZ
CATEGORIES:Holiday/Seasonal Events
END:VEVENT
BEGIN:VEVENT
DTSTART;TZID=Europe/London:20260214T113000
DTEND;TZID=Europe/London:20260214T153000
DTSTAMP:20260424T060425
CREATED:20260207T193814Z
LAST-MODIFIED:20260207T193814Z
UID:10021419-1771068600-1771083000@richmondtwickenhamfamilyhub.com
SUMMARY:Blossom Crafts – Ham House
DESCRIPTION:Join Ham House for craft activities inspired by the coming season and have a go at making origami blossom. Explore the spectacular 17th-century house\, which reopens on 14th February after the annual winter conservation closure\, with new opening hours or 11.30am-3.30pm (last entry 3pm). \nFree but normal admission applies. \nhttps://www.nationaltrust.org.uk/visit/london/ham-house-and-garden/events
URL:https://richmondtwickenhamfamilyhub.com/event/blossom-crafts-ham-house/2026-02-14/
LOCATION:Ham House\, Ham Street\, Ham\, TW10 7RS\, United Kingdom
CATEGORIES:Holiday/Seasonal Events
END:VEVENT
BEGIN:VEVENT
DTSTART;TZID=Europe/London:20260215T100000
DTEND;TZID=Europe/London:20260215T160000
DTSTAMP:20260424T060425
CREATED:20260209T113914Z
LAST-MODIFIED:20260209T113914Z
UID:10021488-1771149600-1771171200@richmondtwickenhamfamilyhub.com
SUMMARY:Mudfest – London Wetland Centre\, Barnes
DESCRIPTION:Stomp\, splash and squelch with the Wetland Centre’s mud-tastic half-term. Grab your wellies and get stuck in with Mudfest – where messy means fun! Mud isn’t just messy – it’s marvellous. It’s the stuff super-powered wetlands and great family adventures are made of. Embrace the mess and discover just how brilliant mud can be with hands-on activities\, including mud kitchen\, mud art\, brilliant beaks\, nest building and more. \nNormal admission applies. \nhttps://www.wwt.org.uk/wetland-centres/london/whats-on/events
URL:https://richmondtwickenhamfamilyhub.com/event/mudfest-london-wetland-centre-barnes/2026-02-15/
LOCATION:London Wetland Centre\, Queen Elizabeth's Walk\, Barnes\, SW13 9WT\, United Kingdom
CATEGORIES:Holiday/Seasonal Events
END:VEVENT
BEGIN:VEVENT
DTSTART;TZID=Europe/London:20260215T100000
DTEND;TZID=Europe/London:20260215T160000
DTSTAMP:20260424T060425
CREATED:20260209T115656Z
LAST-MODIFIED:20260209T115656Z
UID:10021529-1771149600-1771171200@richmondtwickenhamfamilyhub.com
SUMMARY:The Very Hungry Caterpillar™️ Trail – Osterley Park
DESCRIPTION:Become the world’s most famous caterpillar\, from Eric Carle’s best-selling book The Very Hungry Caterpillar™. This charming trail brings to life the best-selling story of the tiny caterpillar who hatches from an egg and is very hungry\, so he eats through a variety of fruits and snacks each day. The caterpillar then forms a chrysalis around himself and later\, emerges as a beautiful butterfly. Brought to life with beautifully illustrated trail markers\, giant food cut-outs\, activities and games\, children learn about the days of the week\, counting\, and the life cycle of a butterfly\, within the picturesque setting of Osterley’s early spring gardens. Pick up a free trail sheet and discover accompanying QR codes\, games and activities to learn fun and fascinating facts inspired by this classic children’s tale. Celebrate completing the trail with a snap in front of our stunning photo opportunity – giant\, colourful butterfly wings!  Recommended ages 3-6yrs. \nNormal admission applies. \nhttps://www.nationaltrust.org.uk/visit/london/osterley-park-and-house/events
URL:https://richmondtwickenhamfamilyhub.com/event/the-very-hungry-caterpillar%ef%b8%8f-trail-osterley-park-2/2026-02-15/
LOCATION:Osterley Park\, Jersey Road\, Isleworth\, TW7 4RB\, United Kingdom
CATEGORIES:Holiday/Seasonal Events
END:VEVENT
BEGIN:VEVENT
DTSTART;TZID=Europe/London:20260215T100000
DTEND;TZID=Europe/London:20260215T170000
DTSTAMP:20260424T060426
CREATED:20260207T214648Z
LAST-MODIFIED:20260207T214648Z
UID:10021456-1771149600-1771174800@richmondtwickenhamfamilyhub.com
SUMMARY:Fantastic Beasts – Hounslow Urban Farm
DESCRIPTION:Join a magical adventure to discover real farm animals with super powers. If you’re looking for something special this half-term\, discover the real-life skills and talents of the beasts at Hounslow Urban Farm. \nNormal admission applies..  \nhttps://hounslowurbanfarm.co.uk/whats-on/
URL:https://richmondtwickenhamfamilyhub.com/event/fantastic-beasts-hounslow-urban-farm/2026-02-15/
LOCATION:Hounslow Urban Farm\, Faggs Road\, Feltham\, TW14 0LZ
CATEGORIES:Holiday/Seasonal Events
END:VEVENT
BEGIN:VEVENT
DTSTART;TZID=Europe/London:20260215T113000
DTEND;TZID=Europe/London:20260215T153000
DTSTAMP:20260424T060426
CREATED:20260207T193814Z
LAST-MODIFIED:20260207T193814Z
UID:10021420-1771155000-1771169400@richmondtwickenhamfamilyhub.com
SUMMARY:Blossom Crafts – Ham House
DESCRIPTION:Join Ham House for craft activities inspired by the coming season and have a go at making origami blossom. Explore the spectacular 17th-century house\, which reopens on 14th February after the annual winter conservation closure\, with new opening hours or 11.30am-3.30pm (last entry 3pm). \nFree but normal admission applies. \nhttps://www.nationaltrust.org.uk/visit/london/ham-house-and-garden/events
URL:https://richmondtwickenhamfamilyhub.com/event/blossom-crafts-ham-house/2026-02-15/
LOCATION:Ham House\, Ham Street\, Ham\, TW10 7RS\, United Kingdom
CATEGORIES:Holiday/Seasonal Events
END:VEVENT
END:VCALENDAR