BEGIN:VCALENDAR
VERSION:2.0
PRODID:-//Family Hub - ECPv6.15.20//NONSGML v1.0//EN
CALSCALE:GREGORIAN
METHOD:PUBLISH
X-WR-CALNAME:Family Hub
X-ORIGINAL-URL:https://richmondtwickenhamfamilyhub.com
X-WR-CALDESC:Events for Family Hub
REFRESH-INTERVAL;VALUE=DURATION:PT1H
X-Robots-Tag:noindex
X-PUBLISHED-TTL:PT1H
BEGIN:VTIMEZONE
TZID:Europe/London
BEGIN:DAYLIGHT
TZOFFSETFROM:+0000
TZOFFSETTO:+0100
TZNAME:BST
DTSTART:20250330T010000
END:DAYLIGHT
BEGIN:STANDARD
TZOFFSETFROM:+0100
TZOFFSETTO:+0000
TZNAME:GMT
DTSTART:20251026T010000
END:STANDARD
BEGIN:DAYLIGHT
TZOFFSETFROM:+0000
TZOFFSETTO:+0100
TZNAME:BST
DTSTART:20260329T010000
END:DAYLIGHT
BEGIN:STANDARD
TZOFFSETFROM:+0100
TZOFFSETTO:+0000
TZNAME:GMT
DTSTART:20261025T010000
END:STANDARD
BEGIN:DAYLIGHT
TZOFFSETFROM:+0000
TZOFFSETTO:+0100
TZNAME:BST
DTSTART:20270328T010000
END:DAYLIGHT
BEGIN:STANDARD
TZOFFSETFROM:+0100
TZOFFSETTO:+0000
TZNAME:GMT
DTSTART:20271031T010000
END:STANDARD
END:VTIMEZONE
BEGIN:VEVENT
DTSTART;TZID=Europe/London:20260330T090000
DTEND;TZID=Europe/London:20260330T152000
DTSTAMP:20260423T102812
CREATED:20260224T184446Z
LAST-MODIFIED:20260227T175831Z
UID:10021551-1774861200-1774884000@richmondtwickenhamfamilyhub.com
SUMMARY:Little Voices 'K-Pop Star' Easter Camp – Richmond
DESCRIPTION:Little Voices is booking now for its fantastic ‘K-Pop Star’ Easter camp in Richmond!\nChildren aged 4-11yrs will have the opportunity to explore their creative side and develop their confidence through theatre\, working towards a final filmed performance. There will be a variety of activities\, including acting\, singing\, and dancing; plus experienced instructors will ensure the children are learning in a safe and supportive atmosphere.\nThe camp runs from Monday 30th March – Thursday 2nd April\, from 9.00am-3.20pm (limited half-day places available from 9.00am-1.00pm) at Christ’s School in Richmond TW10. You can book your child’s place here (also available in Fulham). \nhttps://littlevoices.org.uk/south-west-london/holiday-camps-in-fulham-richmond/
URL:https://richmondtwickenhamfamilyhub.com/event/little-voices-k-pop-star-easter-camp-richmond/2026-03-30/
LOCATION:Christs School Richmond\, Queens Road\, Richmond\, TW10 6HW\, United Kingdom
CATEGORIES:Holiday/Seasonal Workshops
ATTACH;FMTTYPE=image/jpeg:https://richmondtwickenhamfamilyhub.com/wp-content/uploads/2025/09/K-Pop-Easter-Camp-800x445-1.jpg
END:VEVENT
BEGIN:VEVENT
DTSTART;TZID=Europe/London:20260330T093000
DTEND;TZID=Europe/London:20260330T133000
DTSTAMP:20260423T102812
CREATED:20260320T111747Z
LAST-MODIFIED:20260320T111903Z
UID:10021844-1774863000-1774877400@richmondtwickenhamfamilyhub.com
SUMMARY:Create & Grow Easter Activities – Squires Garden Centre\, Twickenham
DESCRIPTION:Keep the little ones hopping with excitement this Easter with these Create & Grow activities – perfect for little gardeners and adventurers! \nPlant a Colourful Spring Basket – £8 \nGet hands-on and craft your very own spring masterpiece! Plant three vibrant flowers in a charming wicker basket\, finished with a wooden Easter bunny topper. It’s the perfect gift or a gorgeous addition to your garden! \nSpring Flower Hunt – £2.50 \nEmbark on a magical adventure around the centre! Follow the clues\, uncover the magic word\, and be rewarded with a choccie treat! \nhttps://www.squiresgardencentres.co.uk/shop/customer-events/group/Create%20and%20Grow%20Easter%20Holidays%20-%202026/day/30/month/3/year/2026.html
URL:https://richmondtwickenhamfamilyhub.com/event/create-grow-easter-activities-squires-garden-centre-twickenham/2026-03-30/
LOCATION:Squires Garden Centre\, Sixth Cross Road\, Twickenham\, TW2 5PA\, United Kingdom
CATEGORIES:Holiday/Seasonal Workshops
END:VEVENT
BEGIN:VEVENT
DTSTART;TZID=Europe/London:20260330T140000
DTEND;TZID=Europe/London:20260330T160000
DTSTAMP:20260423T102812
CREATED:20260309T132137Z
LAST-MODIFIED:20260309T132137Z
UID:10021568-1774879200-1774886400@richmondtwickenhamfamilyhub.com
SUMMARY:Easter Sewing Workshop (5+yrs) – Twickenham
DESCRIPTION:This Easter holiday\, join Pins & Needles for some sewing fun. The children will be making Easter Bunny Wands\, Chunky Chickens\, Sleeping Bunnies in a Carrot\, Cheeky Chicks in an Egg\, and the cutest Bunny Necklaces!​​ \nhttps://www.pinsandneedles.club/easter-workshops
URL:https://richmondtwickenhamfamilyhub.com/event/easter-sewing-workshop-5yrs-twickenham/
LOCATION:Patch Twickenham\, 42 York Street\, Twickenham\, TW1 3BW
CATEGORIES:Holiday/Seasonal Workshops
END:VEVENT
END:VCALENDAR