BEGIN:VCALENDAR
VERSION:2.0
PRODID:-//Family Hub - ECPv6.15.20//NONSGML v1.0//EN
CALSCALE:GREGORIAN
METHOD:PUBLISH
X-ORIGINAL-URL:https://richmondtwickenhamfamilyhub.com
X-WR-CALDESC:Events for Family Hub
REFRESH-INTERVAL;VALUE=DURATION:PT1H
X-Robots-Tag:noindex
X-PUBLISHED-TTL:PT1H
BEGIN:VTIMEZONE
TZID:Europe/London
BEGIN:DAYLIGHT
TZOFFSETFROM:+0000
TZOFFSETTO:+0100
TZNAME:BST
DTSTART:20250330T010000
END:DAYLIGHT
BEGIN:STANDARD
TZOFFSETFROM:+0100
TZOFFSETTO:+0000
TZNAME:GMT
DTSTART:20251026T010000
END:STANDARD
BEGIN:DAYLIGHT
TZOFFSETFROM:+0000
TZOFFSETTO:+0100
TZNAME:BST
DTSTART:20260329T010000
END:DAYLIGHT
BEGIN:STANDARD
TZOFFSETFROM:+0100
TZOFFSETTO:+0000
TZNAME:GMT
DTSTART:20261025T010000
END:STANDARD
BEGIN:DAYLIGHT
TZOFFSETFROM:+0000
TZOFFSETTO:+0100
TZNAME:BST
DTSTART:20270328T010000
END:DAYLIGHT
BEGIN:STANDARD
TZOFFSETFROM:+0100
TZOFFSETTO:+0000
TZNAME:GMT
DTSTART:20271031T010000
END:STANDARD
END:VTIMEZONE
BEGIN:VEVENT
DTSTART;TZID=Europe/London:20260404T120000
DTEND;TZID=Europe/London:20260404T160000
DTSTAMP:20260423T090914
CREATED:20260320T113243Z
LAST-MODIFIED:20260320T113243Z
UID:10021871-1775304000-1775318400@richmondtwickenhamfamilyhub.com
SUMMARY:Easter Crafts At The Castle (5-11yrs) – Strawberry Hill House
DESCRIPTION:Celebrate Easter with a creative family workshop at Strawberry Hill House! \nJoin a relaxed\, hands-on session making Easter decorations together\, inspired by nests\, eggs and the small wonders of the spring season. Set within Horace Walpole’s enchanting Gothic castle\, this workshop invites children and their grown-ups to slow down\, get creative\, and enjoy time making together during the school holidays. \nSessions at 12.00pm & 2.30pm\, lasting 1.5hrs. \nTickets: £15 per child | £8 per accompanying adult \nAll materials are provided\, and no previous crafting experience is needed. \nAll children must be accompanied by a ticket-holding adult. \nRecommended for children aged 5–11 years old. \nhttps://tickets.strawberryhillhouse.org.uk/event-tickets/74464?catID=13844
URL:https://richmondtwickenhamfamilyhub.com/event/easter-crafts-at-the-castle-5-11yrs-strawberry-hill-house/2026-04-04/
LOCATION:Strawberry Hill House\, 268 Waldegrave Road\, Twickenham\, TW1 4ST
CATEGORIES:Holiday/Seasonal Workshops
END:VEVENT
END:VCALENDAR