BEGIN:VCALENDAR
VERSION:2.0
PRODID:-//Family Hub - ECPv6.15.20//NONSGML v1.0//EN
CALSCALE:GREGORIAN
METHOD:PUBLISH
X-ORIGINAL-URL:https://richmondtwickenhamfamilyhub.com
X-WR-CALDESC:Events for Family Hub
REFRESH-INTERVAL;VALUE=DURATION:PT1H
X-Robots-Tag:noindex
X-PUBLISHED-TTL:PT1H
BEGIN:VTIMEZONE
TZID:Europe/London
BEGIN:DAYLIGHT
TZOFFSETFROM:+0000
TZOFFSETTO:+0100
TZNAME:BST
DTSTART:20250330T010000
END:DAYLIGHT
BEGIN:STANDARD
TZOFFSETFROM:+0100
TZOFFSETTO:+0000
TZNAME:GMT
DTSTART:20251026T010000
END:STANDARD
BEGIN:DAYLIGHT
TZOFFSETFROM:+0000
TZOFFSETTO:+0100
TZNAME:BST
DTSTART:20260329T010000
END:DAYLIGHT
BEGIN:STANDARD
TZOFFSETFROM:+0100
TZOFFSETTO:+0000
TZNAME:GMT
DTSTART:20261025T010000
END:STANDARD
BEGIN:DAYLIGHT
TZOFFSETFROM:+0000
TZOFFSETTO:+0100
TZNAME:BST
DTSTART:20270328T010000
END:DAYLIGHT
BEGIN:STANDARD
TZOFFSETFROM:+0100
TZOFFSETTO:+0000
TZNAME:GMT
DTSTART:20271031T010000
END:STANDARD
END:VTIMEZONE
BEGIN:VEVENT
DTSTART;TZID=Europe/London:20260405T110000
DTEND;TZID=Europe/London:20260405T123000
DTSTAMP:20260423T114459
CREATED:20260320T112648Z
LAST-MODIFIED:20260320T112648Z
UID:10021863-1775386800-1775392200@richmondtwickenhamfamilyhub.com
SUMMARY:Minibeast Adventures – Strawberry Hill House
DESCRIPTION:Celebrate the Easter holidays with a hands-on nature workshop\, led by the expert team from Habitats & Heritage. \nPerfect for curious children and their grown-ups\, this interactive 1.5hr session begins with a fun and informative talk introducing some favourite minibeasts and why they’re so important to local ecosystems. Families will then work together to build a small bug hotel to take home\, before heading outdoors for a guided minibeast hunt in the gardens and woodland (weather permitting). \nWorkshops will take place indoors and outdoors\, with access to classroom space if needed. Suitable for families with KS2-aged children\, though slightly younger or older children are very welcome. \nAdults £8.00-9.00 \nChildren £15.00-16.50 \nhttps://tickets.strawberryhillhouse.org.uk/event-tickets/74510?catID=13844
URL:https://richmondtwickenhamfamilyhub.com/event/minibeast-adventures-strawberry-hill-house/2026-04-05/
LOCATION:Strawberry Hill House\, 268 Waldegrave Road\, Twickenham\, TW1 4ST
CATEGORIES:Holiday/Seasonal Workshops
END:VEVENT
END:VCALENDAR