BEGIN:VCALENDAR
VERSION:2.0
PRODID:-//Family Hub - ECPv6.15.20//NONSGML v1.0//EN
CALSCALE:GREGORIAN
METHOD:PUBLISH
X-ORIGINAL-URL:https://richmondtwickenhamfamilyhub.com
X-WR-CALDESC:Events for Family Hub
REFRESH-INTERVAL;VALUE=DURATION:PT1H
X-Robots-Tag:noindex
X-PUBLISHED-TTL:PT1H
BEGIN:VTIMEZONE
TZID:Europe/London
BEGIN:DAYLIGHT
TZOFFSETFROM:+0000
TZOFFSETTO:+0100
TZNAME:BST
DTSTART:20250330T010000
END:DAYLIGHT
BEGIN:STANDARD
TZOFFSETFROM:+0100
TZOFFSETTO:+0000
TZNAME:GMT
DTSTART:20251026T010000
END:STANDARD
BEGIN:DAYLIGHT
TZOFFSETFROM:+0000
TZOFFSETTO:+0100
TZNAME:BST
DTSTART:20260329T010000
END:DAYLIGHT
BEGIN:STANDARD
TZOFFSETFROM:+0100
TZOFFSETTO:+0000
TZNAME:GMT
DTSTART:20261025T010000
END:STANDARD
BEGIN:DAYLIGHT
TZOFFSETFROM:+0000
TZOFFSETTO:+0100
TZNAME:BST
DTSTART:20270328T010000
END:DAYLIGHT
BEGIN:STANDARD
TZOFFSETFROM:+0100
TZOFFSETTO:+0000
TZNAME:GMT
DTSTART:20271031T010000
END:STANDARD
END:VTIMEZONE
BEGIN:VEVENT
DTSTART;TZID=Europe/London:20260407T093000
DTEND;TZID=Europe/London:20260407T133000
DTSTAMP:20260423T102839
CREATED:20260320T111747Z
LAST-MODIFIED:20260320T111903Z
UID:10021848-1775554200-1775568600@richmondtwickenhamfamilyhub.com
SUMMARY:Create & Grow Easter Activities – Squires Garden Centre\, Twickenham
DESCRIPTION:Keep the little ones hopping with excitement this Easter with these Create & Grow activities – perfect for little gardeners and adventurers! \nPlant a Colourful Spring Basket – £8 \nGet hands-on and craft your very own spring masterpiece! Plant three vibrant flowers in a charming wicker basket\, finished with a wooden Easter bunny topper. It’s the perfect gift or a gorgeous addition to your garden! \nSpring Flower Hunt – £2.50 \nEmbark on a magical adventure around the centre! Follow the clues\, uncover the magic word\, and be rewarded with a choccie treat! \nhttps://www.squiresgardencentres.co.uk/shop/customer-events/group/Create%20and%20Grow%20Easter%20Holidays%20-%202026/day/30/month/3/year/2026.html
URL:https://richmondtwickenhamfamilyhub.com/event/create-grow-easter-activities-squires-garden-centre-twickenham/2026-04-07/
LOCATION:Squires Garden Centre\, Sixth Cross Road\, Twickenham\, TW2 5PA\, United Kingdom
CATEGORIES:Holiday/Seasonal Workshops
END:VEVENT
BEGIN:VEVENT
DTSTART;TZID=Europe/London:20260407T100000
DTEND;TZID=Europe/London:20260407T120000
DTSTAMP:20260423T102839
CREATED:20260320T104434Z
LAST-MODIFIED:20260320T104434Z
UID:10021815-1775556000-1775563200@richmondtwickenhamfamilyhub.com
SUMMARY:Family Workshop: Brilliant Butterflies (5-11yrs) – Museum Of Richmond
DESCRIPTION:Dive into Richmond’s rich history\, get hands-on with creative activities\, and make precious memories as a family. \nDiscover the magic of butterflies! \nExplore our collection\, including a clever flying butterfly toy that’s over 100 years old. Learn about these amazing insects\, then get creative and make your very own flying butterfly toy to take home. \nA fluttery\, fun workshop for all! \nLed by Vicky – with over 20 years of experience working with families in museums and an Enhanced DBS check\, Vicky ensures every workshop is packed with learning\, creativity\, and fun! \n– £6 per child\n– Perfect for ages 5–11 (adults must accompany)\n– Adults are FREE! Or donate £3 for unlimited tea or coffee!\n– FREE spots for under-5s not participating in the main craft activity\n– Activities can be adjusted to challenge kids 11+ if they’re joining.\n– Booking is essential as places are limited! \nDon’t miss out on these fun\, affordable\, and family-friendly workshops — bring history to life and let your creativity soar! \nWorkshops at the Museum
URL:https://richmondtwickenhamfamilyhub.com/event/family-workshop-brilliant-butterflies-5-11yrs-museum-of-richmond/2026-04-07/
LOCATION:Museum Of Richmond\, Old Town Hall\, Whittaker Avenue\, Richmond\, TW9 1TP\, United Kingdom
CATEGORIES:Holiday/Seasonal Workshops
END:VEVENT
BEGIN:VEVENT
DTSTART;TZID=Europe/London:20260408T093000
DTEND;TZID=Europe/London:20260408T133000
DTSTAMP:20260423T102839
CREATED:20260320T111747Z
LAST-MODIFIED:20260320T111903Z
UID:10021849-1775640600-1775655000@richmondtwickenhamfamilyhub.com
SUMMARY:Create & Grow Easter Activities – Squires Garden Centre\, Twickenham
DESCRIPTION:Keep the little ones hopping with excitement this Easter with these Create & Grow activities – perfect for little gardeners and adventurers! \nPlant a Colourful Spring Basket – £8 \nGet hands-on and craft your very own spring masterpiece! Plant three vibrant flowers in a charming wicker basket\, finished with a wooden Easter bunny topper. It’s the perfect gift or a gorgeous addition to your garden! \nSpring Flower Hunt – £2.50 \nEmbark on a magical adventure around the centre! Follow the clues\, uncover the magic word\, and be rewarded with a choccie treat! \nhttps://www.squiresgardencentres.co.uk/shop/customer-events/group/Create%20and%20Grow%20Easter%20Holidays%20-%202026/day/30/month/3/year/2026.html
URL:https://richmondtwickenhamfamilyhub.com/event/create-grow-easter-activities-squires-garden-centre-twickenham/2026-04-08/
LOCATION:Squires Garden Centre\, Sixth Cross Road\, Twickenham\, TW2 5PA\, United Kingdom
CATEGORIES:Holiday/Seasonal Workshops
END:VEVENT
BEGIN:VEVENT
DTSTART;TZID=Europe/London:20260408T100000
DTEND;TZID=Europe/London:20260408T120000
DTSTAMP:20260423T102839
CREATED:20260320T104434Z
LAST-MODIFIED:20260320T104434Z
UID:10021816-1775642400-1775649600@richmondtwickenhamfamilyhub.com
SUMMARY:Family Workshop: Brilliant Butterflies (5-11yrs) – Museum Of Richmond
DESCRIPTION:Dive into Richmond’s rich history\, get hands-on with creative activities\, and make precious memories as a family. \nDiscover the magic of butterflies! \nExplore our collection\, including a clever flying butterfly toy that’s over 100 years old. Learn about these amazing insects\, then get creative and make your very own flying butterfly toy to take home. \nA fluttery\, fun workshop for all! \nLed by Vicky – with over 20 years of experience working with families in museums and an Enhanced DBS check\, Vicky ensures every workshop is packed with learning\, creativity\, and fun! \n– £6 per child\n– Perfect for ages 5–11 (adults must accompany)\n– Adults are FREE! Or donate £3 for unlimited tea or coffee!\n– FREE spots for under-5s not participating in the main craft activity\n– Activities can be adjusted to challenge kids 11+ if they’re joining.\n– Booking is essential as places are limited! \nDon’t miss out on these fun\, affordable\, and family-friendly workshops — bring history to life and let your creativity soar! \nWorkshops at the Museum
URL:https://richmondtwickenhamfamilyhub.com/event/family-workshop-brilliant-butterflies-5-11yrs-museum-of-richmond/2026-04-08/
LOCATION:Museum Of Richmond\, Old Town Hall\, Whittaker Avenue\, Richmond\, TW9 1TP\, United Kingdom
CATEGORIES:Holiday/Seasonal Workshops
END:VEVENT
BEGIN:VEVENT
DTSTART;TZID=Europe/London:20260409T093000
DTEND;TZID=Europe/London:20260409T133000
DTSTAMP:20260423T102839
CREATED:20260320T111747Z
LAST-MODIFIED:20260320T111903Z
UID:10021850-1775727000-1775741400@richmondtwickenhamfamilyhub.com
SUMMARY:Create & Grow Easter Activities – Squires Garden Centre\, Twickenham
DESCRIPTION:Keep the little ones hopping with excitement this Easter with these Create & Grow activities – perfect for little gardeners and adventurers! \nPlant a Colourful Spring Basket – £8 \nGet hands-on and craft your very own spring masterpiece! Plant three vibrant flowers in a charming wicker basket\, finished with a wooden Easter bunny topper. It’s the perfect gift or a gorgeous addition to your garden! \nSpring Flower Hunt – £2.50 \nEmbark on a magical adventure around the centre! Follow the clues\, uncover the magic word\, and be rewarded with a choccie treat! \nhttps://www.squiresgardencentres.co.uk/shop/customer-events/group/Create%20and%20Grow%20Easter%20Holidays%20-%202026/day/30/month/3/year/2026.html
URL:https://richmondtwickenhamfamilyhub.com/event/create-grow-easter-activities-squires-garden-centre-twickenham/2026-04-09/
LOCATION:Squires Garden Centre\, Sixth Cross Road\, Twickenham\, TW2 5PA\, United Kingdom
CATEGORIES:Holiday/Seasonal Workshops
END:VEVENT
BEGIN:VEVENT
DTSTART;TZID=Europe/London:20260409T100000
DTEND;TZID=Europe/London:20260409T120000
DTSTAMP:20260423T102839
CREATED:20260320T104434Z
LAST-MODIFIED:20260320T104434Z
UID:10021817-1775728800-1775736000@richmondtwickenhamfamilyhub.com
SUMMARY:Family Workshop: Brilliant Butterflies (5-11yrs) – Museum Of Richmond
DESCRIPTION:Dive into Richmond’s rich history\, get hands-on with creative activities\, and make precious memories as a family. \nDiscover the magic of butterflies! \nExplore our collection\, including a clever flying butterfly toy that’s over 100 years old. Learn about these amazing insects\, then get creative and make your very own flying butterfly toy to take home. \nA fluttery\, fun workshop for all! \nLed by Vicky – with over 20 years of experience working with families in museums and an Enhanced DBS check\, Vicky ensures every workshop is packed with learning\, creativity\, and fun! \n– £6 per child\n– Perfect for ages 5–11 (adults must accompany)\n– Adults are FREE! Or donate £3 for unlimited tea or coffee!\n– FREE spots for under-5s not participating in the main craft activity\n– Activities can be adjusted to challenge kids 11+ if they’re joining.\n– Booking is essential as places are limited! \nDon’t miss out on these fun\, affordable\, and family-friendly workshops — bring history to life and let your creativity soar! \nWorkshops at the Museum
URL:https://richmondtwickenhamfamilyhub.com/event/family-workshop-brilliant-butterflies-5-11yrs-museum-of-richmond/2026-04-09/
LOCATION:Museum Of Richmond\, Old Town Hall\, Whittaker Avenue\, Richmond\, TW9 1TP\, United Kingdom
CATEGORIES:Holiday/Seasonal Workshops
END:VEVENT
BEGIN:VEVENT
DTSTART;TZID=Europe/London:20260410T093000
DTEND;TZID=Europe/London:20260410T133000
DTSTAMP:20260423T102839
CREATED:20260320T111747Z
LAST-MODIFIED:20260320T111903Z
UID:10021851-1775813400-1775827800@richmondtwickenhamfamilyhub.com
SUMMARY:Create & Grow Easter Activities – Squires Garden Centre\, Twickenham
DESCRIPTION:Keep the little ones hopping with excitement this Easter with these Create & Grow activities – perfect for little gardeners and adventurers! \nPlant a Colourful Spring Basket – £8 \nGet hands-on and craft your very own spring masterpiece! Plant three vibrant flowers in a charming wicker basket\, finished with a wooden Easter bunny topper. It’s the perfect gift or a gorgeous addition to your garden! \nSpring Flower Hunt – £2.50 \nEmbark on a magical adventure around the centre! Follow the clues\, uncover the magic word\, and be rewarded with a choccie treat! \nhttps://www.squiresgardencentres.co.uk/shop/customer-events/group/Create%20and%20Grow%20Easter%20Holidays%20-%202026/day/30/month/3/year/2026.html
URL:https://richmondtwickenhamfamilyhub.com/event/create-grow-easter-activities-squires-garden-centre-twickenham/2026-04-10/
LOCATION:Squires Garden Centre\, Sixth Cross Road\, Twickenham\, TW2 5PA\, United Kingdom
CATEGORIES:Holiday/Seasonal Workshops
END:VEVENT
BEGIN:VEVENT
DTSTART;TZID=Europe/London:20260410T100000
DTEND;TZID=Europe/London:20260410T120000
DTSTAMP:20260423T102839
CREATED:20260320T104434Z
LAST-MODIFIED:20260320T104434Z
UID:10021818-1775815200-1775822400@richmondtwickenhamfamilyhub.com
SUMMARY:Family Workshop: Brilliant Butterflies (5-11yrs) – Museum Of Richmond
DESCRIPTION:Dive into Richmond’s rich history\, get hands-on with creative activities\, and make precious memories as a family. \nDiscover the magic of butterflies! \nExplore our collection\, including a clever flying butterfly toy that’s over 100 years old. Learn about these amazing insects\, then get creative and make your very own flying butterfly toy to take home. \nA fluttery\, fun workshop for all! \nLed by Vicky – with over 20 years of experience working with families in museums and an Enhanced DBS check\, Vicky ensures every workshop is packed with learning\, creativity\, and fun! \n– £6 per child\n– Perfect for ages 5–11 (adults must accompany)\n– Adults are FREE! Or donate £3 for unlimited tea or coffee!\n– FREE spots for under-5s not participating in the main craft activity\n– Activities can be adjusted to challenge kids 11+ if they’re joining.\n– Booking is essential as places are limited! \nDon’t miss out on these fun\, affordable\, and family-friendly workshops — bring history to life and let your creativity soar! \nWorkshops at the Museum
URL:https://richmondtwickenhamfamilyhub.com/event/family-workshop-brilliant-butterflies-5-11yrs-museum-of-richmond/2026-04-10/
LOCATION:Museum Of Richmond\, Old Town Hall\, Whittaker Avenue\, Richmond\, TW9 1TP\, United Kingdom
CATEGORIES:Holiday/Seasonal Workshops
END:VEVENT
BEGIN:VEVENT
DTSTART;TZID=Europe/London:20260412T110000
DTEND;TZID=Europe/London:20260412T120000
DTSTAMP:20260423T102839
CREATED:20260320T112648Z
LAST-MODIFIED:20260320T112648Z
UID:10021864-1775991600-1775995200@richmondtwickenhamfamilyhub.com
SUMMARY:Minibeast Adventures – Strawberry Hill House
DESCRIPTION:Celebrate the Easter holidays with a hands-on nature workshop\, led by the expert team from Habitats & Heritage. \nPerfect for curious children and their grown-ups\, this interactive 1.5hr session begins with a fun and informative talk introducing some favourite minibeasts and why they’re so important to local ecosystems. Families will then work together to build a small bug hotel to take home\, before heading outdoors for a guided minibeast hunt in the gardens and woodland (weather permitting). \nWorkshops will take place indoors and outdoors\, with access to classroom space if needed. Suitable for families with KS2-aged children\, though slightly younger or older children are very welcome. \nAdults £8.00-9.00 \nChildren £15.00-16.50 \nhttps://tickets.strawberryhillhouse.org.uk/event-tickets/74510?catID=13844
URL:https://richmondtwickenhamfamilyhub.com/event/minibeast-adventures-strawberry-hill-house/2026-04-12/
LOCATION:Strawberry Hill House\, 268 Waldegrave Road\, Twickenham\, TW1 4ST
CATEGORIES:Holiday/Seasonal Workshops
END:VEVENT
END:VCALENDAR