BEGIN:VCALENDAR
VERSION:2.0
PRODID:-//Family Hub - ECPv6.15.20//NONSGML v1.0//EN
CALSCALE:GREGORIAN
METHOD:PUBLISH
X-WR-CALNAME:Family Hub
X-ORIGINAL-URL:https://richmondtwickenhamfamilyhub.com
X-WR-CALDESC:Events for Family Hub
REFRESH-INTERVAL;VALUE=DURATION:PT1H
X-Robots-Tag:noindex
X-PUBLISHED-TTL:PT1H
BEGIN:VTIMEZONE
TZID:Europe/London
BEGIN:DAYLIGHT
TZOFFSETFROM:+0000
TZOFFSETTO:+0100
TZNAME:BST
DTSTART:20240331T010000
END:DAYLIGHT
BEGIN:STANDARD
TZOFFSETFROM:+0100
TZOFFSETTO:+0000
TZNAME:GMT
DTSTART:20241027T010000
END:STANDARD
BEGIN:DAYLIGHT
TZOFFSETFROM:+0000
TZOFFSETTO:+0100
TZNAME:BST
DTSTART:20250330T010000
END:DAYLIGHT
BEGIN:STANDARD
TZOFFSETFROM:+0100
TZOFFSETTO:+0000
TZNAME:GMT
DTSTART:20251026T010000
END:STANDARD
BEGIN:DAYLIGHT
TZOFFSETFROM:+0000
TZOFFSETTO:+0100
TZNAME:BST
DTSTART:20260329T010000
END:DAYLIGHT
BEGIN:STANDARD
TZOFFSETFROM:+0100
TZOFFSETTO:+0000
TZNAME:GMT
DTSTART:20261025T010000
END:STANDARD
END:VTIMEZONE
BEGIN:VEVENT
DTSTART;TZID=Europe/London:20251212T093000
DTEND;TZID=Europe/London:20251212T170000
DTSTAMP:20260426T033849
CREATED:20250927T165503Z
LAST-MODIFIED:20250927T165503Z
UID:10019519-1765531800-1765558800@richmondtwickenhamfamilyhub.com
SUMMARY:Cheeky Chops Play Cafe (0-5yrs) – Twickenham
DESCRIPTION:A family-run play café designed to provide a quality experience for the whole family – with modern\, stimulating and challenging play for children aged 0-5 years as well as a clean and comfortable café area for adults serving high quality coffee and cakes. \nThere are three play sessions available to book on weekdays and two on a Saturday morning. Each session allows 90 minutes for families to enjoy the play facilities as well as the food and drink on offer\, while the 30 minutes in between will give staff the opportunity to clean and tidy the facilities to ensure that we provide the best possible customer experience. \nThe maximum capacity for each slot is 25 children. They encourage you to book online as places for each session fill up fast. If you arrive without a booking you can pay to enter at the front desk\, but only if there are spaces available for that session. You can book via the link below. \nPrices\n0-6 months – FREE\n7-11 month – £5.50\n1+ years – £9.00\n​Adults – FREE \nSession Times\nMonday – Friday\nSlot 1:  9.30am – 11am\nSlot 2:  11.30am – 3pm (stay for 90 minutes at any time within these times)\nSlot 3:  3.30pm – 5pm \nSaturday Mornings\nSlot 1:  9am – 10.30am\nSlot 2:  11am – 12.30am \nhttps://www.cheekychopsplaycafe.co.uk
URL:https://richmondtwickenhamfamilyhub.com/event/cheeky-chops-play-cafe-0-5yrs-twickenham-2/2025-12-12/
LOCATION:Cheeky Chops Play Cafe\, 37-39 York Street\, Twickenham\, TW1 3LP\, United Kingdom
CATEGORIES:Kids Activities
END:VEVENT
END:VCALENDAR