BEGIN:VCALENDAR
VERSION:2.0
PRODID:-//Family Hub - ECPv6.15.20//NONSGML v1.0//EN
CALSCALE:GREGORIAN
METHOD:PUBLISH
X-ORIGINAL-URL:https://richmondtwickenhamfamilyhub.com
X-WR-CALDESC:Events for Family Hub
REFRESH-INTERVAL;VALUE=DURATION:PT1H
X-Robots-Tag:noindex
X-PUBLISHED-TTL:PT1H
BEGIN:VTIMEZONE
TZID:Europe/London
BEGIN:DAYLIGHT
TZOFFSETFROM:+0000
TZOFFSETTO:+0100
TZNAME:BST
DTSTART:20250330T010000
END:DAYLIGHT
BEGIN:STANDARD
TZOFFSETFROM:+0100
TZOFFSETTO:+0000
TZNAME:GMT
DTSTART:20251026T010000
END:STANDARD
BEGIN:DAYLIGHT
TZOFFSETFROM:+0000
TZOFFSETTO:+0100
TZNAME:BST
DTSTART:20260329T010000
END:DAYLIGHT
BEGIN:STANDARD
TZOFFSETFROM:+0100
TZOFFSETTO:+0000
TZNAME:GMT
DTSTART:20261025T010000
END:STANDARD
BEGIN:DAYLIGHT
TZOFFSETFROM:+0000
TZOFFSETTO:+0100
TZNAME:BST
DTSTART:20270328T010000
END:DAYLIGHT
BEGIN:STANDARD
TZOFFSETFROM:+0100
TZOFFSETTO:+0000
TZNAME:GMT
DTSTART:20271031T010000
END:STANDARD
END:VTIMEZONE
BEGIN:VEVENT
DTSTART;TZID=Europe/London:20260130T093000
DTEND;TZID=Europe/London:20260130T170000
DTSTAMP:20260425T212636
CREATED:20260115T205913Z
LAST-MODIFIED:20260115T205913Z
UID:10021360-1769765400-1769792400@richmondtwickenhamfamilyhub.com
SUMMARY:One O'Clock Club (0-5yrs) – Marble Hill Playcentres\, Twickenham
DESCRIPTION:The One O’Clock Club is a fun and safe outdoor play space for children under 5 and their parents/carers. Grown-ups can relax with a cuppa and a snack from the newly refurbished kiosk\, while the little ones explore. With ride-ons\, scooters\, playhouses and sandpit\, there is plenty to occupy them. Playworkers are there to oversee\, and facilitate any messy play and craft activities\, and on warm days\, the paddling pool and sprinkler is always popular. They are open whatever the weather\, rain or shine! They offer a range of messy & wet play opportunities so please expect that your child may need a change of clothes at the end of the session. Please support your child in their play by dressing them in clothes for playing in that you don’t mind getting messy. \n\nFamilies need to pre-book before entering the One O’Clock Club.\n\nEvery Saturday morning 10am – 11.45am \nWeek Days: \nThurs: 9.30am – 12pm \nFri: 9.30am – 12pm & 1.30pm – 5pm \n\n\n\nOne O’Clock Club \n \nhttps://marblehillplaycentres.com/one-oclock-club/
URL:https://richmondtwickenhamfamilyhub.com/event/one-oclock-club-0-5yrs-marble-hill-playcentres-twickenham-3/2026-01-30/
LOCATION:Marble Hill Playcentres\, Richmond Road\, Twickeham\, TW1 2NL\, United Kingdom
CATEGORIES:Kids Activities
END:VEVENT
BEGIN:VEVENT
DTSTART;TZID=Europe/London:20260130T100000
DTEND;TZID=Europe/London:20260130T104500
DTSTAMP:20260425T212636
CREATED:20260116T211520Z
LAST-MODIFIED:20260116T211520Z
UID:10021383-1769767200-1769769900@richmondtwickenhamfamilyhub.com
SUMMARY:Little Vic Explorers (18m-4yrs) – Richmond
DESCRIPTION:Join Little Vic Explorers Group –  A fantastic opportunity to experience life at the Old Vicarage School nursery \nA free weekly session held on Friday mornings from 10-10.45am during term time. \nThe parent and toddler group is aimed at children from 18 months to 4 years old and their parents or carers. Baby siblings are more than welcome. \nJoin the Little Vic Nursery for a morning of exploring\, playing and fun. \nYour daughter will get a free taster play session with current pre-school girls and then join in with some songs and stories at the end. \nWith a team of highly experienced and nurturing teachers the nursery introduces children to a broad curriculum\, through a mix of exploration\, games and learning. \nIt’s where a curiosity for learning begins! \nWith small class sizes\, booking is essential \nPlease click here to book at place. \nhttps://www.oldvicarageschool.com/little-vic-nursery/little-vic-explorers
URL:https://richmondtwickenhamfamilyhub.com/event/little-vic-explorers-18m-4yrs-richmond/2026-01-30/
LOCATION:Old Vicarage School\, 48 Richmond Hill\, Richmond\, TW10 6QX
CATEGORIES:Kids Activities
END:VEVENT
END:VCALENDAR