BEGIN:VCALENDAR
VERSION:2.0
PRODID:-//Family Hub - ECPv6.15.20//NONSGML v1.0//EN
CALSCALE:GREGORIAN
METHOD:PUBLISH
X-WR-CALNAME:Family Hub
X-ORIGINAL-URL:https://richmondtwickenhamfamilyhub.com
X-WR-CALDESC:Events for Family Hub
REFRESH-INTERVAL;VALUE=DURATION:PT1H
X-Robots-Tag:noindex
X-PUBLISHED-TTL:PT1H
BEGIN:VTIMEZONE
TZID:Europe/London
BEGIN:DAYLIGHT
TZOFFSETFROM:+0000
TZOFFSETTO:+0100
TZNAME:BST
DTSTART:20240331T010000
END:DAYLIGHT
BEGIN:STANDARD
TZOFFSETFROM:+0100
TZOFFSETTO:+0000
TZNAME:GMT
DTSTART:20241027T010000
END:STANDARD
BEGIN:DAYLIGHT
TZOFFSETFROM:+0000
TZOFFSETTO:+0100
TZNAME:BST
DTSTART:20250330T010000
END:DAYLIGHT
BEGIN:STANDARD
TZOFFSETFROM:+0100
TZOFFSETTO:+0000
TZNAME:GMT
DTSTART:20251026T010000
END:STANDARD
BEGIN:DAYLIGHT
TZOFFSETFROM:+0000
TZOFFSETTO:+0100
TZNAME:BST
DTSTART:20260329T010000
END:DAYLIGHT
BEGIN:STANDARD
TZOFFSETFROM:+0100
TZOFFSETTO:+0000
TZNAME:GMT
DTSTART:20261025T010000
END:STANDARD
END:VTIMEZONE
BEGIN:VEVENT
DTSTART;TZID=Europe/London:20251117T093000
DTEND;TZID=Europe/London:20251117T170000
DTSTAMP:20260426T053803
CREATED:20250927T165503Z
LAST-MODIFIED:20250927T165503Z
UID:10019500-1763371800-1763398800@richmondtwickenhamfamilyhub.com
SUMMARY:Cheeky Chops Play Cafe (0-5yrs) – Twickenham
DESCRIPTION:A family-run play café designed to provide a quality experience for the whole family – with modern\, stimulating and challenging play for children aged 0-5 years as well as a clean and comfortable café area for adults serving high quality coffee and cakes. \nThere are three play sessions available to book on weekdays and two on a Saturday morning. Each session allows 90 minutes for families to enjoy the play facilities as well as the food and drink on offer\, while the 30 minutes in between will give staff the opportunity to clean and tidy the facilities to ensure that we provide the best possible customer experience. \nThe maximum capacity for each slot is 25 children. They encourage you to book online as places for each session fill up fast. If you arrive without a booking you can pay to enter at the front desk\, but only if there are spaces available for that session. You can book via the link below. \nPrices\n0-6 months – FREE\n7-11 month – £5.50\n1+ years – £9.00\n​Adults – FREE \nSession Times\nMonday – Friday\nSlot 1:  9.30am – 11am\nSlot 2:  11.30am – 3pm (stay for 90 minutes at any time within these times)\nSlot 3:  3.30pm – 5pm \nSaturday Mornings\nSlot 1:  9am – 10.30am\nSlot 2:  11am – 12.30am \nhttps://www.cheekychopsplaycafe.co.uk
URL:https://richmondtwickenhamfamilyhub.com/event/cheeky-chops-play-cafe-0-5yrs-twickenham-2/2025-11-17/
LOCATION:Cheeky Chops Play Cafe\, 37-39 York Street\, Twickenham\, TW1 3LP\, United Kingdom
CATEGORIES:Kids Activities
END:VEVENT
BEGIN:VEVENT
DTSTART;TZID=Europe/London:20251118T093000
DTEND;TZID=Europe/London:20251118T170000
DTSTAMP:20260426T053803
CREATED:20250927T165503Z
LAST-MODIFIED:20250927T165503Z
UID:10019501-1763458200-1763485200@richmondtwickenhamfamilyhub.com
SUMMARY:Cheeky Chops Play Cafe (0-5yrs) – Twickenham
DESCRIPTION:A family-run play café designed to provide a quality experience for the whole family – with modern\, stimulating and challenging play for children aged 0-5 years as well as a clean and comfortable café area for adults serving high quality coffee and cakes. \nThere are three play sessions available to book on weekdays and two on a Saturday morning. Each session allows 90 minutes for families to enjoy the play facilities as well as the food and drink on offer\, while the 30 minutes in between will give staff the opportunity to clean and tidy the facilities to ensure that we provide the best possible customer experience. \nThe maximum capacity for each slot is 25 children. They encourage you to book online as places for each session fill up fast. If you arrive without a booking you can pay to enter at the front desk\, but only if there are spaces available for that session. You can book via the link below. \nPrices\n0-6 months – FREE\n7-11 month – £5.50\n1+ years – £9.00\n​Adults – FREE \nSession Times\nMonday – Friday\nSlot 1:  9.30am – 11am\nSlot 2:  11.30am – 3pm (stay for 90 minutes at any time within these times)\nSlot 3:  3.30pm – 5pm \nSaturday Mornings\nSlot 1:  9am – 10.30am\nSlot 2:  11am – 12.30am \nhttps://www.cheekychopsplaycafe.co.uk
URL:https://richmondtwickenhamfamilyhub.com/event/cheeky-chops-play-cafe-0-5yrs-twickenham-2/2025-11-18/
LOCATION:Cheeky Chops Play Cafe\, 37-39 York Street\, Twickenham\, TW1 3LP\, United Kingdom
CATEGORIES:Kids Activities
END:VEVENT
BEGIN:VEVENT
DTSTART;TZID=Europe/London:20251118T153000
DTEND;TZID=Europe/London:20251118T170000
DTSTAMP:20260426T053803
CREATED:20250927T170328Z
LAST-MODIFIED:20250927T170441Z
UID:10019646-1763479800-1763485200@richmondtwickenhamfamilyhub.com
SUMMARY:Community Children's Club (4-8yrs) – Barnes
DESCRIPTION:For children in school years Reception to Year 2 (Thursday)\, and Years 3-4 (Tuesday) offering different play opportunities\,sports\, art\, crafts and games. These sessions are FREE. TERM TIME ONLY. \nThe Community Children’s Club is made possible via funding from the Richmond Parish Lands Charity. \nhttps://www.castelnaucentreproject.co.uk/groups/community-childrens-club/
URL:https://richmondtwickenhamfamilyhub.com/event/community-childrens-club-4-8yrs-barnes/2025-11-18/
LOCATION:Castlenau Communiy Centre\, 7 Stillingfleet Road\, Barnes\, SW13 9AQ\, United Kingdom
CATEGORIES:Kids Activities
END:VEVENT
BEGIN:VEVENT
DTSTART;TZID=Europe/London:20251119T093000
DTEND;TZID=Europe/London:20251119T170000
DTSTAMP:20260426T053803
CREATED:20250927T165503Z
LAST-MODIFIED:20250927T165503Z
UID:10019502-1763544600-1763571600@richmondtwickenhamfamilyhub.com
SUMMARY:Cheeky Chops Play Cafe (0-5yrs) – Twickenham
DESCRIPTION:A family-run play café designed to provide a quality experience for the whole family – with modern\, stimulating and challenging play for children aged 0-5 years as well as a clean and comfortable café area for adults serving high quality coffee and cakes. \nThere are three play sessions available to book on weekdays and two on a Saturday morning. Each session allows 90 minutes for families to enjoy the play facilities as well as the food and drink on offer\, while the 30 minutes in between will give staff the opportunity to clean and tidy the facilities to ensure that we provide the best possible customer experience. \nThe maximum capacity for each slot is 25 children. They encourage you to book online as places for each session fill up fast. If you arrive without a booking you can pay to enter at the front desk\, but only if there are spaces available for that session. You can book via the link below. \nPrices\n0-6 months – FREE\n7-11 month – £5.50\n1+ years – £9.00\n​Adults – FREE \nSession Times\nMonday – Friday\nSlot 1:  9.30am – 11am\nSlot 2:  11.30am – 3pm (stay for 90 minutes at any time within these times)\nSlot 3:  3.30pm – 5pm \nSaturday Mornings\nSlot 1:  9am – 10.30am\nSlot 2:  11am – 12.30am \nhttps://www.cheekychopsplaycafe.co.uk
URL:https://richmondtwickenhamfamilyhub.com/event/cheeky-chops-play-cafe-0-5yrs-twickenham-2/2025-11-19/
LOCATION:Cheeky Chops Play Cafe\, 37-39 York Street\, Twickenham\, TW1 3LP\, United Kingdom
CATEGORIES:Kids Activities
END:VEVENT
BEGIN:VEVENT
DTSTART;TZID=Europe/London:20251119T153000
DTEND;TZID=Europe/London:20251119T170000
DTSTAMP:20260426T053803
CREATED:20250927T170559Z
LAST-MODIFIED:20250927T170559Z
UID:10019663-1763566200-1763571600@richmondtwickenhamfamilyhub.com
SUMMARY:Junior Youth Club (9-11yrs) – Barnes
DESCRIPTION:For children in years 5 and 6. Providing a mix of team games\, cooking\, arts and crafts and the occasional Play Station challenges! Delivered by members of our Youth Team and supported by young volunteers. The session is free and made possible by the support of The Richmond Parish Lands Charity. TERM TIME ONLY. \nhttps://www.castelnaucentreproject.co.uk/groups/junior-youth-club/
URL:https://richmondtwickenhamfamilyhub.com/event/junior-youth-club-9-11yrs-barnes-2/2025-11-19/
LOCATION:Castlenau Communiy Centre\, 7 Stillingfleet Road\, Barnes\, SW13 9AQ\, United Kingdom
CATEGORIES:Kids Activities
END:VEVENT
BEGIN:VEVENT
DTSTART;TZID=Europe/London:20251120T093000
DTEND;TZID=Europe/London:20251120T170000
DTSTAMP:20260426T053803
CREATED:20250927T165503Z
LAST-MODIFIED:20250927T165503Z
UID:10019503-1763631000-1763658000@richmondtwickenhamfamilyhub.com
SUMMARY:Cheeky Chops Play Cafe (0-5yrs) – Twickenham
DESCRIPTION:A family-run play café designed to provide a quality experience for the whole family – with modern\, stimulating and challenging play for children aged 0-5 years as well as a clean and comfortable café area for adults serving high quality coffee and cakes. \nThere are three play sessions available to book on weekdays and two on a Saturday morning. Each session allows 90 minutes for families to enjoy the play facilities as well as the food and drink on offer\, while the 30 minutes in between will give staff the opportunity to clean and tidy the facilities to ensure that we provide the best possible customer experience. \nThe maximum capacity for each slot is 25 children. They encourage you to book online as places for each session fill up fast. If you arrive without a booking you can pay to enter at the front desk\, but only if there are spaces available for that session. You can book via the link below. \nPrices\n0-6 months – FREE\n7-11 month – £5.50\n1+ years – £9.00\n​Adults – FREE \nSession Times\nMonday – Friday\nSlot 1:  9.30am – 11am\nSlot 2:  11.30am – 3pm (stay for 90 minutes at any time within these times)\nSlot 3:  3.30pm – 5pm \nSaturday Mornings\nSlot 1:  9am – 10.30am\nSlot 2:  11am – 12.30am \nhttps://www.cheekychopsplaycafe.co.uk
URL:https://richmondtwickenhamfamilyhub.com/event/cheeky-chops-play-cafe-0-5yrs-twickenham-2/2025-11-20/
LOCATION:Cheeky Chops Play Cafe\, 37-39 York Street\, Twickenham\, TW1 3LP\, United Kingdom
CATEGORIES:Kids Activities
END:VEVENT
BEGIN:VEVENT
DTSTART;TZID=Europe/London:20251120T153000
DTEND;TZID=Europe/London:20251120T170000
DTSTAMP:20260426T053803
CREATED:20250927T170328Z
LAST-MODIFIED:20250927T170441Z
UID:10019647-1763652600-1763658000@richmondtwickenhamfamilyhub.com
SUMMARY:Community Children's Club (4-8yrs) – Barnes
DESCRIPTION:For children in school years Reception to Year 2 (Thursday)\, and Years 3-4 (Tuesday) offering different play opportunities\,sports\, art\, crafts and games. These sessions are FREE. TERM TIME ONLY. \nThe Community Children’s Club is made possible via funding from the Richmond Parish Lands Charity. \nhttps://www.castelnaucentreproject.co.uk/groups/community-childrens-club/
URL:https://richmondtwickenhamfamilyhub.com/event/community-childrens-club-4-8yrs-barnes/2025-11-20/
LOCATION:Castlenau Communiy Centre\, 7 Stillingfleet Road\, Barnes\, SW13 9AQ\, United Kingdom
CATEGORIES:Kids Activities
END:VEVENT
BEGIN:VEVENT
DTSTART;TZID=Europe/London:20251121T093000
DTEND;TZID=Europe/London:20251121T170000
DTSTAMP:20260426T053803
CREATED:20250927T165503Z
LAST-MODIFIED:20250927T165503Z
UID:10019504-1763717400-1763744400@richmondtwickenhamfamilyhub.com
SUMMARY:Cheeky Chops Play Cafe (0-5yrs) – Twickenham
DESCRIPTION:A family-run play café designed to provide a quality experience for the whole family – with modern\, stimulating and challenging play for children aged 0-5 years as well as a clean and comfortable café area for adults serving high quality coffee and cakes. \nThere are three play sessions available to book on weekdays and two on a Saturday morning. Each session allows 90 minutes for families to enjoy the play facilities as well as the food and drink on offer\, while the 30 minutes in between will give staff the opportunity to clean and tidy the facilities to ensure that we provide the best possible customer experience. \nThe maximum capacity for each slot is 25 children. They encourage you to book online as places for each session fill up fast. If you arrive without a booking you can pay to enter at the front desk\, but only if there are spaces available for that session. You can book via the link below. \nPrices\n0-6 months – FREE\n7-11 month – £5.50\n1+ years – £9.00\n​Adults – FREE \nSession Times\nMonday – Friday\nSlot 1:  9.30am – 11am\nSlot 2:  11.30am – 3pm (stay for 90 minutes at any time within these times)\nSlot 3:  3.30pm – 5pm \nSaturday Mornings\nSlot 1:  9am – 10.30am\nSlot 2:  11am – 12.30am \nhttps://www.cheekychopsplaycafe.co.uk
URL:https://richmondtwickenhamfamilyhub.com/event/cheeky-chops-play-cafe-0-5yrs-twickenham-2/2025-11-21/
LOCATION:Cheeky Chops Play Cafe\, 37-39 York Street\, Twickenham\, TW1 3LP\, United Kingdom
CATEGORIES:Kids Activities
END:VEVENT
BEGIN:VEVENT
DTSTART;TZID=Europe/London:20251122T090000
DTEND;TZID=Europe/London:20251122T123000
DTSTAMP:20260426T053803
CREATED:20250927T165646Z
LAST-MODIFIED:20250927T165646Z
UID:10019554-1763802000-1763814600@richmondtwickenhamfamilyhub.com
SUMMARY:Cheeky Chops Play Cafe (0-5yrs) – Twickenham
DESCRIPTION:A family-run play café designed to provide a quality experience for the whole family – with modern\, stimulating and challenging play for children aged 0-5 years as well as a clean and comfortable café area for adults serving high quality coffee and cakes. \nThere are three play sessions available to book on weekdays and two on a Saturday morning. Each session allows 90 minutes for families to enjoy the play facilities as well as the food and drink on offer\, while the 30 minutes in between will give staff the opportunity to clean and tidy the facilities to ensure that we provide the best possible customer experience. \nThe maximum capacity for each slot is 25 children. They encourage you to book online as places for each session fill up fast. If you arrive without a booking you can pay to enter at the front desk\, but only if there are spaces available for that session. You can book via the link below. \nPrices\n0-6 months – FREE\n7-11 months – £5.50\n1+ years – £9.00\n​Adults – FREE \nSession Times\nMonday – Friday\nSlot 1:  9.30am – 11am\nSlot 2:  11.30am – 3pm (stay for 90 minutes at any time within these times)\nSlot 3:  3.30pm – 5pm \nSaturday Mornings\nSlot 1:  9am – 10.30am\nSlot 2:  11am – 12.30am \nhttps://www.cheekychopsplaycafe.co.uk
URL:https://richmondtwickenhamfamilyhub.com/event/cheeky-chops-play-cafe-0-5yrs-twickenham-3/2025-11-22/
LOCATION:Cheeky Chops Play Cafe\, 37-39 York Street\, Twickenham\, TW1 3LP\, United Kingdom
CATEGORIES:Kids Activities
END:VEVENT
BEGIN:VEVENT
DTSTART;TZID=Europe/London:20251122T103000
DTEND;TZID=Europe/London:20251122T160000
DTSTAMP:20260426T053803
CREATED:20250324T121627Z
LAST-MODIFIED:20250324T121627Z
UID:10017031-1763807400-1763827200@richmondtwickenhamfamilyhub.com
SUMMARY:Weekend Of Steam – Hampton Kempton Waterworks Railway
DESCRIPTION:(Advanced Booking Advised)\nEnjoy a weekend of steam featuring ‘Darent’ the 1903 steam locomotive. Kempton Steam Museum\, next door to the railway is also open where you’ll have the opportunity to see the world’s largest working steam engines\, high as four stacked double-decker buses working and ‘in steam.’ It’s free parking and there’s a lovely picnic field with play train. Drinks & Snacks available. Not to be missed. £2.50 children (under 3s free) & £4.50 adults. Book train and museum tickets separately. Visit Kempton Steam Museum for details. \nhttps://hamptonkemptonrailway.org.uk/special-events-2025/ \n 
URL:https://richmondtwickenhamfamilyhub.com/event/weekend-of-steam-hampton-kempton-waterworks-railway-2/2025-11-22/
LOCATION:Hampton Kempton Waterworks Railway\, Snakey Lane\, Hanworth\, TW13 6XH\, United Kingdom
CATEGORIES:Kids Activities
END:VEVENT
BEGIN:VEVENT
DTSTART;TZID=Europe/London:20251123T090000
DTEND;TZID=Europe/London:20251123T123000
DTSTAMP:20260426T053803
CREATED:20250927T165646Z
LAST-MODIFIED:20250927T165646Z
UID:10019555-1763888400-1763901000@richmondtwickenhamfamilyhub.com
SUMMARY:Cheeky Chops Play Cafe (0-5yrs) – Twickenham
DESCRIPTION:A family-run play café designed to provide a quality experience for the whole family – with modern\, stimulating and challenging play for children aged 0-5 years as well as a clean and comfortable café area for adults serving high quality coffee and cakes. \nThere are three play sessions available to book on weekdays and two on a Saturday morning. Each session allows 90 minutes for families to enjoy the play facilities as well as the food and drink on offer\, while the 30 minutes in between will give staff the opportunity to clean and tidy the facilities to ensure that we provide the best possible customer experience. \nThe maximum capacity for each slot is 25 children. They encourage you to book online as places for each session fill up fast. If you arrive without a booking you can pay to enter at the front desk\, but only if there are spaces available for that session. You can book via the link below. \nPrices\n0-6 months – FREE\n7-11 months – £5.50\n1+ years – £9.00\n​Adults – FREE \nSession Times\nMonday – Friday\nSlot 1:  9.30am – 11am\nSlot 2:  11.30am – 3pm (stay for 90 minutes at any time within these times)\nSlot 3:  3.30pm – 5pm \nSaturday Mornings\nSlot 1:  9am – 10.30am\nSlot 2:  11am – 12.30am \nhttps://www.cheekychopsplaycafe.co.uk
URL:https://richmondtwickenhamfamilyhub.com/event/cheeky-chops-play-cafe-0-5yrs-twickenham-3/2025-11-23/
LOCATION:Cheeky Chops Play Cafe\, 37-39 York Street\, Twickenham\, TW1 3LP\, United Kingdom
CATEGORIES:Kids Activities
END:VEVENT
BEGIN:VEVENT
DTSTART;TZID=Europe/London:20251123T103000
DTEND;TZID=Europe/London:20251123T160000
DTSTAMP:20260426T053803
CREATED:20250324T121627Z
LAST-MODIFIED:20250324T121627Z
UID:10017032-1763893800-1763913600@richmondtwickenhamfamilyhub.com
SUMMARY:Weekend Of Steam – Hampton Kempton Waterworks Railway
DESCRIPTION:(Advanced Booking Advised)\nEnjoy a weekend of steam featuring ‘Darent’ the 1903 steam locomotive. Kempton Steam Museum\, next door to the railway is also open where you’ll have the opportunity to see the world’s largest working steam engines\, high as four stacked double-decker buses working and ‘in steam.’ It’s free parking and there’s a lovely picnic field with play train. Drinks & Snacks available. Not to be missed. £2.50 children (under 3s free) & £4.50 adults. Book train and museum tickets separately. Visit Kempton Steam Museum for details. \nhttps://hamptonkemptonrailway.org.uk/special-events-2025/ \n 
URL:https://richmondtwickenhamfamilyhub.com/event/weekend-of-steam-hampton-kempton-waterworks-railway-2/2025-11-23/
LOCATION:Hampton Kempton Waterworks Railway\, Snakey Lane\, Hanworth\, TW13 6XH\, United Kingdom
CATEGORIES:Kids Activities
END:VEVENT
END:VCALENDAR