BEGIN:VCALENDAR
VERSION:2.0
PRODID:-//Family Hub - ECPv6.15.20//NONSGML v1.0//EN
CALSCALE:GREGORIAN
METHOD:PUBLISH
X-WR-CALNAME:Family Hub
X-ORIGINAL-URL:https://richmondtwickenhamfamilyhub.com
X-WR-CALDESC:Events for Family Hub
REFRESH-INTERVAL;VALUE=DURATION:PT1H
X-Robots-Tag:noindex
X-PUBLISHED-TTL:PT1H
BEGIN:VTIMEZONE
TZID:Europe/London
BEGIN:DAYLIGHT
TZOFFSETFROM:+0000
TZOFFSETTO:+0100
TZNAME:BST
DTSTART:20240331T010000
END:DAYLIGHT
BEGIN:STANDARD
TZOFFSETFROM:+0100
TZOFFSETTO:+0000
TZNAME:GMT
DTSTART:20241027T010000
END:STANDARD
BEGIN:DAYLIGHT
TZOFFSETFROM:+0000
TZOFFSETTO:+0100
TZNAME:BST
DTSTART:20250330T010000
END:DAYLIGHT
BEGIN:STANDARD
TZOFFSETFROM:+0100
TZOFFSETTO:+0000
TZNAME:GMT
DTSTART:20251026T010000
END:STANDARD
BEGIN:DAYLIGHT
TZOFFSETFROM:+0000
TZOFFSETTO:+0100
TZNAME:BST
DTSTART:20260329T010000
END:DAYLIGHT
BEGIN:STANDARD
TZOFFSETFROM:+0100
TZOFFSETTO:+0000
TZNAME:GMT
DTSTART:20261025T010000
END:STANDARD
END:VTIMEZONE
BEGIN:VEVENT
DTSTART;TZID=Europe/London:20251201T093000
DTEND;TZID=Europe/London:20251201T170000
DTSTAMP:20260426T032751
CREATED:20250927T165503Z
LAST-MODIFIED:20250927T165503Z
UID:10019510-1764581400-1764608400@richmondtwickenhamfamilyhub.com
SUMMARY:Cheeky Chops Play Cafe (0-5yrs) – Twickenham
DESCRIPTION:A family-run play café designed to provide a quality experience for the whole family – with modern\, stimulating and challenging play for children aged 0-5 years as well as a clean and comfortable café area for adults serving high quality coffee and cakes. \nThere are three play sessions available to book on weekdays and two on a Saturday morning. Each session allows 90 minutes for families to enjoy the play facilities as well as the food and drink on offer\, while the 30 minutes in between will give staff the opportunity to clean and tidy the facilities to ensure that we provide the best possible customer experience. \nThe maximum capacity for each slot is 25 children. They encourage you to book online as places for each session fill up fast. If you arrive without a booking you can pay to enter at the front desk\, but only if there are spaces available for that session. You can book via the link below. \nPrices\n0-6 months – FREE\n7-11 month – £5.50\n1+ years – £9.00\n​Adults – FREE \nSession Times\nMonday – Friday\nSlot 1:  9.30am – 11am\nSlot 2:  11.30am – 3pm (stay for 90 minutes at any time within these times)\nSlot 3:  3.30pm – 5pm \nSaturday Mornings\nSlot 1:  9am – 10.30am\nSlot 2:  11am – 12.30am \nhttps://www.cheekychopsplaycafe.co.uk
URL:https://richmondtwickenhamfamilyhub.com/event/cheeky-chops-play-cafe-0-5yrs-twickenham-2/2025-12-01/
LOCATION:Cheeky Chops Play Cafe\, 37-39 York Street\, Twickenham\, TW1 3LP\, United Kingdom
CATEGORIES:Kids Activities
END:VEVENT
BEGIN:VEVENT
DTSTART;TZID=Europe/London:20251202T093000
DTEND;TZID=Europe/London:20251202T170000
DTSTAMP:20260426T032751
CREATED:20250927T165503Z
LAST-MODIFIED:20250927T165503Z
UID:10019511-1764667800-1764694800@richmondtwickenhamfamilyhub.com
SUMMARY:Cheeky Chops Play Cafe (0-5yrs) – Twickenham
DESCRIPTION:A family-run play café designed to provide a quality experience for the whole family – with modern\, stimulating and challenging play for children aged 0-5 years as well as a clean and comfortable café area for adults serving high quality coffee and cakes. \nThere are three play sessions available to book on weekdays and two on a Saturday morning. Each session allows 90 minutes for families to enjoy the play facilities as well as the food and drink on offer\, while the 30 minutes in between will give staff the opportunity to clean and tidy the facilities to ensure that we provide the best possible customer experience. \nThe maximum capacity for each slot is 25 children. They encourage you to book online as places for each session fill up fast. If you arrive without a booking you can pay to enter at the front desk\, but only if there are spaces available for that session. You can book via the link below. \nPrices\n0-6 months – FREE\n7-11 month – £5.50\n1+ years – £9.00\n​Adults – FREE \nSession Times\nMonday – Friday\nSlot 1:  9.30am – 11am\nSlot 2:  11.30am – 3pm (stay for 90 minutes at any time within these times)\nSlot 3:  3.30pm – 5pm \nSaturday Mornings\nSlot 1:  9am – 10.30am\nSlot 2:  11am – 12.30am \nhttps://www.cheekychopsplaycafe.co.uk
URL:https://richmondtwickenhamfamilyhub.com/event/cheeky-chops-play-cafe-0-5yrs-twickenham-2/2025-12-02/
LOCATION:Cheeky Chops Play Cafe\, 37-39 York Street\, Twickenham\, TW1 3LP\, United Kingdom
CATEGORIES:Kids Activities
END:VEVENT
BEGIN:VEVENT
DTSTART;TZID=Europe/London:20251202T153000
DTEND;TZID=Europe/London:20251202T170000
DTSTAMP:20260426T032751
CREATED:20250927T170328Z
LAST-MODIFIED:20250927T170441Z
UID:10019650-1764689400-1764694800@richmondtwickenhamfamilyhub.com
SUMMARY:Community Children's Club (4-8yrs) – Barnes
DESCRIPTION:For children in school years Reception to Year 2 (Thursday)\, and Years 3-4 (Tuesday) offering different play opportunities\,sports\, art\, crafts and games. These sessions are FREE. TERM TIME ONLY. \nThe Community Children’s Club is made possible via funding from the Richmond Parish Lands Charity. \nhttps://www.castelnaucentreproject.co.uk/groups/community-childrens-club/
URL:https://richmondtwickenhamfamilyhub.com/event/community-childrens-club-4-8yrs-barnes/2025-12-02/
LOCATION:Castlenau Communiy Centre\, 7 Stillingfleet Road\, Barnes\, SW13 9AQ\, United Kingdom
CATEGORIES:Kids Activities
END:VEVENT
BEGIN:VEVENT
DTSTART;TZID=Europe/London:20251203T093000
DTEND;TZID=Europe/London:20251203T170000
DTSTAMP:20260426T032751
CREATED:20250927T165503Z
LAST-MODIFIED:20250927T165503Z
UID:10019512-1764754200-1764781200@richmondtwickenhamfamilyhub.com
SUMMARY:Cheeky Chops Play Cafe (0-5yrs) – Twickenham
DESCRIPTION:A family-run play café designed to provide a quality experience for the whole family – with modern\, stimulating and challenging play for children aged 0-5 years as well as a clean and comfortable café area for adults serving high quality coffee and cakes. \nThere are three play sessions available to book on weekdays and two on a Saturday morning. Each session allows 90 minutes for families to enjoy the play facilities as well as the food and drink on offer\, while the 30 minutes in between will give staff the opportunity to clean and tidy the facilities to ensure that we provide the best possible customer experience. \nThe maximum capacity for each slot is 25 children. They encourage you to book online as places for each session fill up fast. If you arrive without a booking you can pay to enter at the front desk\, but only if there are spaces available for that session. You can book via the link below. \nPrices\n0-6 months – FREE\n7-11 month – £5.50\n1+ years – £9.00\n​Adults – FREE \nSession Times\nMonday – Friday\nSlot 1:  9.30am – 11am\nSlot 2:  11.30am – 3pm (stay for 90 minutes at any time within these times)\nSlot 3:  3.30pm – 5pm \nSaturday Mornings\nSlot 1:  9am – 10.30am\nSlot 2:  11am – 12.30am \nhttps://www.cheekychopsplaycafe.co.uk
URL:https://richmondtwickenhamfamilyhub.com/event/cheeky-chops-play-cafe-0-5yrs-twickenham-2/2025-12-03/
LOCATION:Cheeky Chops Play Cafe\, 37-39 York Street\, Twickenham\, TW1 3LP\, United Kingdom
CATEGORIES:Kids Activities
END:VEVENT
BEGIN:VEVENT
DTSTART;TZID=Europe/London:20251203T153000
DTEND;TZID=Europe/London:20251203T170000
DTSTAMP:20260426T032751
CREATED:20250927T170559Z
LAST-MODIFIED:20250927T170559Z
UID:10019665-1764775800-1764781200@richmondtwickenhamfamilyhub.com
SUMMARY:Junior Youth Club (9-11yrs) – Barnes
DESCRIPTION:For children in years 5 and 6. Providing a mix of team games\, cooking\, arts and crafts and the occasional Play Station challenges! Delivered by members of our Youth Team and supported by young volunteers. The session is free and made possible by the support of The Richmond Parish Lands Charity. TERM TIME ONLY. \nhttps://www.castelnaucentreproject.co.uk/groups/junior-youth-club/
URL:https://richmondtwickenhamfamilyhub.com/event/junior-youth-club-9-11yrs-barnes-2/2025-12-03/
LOCATION:Castlenau Communiy Centre\, 7 Stillingfleet Road\, Barnes\, SW13 9AQ\, United Kingdom
CATEGORIES:Kids Activities
END:VEVENT
BEGIN:VEVENT
DTSTART;TZID=Europe/London:20251204T093000
DTEND;TZID=Europe/London:20251204T170000
DTSTAMP:20260426T032751
CREATED:20250927T165503Z
LAST-MODIFIED:20250927T165503Z
UID:10019513-1764840600-1764867600@richmondtwickenhamfamilyhub.com
SUMMARY:Cheeky Chops Play Cafe (0-5yrs) – Twickenham
DESCRIPTION:A family-run play café designed to provide a quality experience for the whole family – with modern\, stimulating and challenging play for children aged 0-5 years as well as a clean and comfortable café area for adults serving high quality coffee and cakes. \nThere are three play sessions available to book on weekdays and two on a Saturday morning. Each session allows 90 minutes for families to enjoy the play facilities as well as the food and drink on offer\, while the 30 minutes in between will give staff the opportunity to clean and tidy the facilities to ensure that we provide the best possible customer experience. \nThe maximum capacity for each slot is 25 children. They encourage you to book online as places for each session fill up fast. If you arrive without a booking you can pay to enter at the front desk\, but only if there are spaces available for that session. You can book via the link below. \nPrices\n0-6 months – FREE\n7-11 month – £5.50\n1+ years – £9.00\n​Adults – FREE \nSession Times\nMonday – Friday\nSlot 1:  9.30am – 11am\nSlot 2:  11.30am – 3pm (stay for 90 minutes at any time within these times)\nSlot 3:  3.30pm – 5pm \nSaturday Mornings\nSlot 1:  9am – 10.30am\nSlot 2:  11am – 12.30am \nhttps://www.cheekychopsplaycafe.co.uk
URL:https://richmondtwickenhamfamilyhub.com/event/cheeky-chops-play-cafe-0-5yrs-twickenham-2/2025-12-04/
LOCATION:Cheeky Chops Play Cafe\, 37-39 York Street\, Twickenham\, TW1 3LP\, United Kingdom
CATEGORIES:Kids Activities
END:VEVENT
BEGIN:VEVENT
DTSTART;TZID=Europe/London:20251204T153000
DTEND;TZID=Europe/London:20251204T170000
DTSTAMP:20260426T032751
CREATED:20250927T170328Z
LAST-MODIFIED:20250927T170441Z
UID:10019651-1764862200-1764867600@richmondtwickenhamfamilyhub.com
SUMMARY:Community Children's Club (4-8yrs) – Barnes
DESCRIPTION:For children in school years Reception to Year 2 (Thursday)\, and Years 3-4 (Tuesday) offering different play opportunities\,sports\, art\, crafts and games. These sessions are FREE. TERM TIME ONLY. \nThe Community Children’s Club is made possible via funding from the Richmond Parish Lands Charity. \nhttps://www.castelnaucentreproject.co.uk/groups/community-childrens-club/
URL:https://richmondtwickenhamfamilyhub.com/event/community-childrens-club-4-8yrs-barnes/2025-12-04/
LOCATION:Castlenau Communiy Centre\, 7 Stillingfleet Road\, Barnes\, SW13 9AQ\, United Kingdom
CATEGORIES:Kids Activities
END:VEVENT
BEGIN:VEVENT
DTSTART;TZID=Europe/London:20251205T093000
DTEND;TZID=Europe/London:20251205T170000
DTSTAMP:20260426T032751
CREATED:20250927T165503Z
LAST-MODIFIED:20250927T165503Z
UID:10019514-1764927000-1764954000@richmondtwickenhamfamilyhub.com
SUMMARY:Cheeky Chops Play Cafe (0-5yrs) – Twickenham
DESCRIPTION:A family-run play café designed to provide a quality experience for the whole family – with modern\, stimulating and challenging play for children aged 0-5 years as well as a clean and comfortable café area for adults serving high quality coffee and cakes. \nThere are three play sessions available to book on weekdays and two on a Saturday morning. Each session allows 90 minutes for families to enjoy the play facilities as well as the food and drink on offer\, while the 30 minutes in between will give staff the opportunity to clean and tidy the facilities to ensure that we provide the best possible customer experience. \nThe maximum capacity for each slot is 25 children. They encourage you to book online as places for each session fill up fast. If you arrive without a booking you can pay to enter at the front desk\, but only if there are spaces available for that session. You can book via the link below. \nPrices\n0-6 months – FREE\n7-11 month – £5.50\n1+ years – £9.00\n​Adults – FREE \nSession Times\nMonday – Friday\nSlot 1:  9.30am – 11am\nSlot 2:  11.30am – 3pm (stay for 90 minutes at any time within these times)\nSlot 3:  3.30pm – 5pm \nSaturday Mornings\nSlot 1:  9am – 10.30am\nSlot 2:  11am – 12.30am \nhttps://www.cheekychopsplaycafe.co.uk
URL:https://richmondtwickenhamfamilyhub.com/event/cheeky-chops-play-cafe-0-5yrs-twickenham-2/2025-12-05/
LOCATION:Cheeky Chops Play Cafe\, 37-39 York Street\, Twickenham\, TW1 3LP\, United Kingdom
CATEGORIES:Kids Activities
END:VEVENT
BEGIN:VEVENT
DTSTART;TZID=Europe/London:20251206T090000
DTEND;TZID=Europe/London:20251206T123000
DTSTAMP:20260426T032751
CREATED:20250927T165646Z
LAST-MODIFIED:20250927T165646Z
UID:10019558-1765011600-1765024200@richmondtwickenhamfamilyhub.com
SUMMARY:Cheeky Chops Play Cafe (0-5yrs) – Twickenham
DESCRIPTION:A family-run play café designed to provide a quality experience for the whole family – with modern\, stimulating and challenging play for children aged 0-5 years as well as a clean and comfortable café area for adults serving high quality coffee and cakes. \nThere are three play sessions available to book on weekdays and two on a Saturday morning. Each session allows 90 minutes for families to enjoy the play facilities as well as the food and drink on offer\, while the 30 minutes in between will give staff the opportunity to clean and tidy the facilities to ensure that we provide the best possible customer experience. \nThe maximum capacity for each slot is 25 children. They encourage you to book online as places for each session fill up fast. If you arrive without a booking you can pay to enter at the front desk\, but only if there are spaces available for that session. You can book via the link below. \nPrices\n0-6 months – FREE\n7-11 months – £5.50\n1+ years – £9.00\n​Adults – FREE \nSession Times\nMonday – Friday\nSlot 1:  9.30am – 11am\nSlot 2:  11.30am – 3pm (stay for 90 minutes at any time within these times)\nSlot 3:  3.30pm – 5pm \nSaturday Mornings\nSlot 1:  9am – 10.30am\nSlot 2:  11am – 12.30am \nhttps://www.cheekychopsplaycafe.co.uk
URL:https://richmondtwickenhamfamilyhub.com/event/cheeky-chops-play-cafe-0-5yrs-twickenham-3/2025-12-06/
LOCATION:Cheeky Chops Play Cafe\, 37-39 York Street\, Twickenham\, TW1 3LP\, United Kingdom
CATEGORIES:Kids Activities
END:VEVENT
BEGIN:VEVENT
DTSTART;TZID=Europe/London:20251207T090000
DTEND;TZID=Europe/London:20251207T100000
DTSTAMP:20260426T032751
CREATED:20250120T160135Z
LAST-MODIFIED:20250120T160135Z
UID:10015482-1765098000-1765101600@richmondtwickenhamfamilyhub.com
SUMMARY:Junior Parkrun (4-14yrs) – Bushy Park
DESCRIPTION:A 2k event for juniors only (4 to 14 year olds). ​ \nIt is held on the first Sunday of every month at 9:00am. \nThe event takes place in Bushy Park\, Hampton Court Road\, East Molesey\, Ricmond\, TW11 0EQ. See Course page for more details. \nStarting on the grass near the Diana Fountain\, the runners will head towards Teddington Gate for 1km keeping a line of trees on their left\, before making the turn and heading back keeping the line of trees on their left again\, to the finish which is in the same place as the start. \nIt’s free! but please register before your first visit. Only ever register with parkrun once. Don’t forget to take a printed copy of your barcode. \nHow fast do you have to be? The aim is to have fun. Please go along and join in whatever your pace! \nEvery week they grab a post parkrun coffee in one of the two cafes in Bushy park. A van in the Diana Fountain carpark or the Pheasantry Welcome centre about 400m from the start point – please go and join them! \nhttps://www.parkrun.org.uk/bushy-juniors/
URL:https://richmondtwickenhamfamilyhub.com/event/junior-parkrun-4-14yrs-bushy-park/2025-12-07/
LOCATION:Bushy Park\, United Kingdom
CATEGORIES:Kids Activities
END:VEVENT
BEGIN:VEVENT
DTSTART;TZID=Europe/London:20251207T090000
DTEND;TZID=Europe/London:20251207T123000
DTSTAMP:20260426T032751
CREATED:20250927T165646Z
LAST-MODIFIED:20250927T165646Z
UID:10019559-1765098000-1765110600@richmondtwickenhamfamilyhub.com
SUMMARY:Cheeky Chops Play Cafe (0-5yrs) – Twickenham
DESCRIPTION:A family-run play café designed to provide a quality experience for the whole family – with modern\, stimulating and challenging play for children aged 0-5 years as well as a clean and comfortable café area for adults serving high quality coffee and cakes. \nThere are three play sessions available to book on weekdays and two on a Saturday morning. Each session allows 90 minutes for families to enjoy the play facilities as well as the food and drink on offer\, while the 30 minutes in between will give staff the opportunity to clean and tidy the facilities to ensure that we provide the best possible customer experience. \nThe maximum capacity for each slot is 25 children. They encourage you to book online as places for each session fill up fast. If you arrive without a booking you can pay to enter at the front desk\, but only if there are spaces available for that session. You can book via the link below. \nPrices\n0-6 months – FREE\n7-11 months – £5.50\n1+ years – £9.00\n​Adults – FREE \nSession Times\nMonday – Friday\nSlot 1:  9.30am – 11am\nSlot 2:  11.30am – 3pm (stay for 90 minutes at any time within these times)\nSlot 3:  3.30pm – 5pm \nSaturday Mornings\nSlot 1:  9am – 10.30am\nSlot 2:  11am – 12.30am \nhttps://www.cheekychopsplaycafe.co.uk
URL:https://richmondtwickenhamfamilyhub.com/event/cheeky-chops-play-cafe-0-5yrs-twickenham-3/2025-12-07/
LOCATION:Cheeky Chops Play Cafe\, 37-39 York Street\, Twickenham\, TW1 3LP\, United Kingdom
CATEGORIES:Kids Activities
END:VEVENT
END:VCALENDAR