BEGIN:VCALENDAR
VERSION:2.0
PRODID:-//Family Hub - ECPv6.15.20//NONSGML v1.0//EN
CALSCALE:GREGORIAN
METHOD:PUBLISH
X-ORIGINAL-URL:https://richmondtwickenhamfamilyhub.com
X-WR-CALDESC:Events for Family Hub
REFRESH-INTERVAL;VALUE=DURATION:PT1H
X-Robots-Tag:noindex
X-PUBLISHED-TTL:PT1H
BEGIN:VTIMEZONE
TZID:Europe/London
BEGIN:DAYLIGHT
TZOFFSETFROM:+0000
TZOFFSETTO:+0100
TZNAME:BST
DTSTART:20240331T010000
END:DAYLIGHT
BEGIN:STANDARD
TZOFFSETFROM:+0100
TZOFFSETTO:+0000
TZNAME:GMT
DTSTART:20241027T010000
END:STANDARD
BEGIN:DAYLIGHT
TZOFFSETFROM:+0000
TZOFFSETTO:+0100
TZNAME:BST
DTSTART:20250330T010000
END:DAYLIGHT
BEGIN:STANDARD
TZOFFSETFROM:+0100
TZOFFSETTO:+0000
TZNAME:GMT
DTSTART:20251026T010000
END:STANDARD
BEGIN:DAYLIGHT
TZOFFSETFROM:+0000
TZOFFSETTO:+0100
TZNAME:BST
DTSTART:20260329T010000
END:DAYLIGHT
BEGIN:STANDARD
TZOFFSETFROM:+0100
TZOFFSETTO:+0000
TZNAME:GMT
DTSTART:20261025T010000
END:STANDARD
END:VTIMEZONE
BEGIN:VEVENT
DTSTART;TZID=Europe/London:20251025T103000
DTEND;TZID=Europe/London:20251025T111000
DTSTAMP:20260425T162036
CREATED:20250908T152450Z
LAST-MODIFIED:20250908T152450Z
UID:10019230-1761388200-1761390600@richmondtwickenhamfamilyhub.com
SUMMARY:Children's Theatre: The Very Busy Bumblebee – OSO\, Barnes
DESCRIPTION:Mr. Grumpy the Gardener is a litter bug! When he is finished with his sandwich bag and coffee cup he just throws it on the ground! Mr Grumpy also doesn’t like bees. He doesn’t like them buzzing or flying round his head\, and he’s always worried they will sting him. But Beatrice the Very Busy Bumblebee wants to whizz from flower to flower\, collect nectar and make lovely sweet honey\, and she certainly doesn’t want rubbish in her way. Can Beatrice teach Mr. Grumpy how important she is for the garden and for the whole world?  \nWith themes of friendship and sustainability\, this sweet\, funny show is the perfect introduction to live ballet and helps children understand just how important our little yellow and black furry friends really are!  \nWith larger than life characters\, crystal clear storytelling and fabulous dancing\, The Let’s All Dance Ballet Company creates beautifully engaging shows for young and family audiences. \n\n\n\n\nhttps://osoarts.ticketsolve.com/ticketbooth/shows/1173665589
URL:https://richmondtwickenhamfamilyhub.com/event/childrens-theatre-the-very-busy-bumblebee-oso-barnes/2025-10-25/
LOCATION:OSO Arts Centre\, 49 Station Road (entrance by the pond)\, Barnes\, SW13 0LF\, United Kingdom
CATEGORIES:Theatre / Concerts
END:VEVENT
END:VCALENDAR