BEGIN:VCALENDAR
VERSION:2.0
PRODID:-//Family Hub - ECPv6.15.20//NONSGML v1.0//EN
CALSCALE:GREGORIAN
METHOD:PUBLISH
X-WR-CALNAME:Family Hub
X-ORIGINAL-URL:https://richmondtwickenhamfamilyhub.com
X-WR-CALDESC:Events for Family Hub
REFRESH-INTERVAL;VALUE=DURATION:PT1H
X-Robots-Tag:noindex
X-PUBLISHED-TTL:PT1H
BEGIN:VTIMEZONE
TZID:Europe/London
BEGIN:DAYLIGHT
TZOFFSETFROM:+0000
TZOFFSETTO:+0100
TZNAME:BST
DTSTART:20240331T010000
END:DAYLIGHT
BEGIN:STANDARD
TZOFFSETFROM:+0100
TZOFFSETTO:+0000
TZNAME:GMT
DTSTART:20241027T010000
END:STANDARD
BEGIN:DAYLIGHT
TZOFFSETFROM:+0000
TZOFFSETTO:+0100
TZNAME:BST
DTSTART:20250330T010000
END:DAYLIGHT
BEGIN:STANDARD
TZOFFSETFROM:+0100
TZOFFSETTO:+0000
TZNAME:GMT
DTSTART:20251026T010000
END:STANDARD
BEGIN:DAYLIGHT
TZOFFSETFROM:+0000
TZOFFSETTO:+0100
TZNAME:BST
DTSTART:20260329T010000
END:DAYLIGHT
BEGIN:STANDARD
TZOFFSETFROM:+0100
TZOFFSETTO:+0000
TZNAME:GMT
DTSTART:20261025T010000
END:STANDARD
END:VTIMEZONE
BEGIN:VEVENT
DTSTART;TZID=Europe/London:20251208T160000
DTEND;TZID=Europe/London:20251208T164500
DTSTAMP:20260425T151701
CREATED:20251201T104313Z
LAST-MODIFIED:20251201T104313Z
UID:10020720-1765209600-1765212300@richmondtwickenhamfamilyhub.com
SUMMARY:Baby Gospel Christmas Family Concert – Hammersmith
DESCRIPTION:Baby Gospel returns for a Christmas special! An uplifting family concert of soul\, gospel and festive music\, featuring the astonishing vocal talents of CK Gospel Choir\, a professional gospel choir based in London. \nThe whole family can enjoy singing and clapping along to Christmas favourites such as ‘Winter Wonderland’\, ‘Jingle Bells’ and carols like ‘Hark the Herald Angel Sing’. Plus the usual soul & motown hits\, Gospel songs\, nursery rhymes and bubbles! \nThis concert is baby-friendly and open to all ages from newborns to school age to grandparents. \nCK Gospel Choir are a versatile professional group from London who are united by their love of gospel music and have provided backing for artists such as Beverley Knight\, Peter Andre and Alfie Boe. \nTICKET INFORMATION \nAll ticket enquiries are handled by the venue Box Office: boxoffice@riversidestudios.co.uk / 020 8237 1010.\nAdults – £15\nChildren over 12m – £5\nBabies – FREE\nA £2 booking fee applies to each ticket \nAGE RECOMMENDATION \nOpen to all ages but recommended for ages 0–8yrs. Great fun for parents/carers and grandparents too! \nFURTHER INFORMATION  \nDoors open 15 minutes before start time. Concert lasts approximately 45 minutes. Seating is unallocated. \nAdults and children with additional needs are welcome. Please contact Baby Gospel for more information. \nhttps://babybroadway.co.uk/find-a-show-baby-gospel/
URL:https://richmondtwickenhamfamilyhub.com/event/baby-gospel-christmas-family-concert-hammersmith/
LOCATION:Riverside Studios\, 101 Queen Caroline Street\, Hammersmith\, W6 9BN\, United Kingdom
CATEGORIES:Theatre / Concerts
ATTACH;FMTTYPE=image/jpeg:https://richmondtwickenhamfamilyhub.com/wp-content/uploads/2025/12/GOSPELXMAS-hammersmith_800x445-800x445-1.jpg
END:VEVENT
END:VCALENDAR