BEGIN:VCALENDAR
VERSION:2.0
PRODID:-//Family Hub - ECPv6.15.20//NONSGML v1.0//EN
CALSCALE:GREGORIAN
METHOD:PUBLISH
X-WR-CALNAME:Family Hub
X-ORIGINAL-URL:https://richmondtwickenhamfamilyhub.com
X-WR-CALDESC:Events for Family Hub
REFRESH-INTERVAL;VALUE=DURATION:PT1H
X-Robots-Tag:noindex
X-PUBLISHED-TTL:PT1H
BEGIN:VTIMEZONE
TZID:Europe/London
BEGIN:DAYLIGHT
TZOFFSETFROM:+0000
TZOFFSETTO:+0100
TZNAME:BST
DTSTART:20240331T010000
END:DAYLIGHT
BEGIN:STANDARD
TZOFFSETFROM:+0100
TZOFFSETTO:+0000
TZNAME:GMT
DTSTART:20241027T010000
END:STANDARD
BEGIN:DAYLIGHT
TZOFFSETFROM:+0000
TZOFFSETTO:+0100
TZNAME:BST
DTSTART:20250330T010000
END:DAYLIGHT
BEGIN:STANDARD
TZOFFSETFROM:+0100
TZOFFSETTO:+0000
TZNAME:GMT
DTSTART:20251026T010000
END:STANDARD
BEGIN:DAYLIGHT
TZOFFSETFROM:+0000
TZOFFSETTO:+0100
TZNAME:BST
DTSTART:20260329T010000
END:DAYLIGHT
BEGIN:STANDARD
TZOFFSETFROM:+0100
TZOFFSETTO:+0000
TZNAME:GMT
DTSTART:20261025T010000
END:STANDARD
END:VTIMEZONE
BEGIN:VEVENT
DTSTART;TZID=Europe/London:20251219T110000
DTEND;TZID=Europe/London:20251219T114500
DTSTAMP:20260425T173741
CREATED:20251210T120359Z
LAST-MODIFIED:20251210T120359Z
UID:10020731-1766142000-1766144700@richmondtwickenhamfamilyhub.com
SUMMARY:Baby Broadway Christmas Family Concert – Hammersmith
DESCRIPTION:Have Yourself A Merry Little Christmas at a festive Baby Broadway concert this December! An interactive Christmas performance suitable for all ages. \nThe whole family can sing and dance along to seasonal showtunes from hit musicals and well-known songs from Christmas films\, all performed by West End singers. \nEnjoy numbers from Elf\, White Christmas\, The Snowman\, Frozen and many more.  Festive fancy dress is encouraged and – as well as singing\, clapping and dancing along – you can expect bubbles\, bells\, flying babies and puppetry! \nOpen to all ages from new-borns to school age to grandparents\, concerts last approximately 45 minutes\, doors open 15 minutes before start time. \nTICKET INFORMATION \nAll ticket enquiries are handled by the venue Box Office: boxoffice@riversidestudios.co.uk / 020 8237 1010\nAdults – £14.50\nChildren over 12m – £5\nBabies – FREE\nA £2 booking fee applies to all tickets \nAGE RECOMMENDATION \nOpen to all ages but we recommended for ages 0 – 7. Good fun for parents/carers and grandparents too! Children must be accompanied by an adult. \nVENUE & TRANSPORT \nRiverside Studios has baby changing and space to park buggies (although Baby Broadway always appreciates it if you can bring a sling to save space). \nFURTHER INFORMATION  \nDoors open 15-20 minutes before start time and latecomers can be admitted. Concert lasts approximately 45 minutes. \nBaby Broadway welcomes adults and children with additional needs. Please contact them for more information. \nhttps://babybroadway.co.uk/find-a-show/
URL:https://richmondtwickenhamfamilyhub.com/event/baby-broadway-christmas-family-concert-hammersmith/
LOCATION:Riverside Studios\, 101 Queen Caroline Street\, Hammersmith\, W6 9BN\, United Kingdom
CATEGORIES:Theatre / Concerts
ATTACH;FMTTYPE=image/jpeg:https://richmondtwickenhamfamilyhub.com/wp-content/uploads/2025/12/BROADAWAYXMAS_800x445-800x445-1.jpg
END:VEVENT
END:VCALENDAR