BEGIN:VCALENDAR
VERSION:2.0
PRODID:-//Family Hub - ECPv6.15.20//NONSGML v1.0//EN
CALSCALE:GREGORIAN
METHOD:PUBLISH
X-WR-CALNAME:Family Hub
X-ORIGINAL-URL:https://richmondtwickenhamfamilyhub.com
X-WR-CALDESC:Events for Family Hub
REFRESH-INTERVAL;VALUE=DURATION:PT1H
X-Robots-Tag:noindex
X-PUBLISHED-TTL:PT1H
BEGIN:VTIMEZONE
TZID:Europe/London
BEGIN:DAYLIGHT
TZOFFSETFROM:+0000
TZOFFSETTO:+0100
TZNAME:BST
DTSTART:20240331T010000
END:DAYLIGHT
BEGIN:STANDARD
TZOFFSETFROM:+0100
TZOFFSETTO:+0000
TZNAME:GMT
DTSTART:20241027T010000
END:STANDARD
BEGIN:DAYLIGHT
TZOFFSETFROM:+0000
TZOFFSETTO:+0100
TZNAME:BST
DTSTART:20250330T010000
END:DAYLIGHT
BEGIN:STANDARD
TZOFFSETFROM:+0100
TZOFFSETTO:+0000
TZNAME:GMT
DTSTART:20251026T010000
END:STANDARD
BEGIN:DAYLIGHT
TZOFFSETFROM:+0000
TZOFFSETTO:+0100
TZNAME:BST
DTSTART:20260329T010000
END:DAYLIGHT
BEGIN:STANDARD
TZOFFSETFROM:+0100
TZOFFSETTO:+0000
TZNAME:GMT
DTSTART:20261025T010000
END:STANDARD
BEGIN:DAYLIGHT
TZOFFSETFROM:+0000
TZOFFSETTO:+0100
TZNAME:BST
DTSTART:20270328T010000
END:DAYLIGHT
BEGIN:STANDARD
TZOFFSETFROM:+0100
TZOFFSETTO:+0000
TZNAME:GMT
DTSTART:20271031T010000
END:STANDARD
END:VTIMEZONE
BEGIN:VEVENT
DTSTART;TZID=Europe/London:20251217T110000
DTEND;TZID=Europe/London:20251217T114500
DTSTAMP:20260425T175022
CREATED:20251112T144054Z
LAST-MODIFIED:20251112T144342Z
UID:10020709-1765969200-1765971900@richmondtwickenhamfamilyhub.com
SUMMARY:Christmastide: Bach to Baby Festive Family Concert – Kew
DESCRIPTION:Experience the magic of live music with Bach to Baby – the acclaimed concert series for the whole family! \nAt the Bach to Baby concert\, my true love gave to me: Harp strings a-stirring\, four festive carols\, three scrumptious verses\, two holly sprigs\, and a musician with magic in her fingers! From Bach to carols\, this concert will ring in the Christmas cheer with every note. Gather ’round for a joyful\, harp-filled celebration of the season it’s Christmastide\, Bach to Baby style! \nTickets are £18 per adult – up to 2 kids go FREE per adult ticket! \nPlease check their website for the latest programme info for the concert. \nhttps://www.bachtobaby.com/kew-music-concerts-for-baby-and-family
URL:https://richmondtwickenhamfamilyhub.com/event/christmastide-bach-to-baby-festive-family-concert-kew/
LOCATION:Barn Church\, 41 Atwood Avenue\, Kew\, TW9 4HF\, United Kingdom
CATEGORIES:Theatre / Concerts
END:VEVENT
BEGIN:VEVENT
DTSTART;TZID=Europe/London:20251219T110000
DTEND;TZID=Europe/London:20251219T114500
DTSTAMP:20260425T175022
CREATED:20251210T120359Z
LAST-MODIFIED:20251210T120359Z
UID:10020731-1766142000-1766144700@richmondtwickenhamfamilyhub.com
SUMMARY:Baby Broadway Christmas Family Concert – Hammersmith
DESCRIPTION:Have Yourself A Merry Little Christmas at a festive Baby Broadway concert this December! An interactive Christmas performance suitable for all ages. \nThe whole family can sing and dance along to seasonal showtunes from hit musicals and well-known songs from Christmas films\, all performed by West End singers. \nEnjoy numbers from Elf\, White Christmas\, The Snowman\, Frozen and many more.  Festive fancy dress is encouraged and – as well as singing\, clapping and dancing along – you can expect bubbles\, bells\, flying babies and puppetry! \nOpen to all ages from new-borns to school age to grandparents\, concerts last approximately 45 minutes\, doors open 15 minutes before start time. \nTICKET INFORMATION \nAll ticket enquiries are handled by the venue Box Office: boxoffice@riversidestudios.co.uk / 020 8237 1010\nAdults – £14.50\nChildren over 12m – £5\nBabies – FREE\nA £2 booking fee applies to all tickets \nAGE RECOMMENDATION \nOpen to all ages but we recommended for ages 0 – 7. Good fun for parents/carers and grandparents too! Children must be accompanied by an adult. \nVENUE & TRANSPORT \nRiverside Studios has baby changing and space to park buggies (although Baby Broadway always appreciates it if you can bring a sling to save space). \nFURTHER INFORMATION  \nDoors open 15-20 minutes before start time and latecomers can be admitted. Concert lasts approximately 45 minutes. \nBaby Broadway welcomes adults and children with additional needs. Please contact them for more information. \nhttps://babybroadway.co.uk/find-a-show/
URL:https://richmondtwickenhamfamilyhub.com/event/baby-broadway-christmas-family-concert-hammersmith/
LOCATION:Riverside Studios\, 101 Queen Caroline Street\, Hammersmith\, W6 9BN\, United Kingdom
CATEGORIES:Theatre / Concerts
ATTACH;FMTTYPE=image/jpeg:https://richmondtwickenhamfamilyhub.com/wp-content/uploads/2025/12/BROADAWAYXMAS_800x445-800x445-1.jpg
END:VEVENT
BEGIN:VEVENT
DTSTART;TZID=Europe/London:20251220T130000
DTEND;TZID=Europe/London:20251220T155000
DTSTAMP:20260425T175022
CREATED:20251027T141423Z
LAST-MODIFIED:20251027T141423Z
UID:10020560-1766235600-1766245800@richmondtwickenhamfamilyhub.com
SUMMARY:Children's Theatre: A Magical Christmas (4-10yrs) – Barnes
DESCRIPTION:Saturday: 1.00pm & 3.00pm \nSunday: 11.00am\, 1.00pm & 3.00pm \n‘A Magical Christmas’ is a delightful festive production that follows the enchanting tale of two lovable elves\, Topper and Noria\, as they prepare for the perfect Christmas in Santa’s workshop. But things aren’t going exactly to plan and time is running out—has Noria misplaced a present? And did Topper really shrink Santa’s suit? With a little twinkle glitter\, music and a lot of heart\, this charming story unfolds in the most magical way. \nThe show’s catchy\, original songs bring warmth\, wonder\, and toe-tapping fun to every Kiddiewinks performance. ‘A Magical Christmas’ is the latest creation from Mads and the team at Kiddiewinks—a company he co-founded with his wife\, Kath—dedicated to producing joyful and memorable theatre experiences. \nRunning approximately 50 minutes\, this enchanting show is designed to leave children aged 4–10 wide-eyed with wonder — and adults with full hearts. \nWriter Mads Hauge\, is a celebrated songwriter and producer\, brings a wealth of experience to Kiddiewinks. He has written and produced two UK no.1 records\, contributed to music production for BBC\, ITV\, Netflix\, Disney\, and Apple TV\, and worked as band producer for The Voice UK and The Voice Kids for over 12 years. He has also created music for children’s TV and theatre\, including all the songs for Disney’s City of Friends as well as released his own albums for young audiences. \nhttps://www.tickettailor.com/events/kiddiewinks
URL:https://richmondtwickenhamfamilyhub.com/event/childrens-theatre-a-magical-christmas-4-10yrs-barnes/2025-12-20/
LOCATION:Kitson Hall\, Kitson Road\, Barnes\, SW13 9HJ
CATEGORIES:Theatre / Concerts
END:VEVENT
BEGIN:VEVENT
DTSTART;TZID=Europe/London:20251221T110000
DTEND;TZID=Europe/London:20251221T155000
DTSTAMP:20260425T175022
CREATED:20251027T141423Z
LAST-MODIFIED:20251027T141423Z
UID:10020561-1766314800-1766332200@richmondtwickenhamfamilyhub.com
SUMMARY:Children's Theatre: A Magical Christmas (4-10yrs) – Barnes
DESCRIPTION:Saturday: 1.00pm & 3.00pm \nSunday: 11.00am\, 1.00pm & 3.00pm \n‘A Magical Christmas’ is a delightful festive production that follows the enchanting tale of two lovable elves\, Topper and Noria\, as they prepare for the perfect Christmas in Santa’s workshop. But things aren’t going exactly to plan and time is running out—has Noria misplaced a present? And did Topper really shrink Santa’s suit? With a little twinkle glitter\, music and a lot of heart\, this charming story unfolds in the most magical way. \nThe show’s catchy\, original songs bring warmth\, wonder\, and toe-tapping fun to every Kiddiewinks performance. ‘A Magical Christmas’ is the latest creation from Mads and the team at Kiddiewinks—a company he co-founded with his wife\, Kath—dedicated to producing joyful and memorable theatre experiences. \nRunning approximately 50 minutes\, this enchanting show is designed to leave children aged 4–10 wide-eyed with wonder — and adults with full hearts. \nWriter Mads Hauge\, is a celebrated songwriter and producer\, brings a wealth of experience to Kiddiewinks. He has written and produced two UK no.1 records\, contributed to music production for BBC\, ITV\, Netflix\, Disney\, and Apple TV\, and worked as band producer for The Voice UK and The Voice Kids for over 12 years. He has also created music for children’s TV and theatre\, including all the songs for Disney’s City of Friends as well as released his own albums for young audiences. \nhttps://www.tickettailor.com/events/kiddiewinks
URL:https://richmondtwickenhamfamilyhub.com/event/childrens-theatre-a-magical-christmas-4-10yrs-barnes/2025-12-21/
LOCATION:Kitson Hall\, Kitson Road\, Barnes\, SW13 9HJ
CATEGORIES:Theatre / Concerts
END:VEVENT
BEGIN:VEVENT
DTSTART;TZID=Europe/London:20251222T130000
DTEND;TZID=Europe/London:20251222T155000
DTSTAMP:20260425T175022
CREATED:20251027T141610Z
LAST-MODIFIED:20251027T141610Z
UID:10020564-1766408400-1766418600@richmondtwickenhamfamilyhub.com
SUMMARY:Children's Theatre: A Magical Christmas (4-10yrs) – East Sheen
DESCRIPTION:Monday: 1.00pm & 3.00pm \nTuesday: 10.30am & 12.30pm \n‘A Magical Christmas’ is a delightful festive production that follows the enchanting tale of two lovable elves\, Topper and Noria\, as they prepare for the perfect Christmas in Santa’s workshop. But things aren’t going exactly to plan and time is running out—has Noria misplaced a present? And did Topper really shrink Santa’s suit? With a little twinkle glitter\, music and a lot of heart\, this charming story unfolds in the most magical way. \nThe show’s catchy\, original songs bring warmth\, wonder\, and toe-tapping fun to every Kiddiewinks performance. ‘A Magical Christmas’ is the latest creation from Mads and the team at Kiddiewinks—a company he co-founded with his wife\, Kath—dedicated to producing joyful and memorable theatre experiences. \nRunning approximately 50 minutes\, this enchanting show is designed to leave children aged 4–10 wide-eyed with wonder — and adults with full hearts. \nWriter Mads Hauge\, is a celebrated songwriter and producer\, brings a wealth of experience to Kiddiewinks. He has written and produced two UK no.1 records\, contributed to music production for BBC\, ITV\, Netflix\, Disney\, and Apple TV\, and worked as band producer for The Voice UK and The Voice Kids for over 12 years. He has also created music for children’s TV and theatre\, including all the songs for Disney’s City of Friends as well as released his own albums for young audiences. \nhttps://www.tickettailor.com/events/kiddiewinks
URL:https://richmondtwickenhamfamilyhub.com/event/childrens-theatre-a-magical-christmas-4-10yrs-east-sheen-2/2025-12-22/
LOCATION:Sheen Lane Centre\, 74 Sheen Lane\, East Sheen\, SW14 8LP
CATEGORIES:Theatre / Concerts
END:VEVENT
BEGIN:VEVENT
DTSTART;TZID=Europe/London:20251223T103000
DTEND;TZID=Europe/London:20251223T132000
DTSTAMP:20260425T175022
CREATED:20251027T141610Z
LAST-MODIFIED:20251027T141610Z
UID:10020565-1766485800-1766496000@richmondtwickenhamfamilyhub.com
SUMMARY:Children's Theatre: A Magical Christmas (4-10yrs) – East Sheen
DESCRIPTION:Monday: 1.00pm & 3.00pm \nTuesday: 10.30am & 12.30pm \n‘A Magical Christmas’ is a delightful festive production that follows the enchanting tale of two lovable elves\, Topper and Noria\, as they prepare for the perfect Christmas in Santa’s workshop. But things aren’t going exactly to plan and time is running out—has Noria misplaced a present? And did Topper really shrink Santa’s suit? With a little twinkle glitter\, music and a lot of heart\, this charming story unfolds in the most magical way. \nThe show’s catchy\, original songs bring warmth\, wonder\, and toe-tapping fun to every Kiddiewinks performance. ‘A Magical Christmas’ is the latest creation from Mads and the team at Kiddiewinks—a company he co-founded with his wife\, Kath—dedicated to producing joyful and memorable theatre experiences. \nRunning approximately 50 minutes\, this enchanting show is designed to leave children aged 4–10 wide-eyed with wonder — and adults with full hearts. \nWriter Mads Hauge\, is a celebrated songwriter and producer\, brings a wealth of experience to Kiddiewinks. He has written and produced two UK no.1 records\, contributed to music production for BBC\, ITV\, Netflix\, Disney\, and Apple TV\, and worked as band producer for The Voice UK and The Voice Kids for over 12 years. He has also created music for children’s TV and theatre\, including all the songs for Disney’s City of Friends as well as released his own albums for young audiences. \nhttps://www.tickettailor.com/events/kiddiewinks
URL:https://richmondtwickenhamfamilyhub.com/event/childrens-theatre-a-magical-christmas-4-10yrs-east-sheen-2/2025-12-23/
LOCATION:Sheen Lane Centre\, 74 Sheen Lane\, East Sheen\, SW14 8LP
CATEGORIES:Theatre / Concerts
END:VEVENT
BEGIN:VEVENT
DTSTART;TZID=Europe/London:20251227T150000
DTEND;TZID=Europe/London:20251227T154500
DTSTAMP:20260425T175022
CREATED:20251112T144239Z
LAST-MODIFIED:20251112T144320Z
UID:10020710-1766847600-1766850300@richmondtwickenhamfamilyhub.com
SUMMARY:The Snowman: Bach to Baby Festive Family Concert – Kew
DESCRIPTION:Experience the magic of live music with Bach to Baby – the acclaimed concert series for the whole family! \nSnow is falling\, the world hushes\, and music draws us into a winters tale of friendship and wonder\, inspired by Raymond Briggs The Snowman. Gather in the whispering woods as flute and piano spin scenes of snowmen walking on air\, sleighbells and snowball scrambles. Settle in for a cosy\, magical concert that shimmers like lamplight on fresh snow\, perfect for little ears and big imaginations. \nTickets are £16 per adult – up to 2 kids go FREE per adult ticket! \nPlease check their website for the latest programme info for the concert. \nhttps://www.bachtobaby.com/kew-music-concerts-for-baby-and-family
URL:https://richmondtwickenhamfamilyhub.com/event/the-snowman-bach-to-baby-festive-family-concert-kew/
LOCATION:Barn Church\, 41 Atwood Avenue\, Kew\, TW9 4HF\, United Kingdom
CATEGORIES:Theatre / Concerts
END:VEVENT
BEGIN:VEVENT
DTSTART;TZID=Europe/London:20260327T110000
DTEND;TZID=Europe/London:20260327T114500
DTSTAMP:20260425T175022
CREATED:20251112T145338Z
LAST-MODIFIED:20260305T095508Z
UID:10021557-1774609200-1774611900@richmondtwickenhamfamilyhub.com
SUMMARY:Bach to Baby Family Concert – Twickenham
DESCRIPTION:Bach to Baby is the critically acclaimed concert series for babies\, toddlers and their carers. Tots dance\, roam about and revel in the wonder of live music\, while you take a moment out of your busy day to hear top notch performances by outstanding musicians\, with your young babes in tow. \nOutstanding Musicians\, Exhilarating Performances\, Inspiring Locations across the UK. As seen at Royal Albert Hall and Buckingham Palace. Featured in The Times (London) and the New York Times. \nRemember: Up to 2 children go free on every Adult Ticket!\nYou can book on the link below. \nGet £2 off on your first concert when you sign up to our e-updates. Be the first to hear about concerts in your area\, exclusive & special events\, e.g. Buckingham Palace\, offers and early bird ticket sales at https://www.bachtobaby.com/signup \nhttps://www.bachtobaby.com/twickenham-riverside-music-concerts-for-baby-and-family
URL:https://richmondtwickenhamfamilyhub.com/event/bach-to-baby-family-concert-twickenham-2026/2026-03-27/
LOCATION:St Mary’s Church\, Twickenham\, Church Street\, Twickenham\, TW1 3NJ\, United Kingdom
CATEGORIES:Theatre / Concerts
END:VEVENT
BEGIN:VEVENT
DTSTART;TZID=Europe/London:20260417T110000
DTEND;TZID=Europe/London:20260417T114500
DTSTAMP:20260425T175022
CREATED:20251112T145338Z
LAST-MODIFIED:20260305T095508Z
UID:10021558-1776423600-1776426300@richmondtwickenhamfamilyhub.com
SUMMARY:Bach to Baby Family Concert – Twickenham
DESCRIPTION:Bach to Baby is the critically acclaimed concert series for babies\, toddlers and their carers. Tots dance\, roam about and revel in the wonder of live music\, while you take a moment out of your busy day to hear top notch performances by outstanding musicians\, with your young babes in tow. \nOutstanding Musicians\, Exhilarating Performances\, Inspiring Locations across the UK. As seen at Royal Albert Hall and Buckingham Palace. Featured in The Times (London) and the New York Times. \nRemember: Up to 2 children go free on every Adult Ticket!\nYou can book on the link below. \nGet £2 off on your first concert when you sign up to our e-updates. Be the first to hear about concerts in your area\, exclusive & special events\, e.g. Buckingham Palace\, offers and early bird ticket sales at https://www.bachtobaby.com/signup \nhttps://www.bachtobaby.com/twickenham-riverside-music-concerts-for-baby-and-family
URL:https://richmondtwickenhamfamilyhub.com/event/bach-to-baby-family-concert-twickenham-2026/2026-04-17/
LOCATION:St Mary’s Church\, Twickenham\, Church Street\, Twickenham\, TW1 3NJ\, United Kingdom
CATEGORIES:Theatre / Concerts
END:VEVENT
BEGIN:VEVENT
DTSTART;TZID=Europe/London:20260426T150000
DTEND;TZID=Europe/London:20260426T154500
DTSTAMP:20260425T175022
CREATED:20251112T145053Z
LAST-MODIFIED:20260305T095358Z
UID:10021555-1777215600-1777218300@richmondtwickenhamfamilyhub.com
SUMMARY:Bach to Baby Family Concert – Kew
DESCRIPTION:Bach to Baby is the critically acclaimed concert series for babies\, toddlers and their carers. Tots dance\, roam about and revel in the wonder of live music\, while you take a moment out of your busy day to hear top notch performances by outstanding musicians\, with your young babes in tow. \nOutstanding Musicians\, Exhilarating Performances\, Inspiring Locations across the UK. As seen at Royal Albert Hall and Buckingham Palace. Featured in The Times (London) and the New York Times. \nRemember: Up to 2 children go free on every Adult Ticket! \nYou can book on the link below.Get £2 off on your first concert when you sign up to Bach To Baby e-updates. Be the first to hear about concerts in your area\, exclusive & special events\, e.g. Buckingham Palace\, offers and early bird ticket sales at https://www.bachtobaby.com/signup \nhttps://www.bachtobaby.com/kew-music-concerts-for-baby-and-family
URL:https://richmondtwickenhamfamilyhub.com/event/bach-to-baby-family-concert-kew-2026/2026-04-26/
LOCATION:Barn Church\, 41 Atwood Avenue\, Kew\, TW9 4HF\, United Kingdom
CATEGORIES:Theatre / Concerts
END:VEVENT
BEGIN:VEVENT
DTSTART;TZID=Europe/London:20260524T150000
DTEND;TZID=Europe/London:20260524T154500
DTSTAMP:20260425T175023
CREATED:20251112T145053Z
LAST-MODIFIED:20260305T095358Z
UID:10021556-1779634800-1779637500@richmondtwickenhamfamilyhub.com
SUMMARY:Bach to Baby Family Concert – Kew
DESCRIPTION:Bach to Baby is the critically acclaimed concert series for babies\, toddlers and their carers. Tots dance\, roam about and revel in the wonder of live music\, while you take a moment out of your busy day to hear top notch performances by outstanding musicians\, with your young babes in tow. \nOutstanding Musicians\, Exhilarating Performances\, Inspiring Locations across the UK. As seen at Royal Albert Hall and Buckingham Palace. Featured in The Times (London) and the New York Times. \nRemember: Up to 2 children go free on every Adult Ticket! \nYou can book on the link below.Get £2 off on your first concert when you sign up to Bach To Baby e-updates. Be the first to hear about concerts in your area\, exclusive & special events\, e.g. Buckingham Palace\, offers and early bird ticket sales at https://www.bachtobaby.com/signup \nhttps://www.bachtobaby.com/kew-music-concerts-for-baby-and-family
URL:https://richmondtwickenhamfamilyhub.com/event/bach-to-baby-family-concert-kew-2026/2026-05-24/
LOCATION:Barn Church\, 41 Atwood Avenue\, Kew\, TW9 4HF\, United Kingdom
CATEGORIES:Theatre / Concerts
END:VEVENT
END:VCALENDAR