BEGIN:VCALENDAR
VERSION:2.0
PRODID:-//Family Hub - ECPv6.15.20//NONSGML v1.0//EN
CALSCALE:GREGORIAN
METHOD:PUBLISH
X-WR-CALNAME:Family Hub
X-ORIGINAL-URL:https://richmondtwickenhamfamilyhub.com
X-WR-CALDESC:Events for Family Hub
REFRESH-INTERVAL;VALUE=DURATION:PT1H
X-Robots-Tag:noindex
X-PUBLISHED-TTL:PT1H
BEGIN:VTIMEZONE
TZID:Europe/London
BEGIN:DAYLIGHT
TZOFFSETFROM:+0000
TZOFFSETTO:+0100
TZNAME:BST
DTSTART:20240331T010000
END:DAYLIGHT
BEGIN:STANDARD
TZOFFSETFROM:+0100
TZOFFSETTO:+0000
TZNAME:GMT
DTSTART:20241027T010000
END:STANDARD
BEGIN:DAYLIGHT
TZOFFSETFROM:+0000
TZOFFSETTO:+0100
TZNAME:BST
DTSTART:20250330T010000
END:DAYLIGHT
BEGIN:STANDARD
TZOFFSETFROM:+0100
TZOFFSETTO:+0000
TZNAME:GMT
DTSTART:20251026T010000
END:STANDARD
BEGIN:DAYLIGHT
TZOFFSETFROM:+0000
TZOFFSETTO:+0100
TZNAME:BST
DTSTART:20260329T010000
END:DAYLIGHT
BEGIN:STANDARD
TZOFFSETFROM:+0100
TZOFFSETTO:+0000
TZNAME:GMT
DTSTART:20261025T010000
END:STANDARD
END:VTIMEZONE
BEGIN:VEVENT
DTSTART;TZID=Europe/London:20251227T150000
DTEND;TZID=Europe/London:20251227T154500
DTSTAMP:20260423T115417
CREATED:20251112T144239Z
LAST-MODIFIED:20251112T144320Z
UID:10020710-1766847600-1766850300@richmondtwickenhamfamilyhub.com
SUMMARY:The Snowman: Bach to Baby Festive Family Concert – Kew
DESCRIPTION:Experience the magic of live music with Bach to Baby – the acclaimed concert series for the whole family! \nSnow is falling\, the world hushes\, and music draws us into a winters tale of friendship and wonder\, inspired by Raymond Briggs The Snowman. Gather in the whispering woods as flute and piano spin scenes of snowmen walking on air\, sleighbells and snowball scrambles. Settle in for a cosy\, magical concert that shimmers like lamplight on fresh snow\, perfect for little ears and big imaginations. \nTickets are £16 per adult – up to 2 kids go FREE per adult ticket! \nPlease check their website for the latest programme info for the concert. \nhttps://www.bachtobaby.com/kew-music-concerts-for-baby-and-family
URL:https://richmondtwickenhamfamilyhub.com/event/the-snowman-bach-to-baby-festive-family-concert-kew/
LOCATION:Barn Church\, 41 Atwood Avenue\, Kew\, TW9 4HF\, United Kingdom
CATEGORIES:Theatre / Concerts
END:VEVENT
BEGIN:VEVENT
DTSTART;TZID=Europe/London:20251217T110000
DTEND;TZID=Europe/London:20251217T114500
DTSTAMP:20260423T115417
CREATED:20251112T144054Z
LAST-MODIFIED:20251112T144342Z
UID:10020709-1765969200-1765971900@richmondtwickenhamfamilyhub.com
SUMMARY:Christmastide: Bach to Baby Festive Family Concert – Kew
DESCRIPTION:Experience the magic of live music with Bach to Baby – the acclaimed concert series for the whole family! \nAt the Bach to Baby concert\, my true love gave to me: Harp strings a-stirring\, four festive carols\, three scrumptious verses\, two holly sprigs\, and a musician with magic in her fingers! From Bach to carols\, this concert will ring in the Christmas cheer with every note. Gather ’round for a joyful\, harp-filled celebration of the season it’s Christmastide\, Bach to Baby style! \nTickets are £18 per adult – up to 2 kids go FREE per adult ticket! \nPlease check their website for the latest programme info for the concert. \nhttps://www.bachtobaby.com/kew-music-concerts-for-baby-and-family
URL:https://richmondtwickenhamfamilyhub.com/event/christmastide-bach-to-baby-festive-family-concert-kew/
LOCATION:Barn Church\, 41 Atwood Avenue\, Kew\, TW9 4HF\, United Kingdom
CATEGORIES:Theatre / Concerts
END:VEVENT
BEGIN:VEVENT
DTSTART;TZID=Europe/London:20251212T091500
DTEND;TZID=Europe/London:20251212T110000
DTSTAMP:20260423T115417
CREATED:20250926T213624Z
LAST-MODIFIED:20260305T095103Z
UID:10019394-1765530900-1765537200@richmondtwickenhamfamilyhub.com
SUMMARY:Parent & Toddler Group – Barn Church\, North Sheen
DESCRIPTION:Parent & Toddler Group at the Barn!\nSessions during term time: \n\nFridays 9.15-11.00\n\nHuge range of toys\, craft and activities and drinks and fruit etc. is available for everyone. \nChildminders and nannies very welcome \nFor more information\, contact Lisa: 07852 278663 \nhttp://barnchurchkew.uk/parents-toddler-group/
URL:https://richmondtwickenhamfamilyhub.com/event/parent-toddler-group-barn-church-kew/2025-12-12/
LOCATION:Barn Church\, 41 Atwood Avenue\, Kew\, TW9 4HF\, United Kingdom
CATEGORIES:Playgroups
END:VEVENT
BEGIN:VEVENT
DTSTART;TZID=Europe/London:20251205T091500
DTEND;TZID=Europe/London:20251205T110000
DTSTAMP:20260423T115417
CREATED:20250926T213624Z
LAST-MODIFIED:20260305T095103Z
UID:10019393-1764926100-1764932400@richmondtwickenhamfamilyhub.com
SUMMARY:Parent & Toddler Group – Barn Church\, North Sheen
DESCRIPTION:Parent & Toddler Group at the Barn!\nSessions during term time: \n\nFridays 9.15-11.00\n\nHuge range of toys\, craft and activities and drinks and fruit etc. is available for everyone. \nChildminders and nannies very welcome \nFor more information\, contact Lisa: 07852 278663 \nhttp://barnchurchkew.uk/parents-toddler-group/
URL:https://richmondtwickenhamfamilyhub.com/event/parent-toddler-group-barn-church-kew/2025-12-05/
LOCATION:Barn Church\, 41 Atwood Avenue\, Kew\, TW9 4HF\, United Kingdom
CATEGORIES:Playgroups
END:VEVENT
BEGIN:VEVENT
DTSTART;TZID=Europe/London:20251129T110000
DTEND;TZID=Europe/London:20251129T140000
DTSTAMP:20260423T115417
CREATED:20251031T213641Z
LAST-MODIFIED:20260305T095128Z
UID:10020685-1764414000-1764424800@richmondtwickenhamfamilyhub.com
SUMMARY:Frost Fair – North Sheen
DESCRIPTION:It’s beginning to look like Christmas with the Barn Church’s Frost Fair. There will be a wide variety of gifts being sold by independent crafts people; a great live music programme; a café; and kids activities \nBarn Frost Fair \n \nhttps://kewtw9.org/event/barn-frost-fair/
URL:https://richmondtwickenhamfamilyhub.com/event/frost-fair-kew/
LOCATION:Barn Church\, 41 Atwood Avenue\, Kew\, TW9 4HF\, United Kingdom
CATEGORIES:Holiday/Seasonal Events
END:VEVENT
BEGIN:VEVENT
DTSTART;TZID=Europe/London:20251128T091500
DTEND;TZID=Europe/London:20251128T110000
DTSTAMP:20260423T115417
CREATED:20250926T213624Z
LAST-MODIFIED:20260305T095103Z
UID:10019392-1764321300-1764327600@richmondtwickenhamfamilyhub.com
SUMMARY:Parent & Toddler Group – Barn Church\, North Sheen
DESCRIPTION:Parent & Toddler Group at the Barn!\nSessions during term time: \n\nFridays 9.15-11.00\n\nHuge range of toys\, craft and activities and drinks and fruit etc. is available for everyone. \nChildminders and nannies very welcome \nFor more information\, contact Lisa: 07852 278663 \nhttp://barnchurchkew.uk/parents-toddler-group/
URL:https://richmondtwickenhamfamilyhub.com/event/parent-toddler-group-barn-church-kew/2025-11-28/
LOCATION:Barn Church\, 41 Atwood Avenue\, Kew\, TW9 4HF\, United Kingdom
CATEGORIES:Playgroups
END:VEVENT
BEGIN:VEVENT
DTSTART;TZID=Europe/London:20251121T091500
DTEND;TZID=Europe/London:20251121T110000
DTSTAMP:20260423T115417
CREATED:20250926T213624Z
LAST-MODIFIED:20260305T095103Z
UID:10019391-1763716500-1763722800@richmondtwickenhamfamilyhub.com
SUMMARY:Parent & Toddler Group – Barn Church\, North Sheen
DESCRIPTION:Parent & Toddler Group at the Barn!\nSessions during term time: \n\nFridays 9.15-11.00\n\nHuge range of toys\, craft and activities and drinks and fruit etc. is available for everyone. \nChildminders and nannies very welcome \nFor more information\, contact Lisa: 07852 278663 \nhttp://barnchurchkew.uk/parents-toddler-group/
URL:https://richmondtwickenhamfamilyhub.com/event/parent-toddler-group-barn-church-kew/2025-11-21/
LOCATION:Barn Church\, 41 Atwood Avenue\, Kew\, TW9 4HF\, United Kingdom
CATEGORIES:Playgroups
END:VEVENT
BEGIN:VEVENT
DTSTART;TZID=Europe/London:20251115T150000
DTEND;TZID=Europe/London:20251115T154500
DTSTAMP:20260423T115417
CREATED:20251112T143854Z
LAST-MODIFIED:20251112T143854Z
UID:10020707-1763218800-1763221500@richmondtwickenhamfamilyhub.com
SUMMARY:Havana Navidad! Bach to Baby Christmas Family Concert – Kew
DESCRIPTION:Experience the magic of live music with Bach to Baby – the acclaimed concert series for the whole family! \nSwap sleigh bells for bongos as glittering guitar and lively percussion whisk you to a Cuban Christmas fiesta. Learn the sway of bolero\, feel the cha-cha and sun in your soles\, and make merry\, Bach to Baby style! \nTickets are £18 per adult – up to 2 kids go FREE per adult ticket! \nPlease check their website for the latest programme info for the concert. \nhttps://www.bachtobaby.com/kew-music-concerts-for-baby-and-family
URL:https://richmondtwickenhamfamilyhub.com/event/havana-navidad-bach-to-baby-christmas-family-concert-kew/
LOCATION:Barn Church\, 41 Atwood Avenue\, Kew\, TW9 4HF\, United Kingdom
CATEGORIES:Theatre / Concerts
END:VEVENT
BEGIN:VEVENT
DTSTART;TZID=Europe/London:20251114T091500
DTEND;TZID=Europe/London:20251114T110000
DTSTAMP:20260423T115417
CREATED:20250926T213624Z
LAST-MODIFIED:20260305T095103Z
UID:10019390-1763111700-1763118000@richmondtwickenhamfamilyhub.com
SUMMARY:Parent & Toddler Group – Barn Church\, North Sheen
DESCRIPTION:Parent & Toddler Group at the Barn!\nSessions during term time: \n\nFridays 9.15-11.00\n\nHuge range of toys\, craft and activities and drinks and fruit etc. is available for everyone. \nChildminders and nannies very welcome \nFor more information\, contact Lisa: 07852 278663 \nhttp://barnchurchkew.uk/parents-toddler-group/
URL:https://richmondtwickenhamfamilyhub.com/event/parent-toddler-group-barn-church-kew/2025-11-14/
LOCATION:Barn Church\, 41 Atwood Avenue\, Kew\, TW9 4HF\, United Kingdom
CATEGORIES:Playgroups
END:VEVENT
BEGIN:VEVENT
DTSTART;TZID=Europe/London:20251107T091500
DTEND;TZID=Europe/London:20251107T110000
DTSTAMP:20260423T115417
CREATED:20250926T213624Z
LAST-MODIFIED:20260305T095103Z
UID:10019389-1762506900-1762513200@richmondtwickenhamfamilyhub.com
SUMMARY:Parent & Toddler Group – Barn Church\, North Sheen
DESCRIPTION:Parent & Toddler Group at the Barn!\nSessions during term time: \n\nFridays 9.15-11.00\n\nHuge range of toys\, craft and activities and drinks and fruit etc. is available for everyone. \nChildminders and nannies very welcome \nFor more information\, contact Lisa: 07852 278663 \nhttp://barnchurchkew.uk/parents-toddler-group/
URL:https://richmondtwickenhamfamilyhub.com/event/parent-toddler-group-barn-church-kew/2025-11-07/
LOCATION:Barn Church\, 41 Atwood Avenue\, Kew\, TW9 4HF\, United Kingdom
CATEGORIES:Playgroups
END:VEVENT
BEGIN:VEVENT
DTSTART;TZID=Europe/London:20251024T091500
DTEND;TZID=Europe/London:20251024T110000
DTSTAMP:20260423T115417
CREATED:20250926T213624Z
LAST-MODIFIED:20260305T095103Z
UID:10019388-1761297300-1761303600@richmondtwickenhamfamilyhub.com
SUMMARY:Parent & Toddler Group – Barn Church\, North Sheen
DESCRIPTION:Parent & Toddler Group at the Barn!\nSessions during term time: \n\nFridays 9.15-11.00\n\nHuge range of toys\, craft and activities and drinks and fruit etc. is available for everyone. \nChildminders and nannies very welcome \nFor more information\, contact Lisa: 07852 278663 \nhttp://barnchurchkew.uk/parents-toddler-group/
URL:https://richmondtwickenhamfamilyhub.com/event/parent-toddler-group-barn-church-kew/2025-10-24/
LOCATION:Barn Church\, 41 Atwood Avenue\, Kew\, TW9 4HF\, United Kingdom
CATEGORIES:Playgroups
END:VEVENT
END:VCALENDAR