BEGIN:VCALENDAR
VERSION:2.0
PRODID:-//Family Hub - ECPv6.15.20//NONSGML v1.0//EN
CALSCALE:GREGORIAN
METHOD:PUBLISH
X-ORIGINAL-URL:https://richmondtwickenhamfamilyhub.com
X-WR-CALDESC:Events for Family Hub
REFRESH-INTERVAL;VALUE=DURATION:PT1H
X-Robots-Tag:noindex
X-PUBLISHED-TTL:PT1H
BEGIN:VTIMEZONE
TZID:Europe/London
BEGIN:DAYLIGHT
TZOFFSETFROM:+0000
TZOFFSETTO:+0100
TZNAME:BST
DTSTART:20250330T010000
END:DAYLIGHT
BEGIN:STANDARD
TZOFFSETFROM:+0100
TZOFFSETTO:+0000
TZNAME:GMT
DTSTART:20251026T010000
END:STANDARD
BEGIN:DAYLIGHT
TZOFFSETFROM:+0000
TZOFFSETTO:+0100
TZNAME:BST
DTSTART:20260329T010000
END:DAYLIGHT
BEGIN:STANDARD
TZOFFSETFROM:+0100
TZOFFSETTO:+0000
TZNAME:GMT
DTSTART:20261025T010000
END:STANDARD
BEGIN:DAYLIGHT
TZOFFSETFROM:+0000
TZOFFSETTO:+0100
TZNAME:BST
DTSTART:20270328T010000
END:DAYLIGHT
BEGIN:STANDARD
TZOFFSETFROM:+0100
TZOFFSETTO:+0000
TZNAME:GMT
DTSTART:20271031T010000
END:STANDARD
END:VTIMEZONE
BEGIN:VEVENT
DTSTART;TZID=Europe/London:20260424T100000
DTEND;TZID=Europe/London:20260424T113000
DTSTAMP:20260423T060318
CREATED:20251203T131409Z
LAST-MODIFIED:20260304T144629Z
UID:10021559-1777024800-1777030200@richmondtwickenhamfamilyhub.com
SUMMARY:Parent & Child Family Group – East Twickenham
DESCRIPTION:The principles that underlie all of the work at The St Michael Steiner School are also at the heart of their Parent and Child groups. These principles come out of observation of the developmental stages that children go through as they grow and a perception of what they need at each stage. \nThe groups work out of the understanding of the young child enhanced by the work of Rudolf Steiner as well as Emmi Pikler. With this in mind\, they aim to provide a supportive environment for parents and carers of young children and a nurturing one for the children themselves. \nTheir most important task is to support you whilst you raise and care for your children. They know that parents/carers of young children can sometimes feel exhausted and isolated during this often joyful\, fulfilling stage of family life. There is an enormous\, ever-growing body of information and advice which can be very helpful\, positive\, practical and well-meaning. However\, it is sometimes contradictory\, overwhelming and\, at its worst\, consumerism/competition-driven. \nIn the Parent and Child Groups\, they strive to offer balance\, the opportunity to relax in nature\, meet other parents or perhaps dabble in a simple seasonal craft. Or help with a little gardening\, peruse the books and pamphlets on offer\, whilst your children explore and play alongside or with each other. \nThe group leaders can offer information about Steiner Waldorf Education\, Emmi Pikler’s Self-Initiated Physical Development /Respectful Care\, as well as parenting issues\, if you want to ask them. \nParent & Child Groups
URL:https://richmondtwickenhamfamilyhub.com/event/parent-child-family-group-east-twickenham/2026-04-24/
LOCATION:Crossway Centre\, 306 Richmond Road\, St Margarets\, TW1 2PD\, United Kingdom
CATEGORIES:Playgroups
END:VEVENT
BEGIN:VEVENT
DTSTART;TZID=Europe/London:20260501T100000
DTEND;TZID=Europe/London:20260501T113000
DTSTAMP:20260423T060318
CREATED:20251203T131409Z
LAST-MODIFIED:20260304T144629Z
UID:10021560-1777629600-1777635000@richmondtwickenhamfamilyhub.com
SUMMARY:Parent & Child Family Group – East Twickenham
DESCRIPTION:The principles that underlie all of the work at The St Michael Steiner School are also at the heart of their Parent and Child groups. These principles come out of observation of the developmental stages that children go through as they grow and a perception of what they need at each stage. \nThe groups work out of the understanding of the young child enhanced by the work of Rudolf Steiner as well as Emmi Pikler. With this in mind\, they aim to provide a supportive environment for parents and carers of young children and a nurturing one for the children themselves. \nTheir most important task is to support you whilst you raise and care for your children. They know that parents/carers of young children can sometimes feel exhausted and isolated during this often joyful\, fulfilling stage of family life. There is an enormous\, ever-growing body of information and advice which can be very helpful\, positive\, practical and well-meaning. However\, it is sometimes contradictory\, overwhelming and\, at its worst\, consumerism/competition-driven. \nIn the Parent and Child Groups\, they strive to offer balance\, the opportunity to relax in nature\, meet other parents or perhaps dabble in a simple seasonal craft. Or help with a little gardening\, peruse the books and pamphlets on offer\, whilst your children explore and play alongside or with each other. \nThe group leaders can offer information about Steiner Waldorf Education\, Emmi Pikler’s Self-Initiated Physical Development /Respectful Care\, as well as parenting issues\, if you want to ask them. \nParent & Child Groups
URL:https://richmondtwickenhamfamilyhub.com/event/parent-child-family-group-east-twickenham/2026-05-01/
LOCATION:Crossway Centre\, 306 Richmond Road\, St Margarets\, TW1 2PD\, United Kingdom
CATEGORIES:Playgroups
END:VEVENT
BEGIN:VEVENT
DTSTART;TZID=Europe/London:20260508T100000
DTEND;TZID=Europe/London:20260508T113000
DTSTAMP:20260423T060318
CREATED:20251203T131409Z
LAST-MODIFIED:20260304T144629Z
UID:10021561-1778234400-1778239800@richmondtwickenhamfamilyhub.com
SUMMARY:Parent & Child Family Group – East Twickenham
DESCRIPTION:The principles that underlie all of the work at The St Michael Steiner School are also at the heart of their Parent and Child groups. These principles come out of observation of the developmental stages that children go through as they grow and a perception of what they need at each stage. \nThe groups work out of the understanding of the young child enhanced by the work of Rudolf Steiner as well as Emmi Pikler. With this in mind\, they aim to provide a supportive environment for parents and carers of young children and a nurturing one for the children themselves. \nTheir most important task is to support you whilst you raise and care for your children. They know that parents/carers of young children can sometimes feel exhausted and isolated during this often joyful\, fulfilling stage of family life. There is an enormous\, ever-growing body of information and advice which can be very helpful\, positive\, practical and well-meaning. However\, it is sometimes contradictory\, overwhelming and\, at its worst\, consumerism/competition-driven. \nIn the Parent and Child Groups\, they strive to offer balance\, the opportunity to relax in nature\, meet other parents or perhaps dabble in a simple seasonal craft. Or help with a little gardening\, peruse the books and pamphlets on offer\, whilst your children explore and play alongside or with each other. \nThe group leaders can offer information about Steiner Waldorf Education\, Emmi Pikler’s Self-Initiated Physical Development /Respectful Care\, as well as parenting issues\, if you want to ask them. \nParent & Child Groups
URL:https://richmondtwickenhamfamilyhub.com/event/parent-child-family-group-east-twickenham/2026-05-08/
LOCATION:Crossway Centre\, 306 Richmond Road\, St Margarets\, TW1 2PD\, United Kingdom
CATEGORIES:Playgroups
END:VEVENT
BEGIN:VEVENT
DTSTART;TZID=Europe/London:20260515T100000
DTEND;TZID=Europe/London:20260515T113000
DTSTAMP:20260423T060318
CREATED:20251203T131409Z
LAST-MODIFIED:20260304T144629Z
UID:10021562-1778839200-1778844600@richmondtwickenhamfamilyhub.com
SUMMARY:Parent & Child Family Group – East Twickenham
DESCRIPTION:The principles that underlie all of the work at The St Michael Steiner School are also at the heart of their Parent and Child groups. These principles come out of observation of the developmental stages that children go through as they grow and a perception of what they need at each stage. \nThe groups work out of the understanding of the young child enhanced by the work of Rudolf Steiner as well as Emmi Pikler. With this in mind\, they aim to provide a supportive environment for parents and carers of young children and a nurturing one for the children themselves. \nTheir most important task is to support you whilst you raise and care for your children. They know that parents/carers of young children can sometimes feel exhausted and isolated during this often joyful\, fulfilling stage of family life. There is an enormous\, ever-growing body of information and advice which can be very helpful\, positive\, practical and well-meaning. However\, it is sometimes contradictory\, overwhelming and\, at its worst\, consumerism/competition-driven. \nIn the Parent and Child Groups\, they strive to offer balance\, the opportunity to relax in nature\, meet other parents or perhaps dabble in a simple seasonal craft. Or help with a little gardening\, peruse the books and pamphlets on offer\, whilst your children explore and play alongside or with each other. \nThe group leaders can offer information about Steiner Waldorf Education\, Emmi Pikler’s Self-Initiated Physical Development /Respectful Care\, as well as parenting issues\, if you want to ask them. \nParent & Child Groups
URL:https://richmondtwickenhamfamilyhub.com/event/parent-child-family-group-east-twickenham/2026-05-15/
LOCATION:Crossway Centre\, 306 Richmond Road\, St Margarets\, TW1 2PD\, United Kingdom
CATEGORIES:Playgroups
END:VEVENT
BEGIN:VEVENT
DTSTART;TZID=Europe/London:20260605T100000
DTEND;TZID=Europe/London:20260605T113000
DTSTAMP:20260423T060318
CREATED:20251203T131409Z
LAST-MODIFIED:20260304T144629Z
UID:10021563-1780653600-1780659000@richmondtwickenhamfamilyhub.com
SUMMARY:Parent & Child Family Group – East Twickenham
DESCRIPTION:The principles that underlie all of the work at The St Michael Steiner School are also at the heart of their Parent and Child groups. These principles come out of observation of the developmental stages that children go through as they grow and a perception of what they need at each stage. \nThe groups work out of the understanding of the young child enhanced by the work of Rudolf Steiner as well as Emmi Pikler. With this in mind\, they aim to provide a supportive environment for parents and carers of young children and a nurturing one for the children themselves. \nTheir most important task is to support you whilst you raise and care for your children. They know that parents/carers of young children can sometimes feel exhausted and isolated during this often joyful\, fulfilling stage of family life. There is an enormous\, ever-growing body of information and advice which can be very helpful\, positive\, practical and well-meaning. However\, it is sometimes contradictory\, overwhelming and\, at its worst\, consumerism/competition-driven. \nIn the Parent and Child Groups\, they strive to offer balance\, the opportunity to relax in nature\, meet other parents or perhaps dabble in a simple seasonal craft. Or help with a little gardening\, peruse the books and pamphlets on offer\, whilst your children explore and play alongside or with each other. \nThe group leaders can offer information about Steiner Waldorf Education\, Emmi Pikler’s Self-Initiated Physical Development /Respectful Care\, as well as parenting issues\, if you want to ask them. \nParent & Child Groups
URL:https://richmondtwickenhamfamilyhub.com/event/parent-child-family-group-east-twickenham/2026-06-05/
LOCATION:Crossway Centre\, 306 Richmond Road\, St Margarets\, TW1 2PD\, United Kingdom
CATEGORIES:Playgroups
END:VEVENT
BEGIN:VEVENT
DTSTART;TZID=Europe/London:20260612T100000
DTEND;TZID=Europe/London:20260612T113000
DTSTAMP:20260423T060318
CREATED:20251203T131409Z
LAST-MODIFIED:20260304T144629Z
UID:10021564-1781258400-1781263800@richmondtwickenhamfamilyhub.com
SUMMARY:Parent & Child Family Group – East Twickenham
DESCRIPTION:The principles that underlie all of the work at The St Michael Steiner School are also at the heart of their Parent and Child groups. These principles come out of observation of the developmental stages that children go through as they grow and a perception of what they need at each stage. \nThe groups work out of the understanding of the young child enhanced by the work of Rudolf Steiner as well as Emmi Pikler. With this in mind\, they aim to provide a supportive environment for parents and carers of young children and a nurturing one for the children themselves. \nTheir most important task is to support you whilst you raise and care for your children. They know that parents/carers of young children can sometimes feel exhausted and isolated during this often joyful\, fulfilling stage of family life. There is an enormous\, ever-growing body of information and advice which can be very helpful\, positive\, practical and well-meaning. However\, it is sometimes contradictory\, overwhelming and\, at its worst\, consumerism/competition-driven. \nIn the Parent and Child Groups\, they strive to offer balance\, the opportunity to relax in nature\, meet other parents or perhaps dabble in a simple seasonal craft. Or help with a little gardening\, peruse the books and pamphlets on offer\, whilst your children explore and play alongside or with each other. \nThe group leaders can offer information about Steiner Waldorf Education\, Emmi Pikler’s Self-Initiated Physical Development /Respectful Care\, as well as parenting issues\, if you want to ask them. \nParent & Child Groups
URL:https://richmondtwickenhamfamilyhub.com/event/parent-child-family-group-east-twickenham/2026-06-12/
LOCATION:Crossway Centre\, 306 Richmond Road\, St Margarets\, TW1 2PD\, United Kingdom
CATEGORIES:Playgroups
END:VEVENT
BEGIN:VEVENT
DTSTART;TZID=Europe/London:20260619T100000
DTEND;TZID=Europe/London:20260619T113000
DTSTAMP:20260423T060318
CREATED:20251203T131409Z
LAST-MODIFIED:20260304T144629Z
UID:10021565-1781863200-1781868600@richmondtwickenhamfamilyhub.com
SUMMARY:Parent & Child Family Group – East Twickenham
DESCRIPTION:The principles that underlie all of the work at The St Michael Steiner School are also at the heart of their Parent and Child groups. These principles come out of observation of the developmental stages that children go through as they grow and a perception of what they need at each stage. \nThe groups work out of the understanding of the young child enhanced by the work of Rudolf Steiner as well as Emmi Pikler. With this in mind\, they aim to provide a supportive environment for parents and carers of young children and a nurturing one for the children themselves. \nTheir most important task is to support you whilst you raise and care for your children. They know that parents/carers of young children can sometimes feel exhausted and isolated during this often joyful\, fulfilling stage of family life. There is an enormous\, ever-growing body of information and advice which can be very helpful\, positive\, practical and well-meaning. However\, it is sometimes contradictory\, overwhelming and\, at its worst\, consumerism/competition-driven. \nIn the Parent and Child Groups\, they strive to offer balance\, the opportunity to relax in nature\, meet other parents or perhaps dabble in a simple seasonal craft. Or help with a little gardening\, peruse the books and pamphlets on offer\, whilst your children explore and play alongside or with each other. \nThe group leaders can offer information about Steiner Waldorf Education\, Emmi Pikler’s Self-Initiated Physical Development /Respectful Care\, as well as parenting issues\, if you want to ask them. \nParent & Child Groups
URL:https://richmondtwickenhamfamilyhub.com/event/parent-child-family-group-east-twickenham/2026-06-19/
LOCATION:Crossway Centre\, 306 Richmond Road\, St Margarets\, TW1 2PD\, United Kingdom
CATEGORIES:Playgroups
END:VEVENT
BEGIN:VEVENT
DTSTART;TZID=Europe/London:20260626T100000
DTEND;TZID=Europe/London:20260626T113000
DTSTAMP:20260423T060318
CREATED:20251203T131409Z
LAST-MODIFIED:20260304T144629Z
UID:10021566-1782468000-1782473400@richmondtwickenhamfamilyhub.com
SUMMARY:Parent & Child Family Group – East Twickenham
DESCRIPTION:The principles that underlie all of the work at The St Michael Steiner School are also at the heart of their Parent and Child groups. These principles come out of observation of the developmental stages that children go through as they grow and a perception of what they need at each stage. \nThe groups work out of the understanding of the young child enhanced by the work of Rudolf Steiner as well as Emmi Pikler. With this in mind\, they aim to provide a supportive environment for parents and carers of young children and a nurturing one for the children themselves. \nTheir most important task is to support you whilst you raise and care for your children. They know that parents/carers of young children can sometimes feel exhausted and isolated during this often joyful\, fulfilling stage of family life. There is an enormous\, ever-growing body of information and advice which can be very helpful\, positive\, practical and well-meaning. However\, it is sometimes contradictory\, overwhelming and\, at its worst\, consumerism/competition-driven. \nIn the Parent and Child Groups\, they strive to offer balance\, the opportunity to relax in nature\, meet other parents or perhaps dabble in a simple seasonal craft. Or help with a little gardening\, peruse the books and pamphlets on offer\, whilst your children explore and play alongside or with each other. \nThe group leaders can offer information about Steiner Waldorf Education\, Emmi Pikler’s Self-Initiated Physical Development /Respectful Care\, as well as parenting issues\, if you want to ask them. \nParent & Child Groups
URL:https://richmondtwickenhamfamilyhub.com/event/parent-child-family-group-east-twickenham/2026-06-26/
LOCATION:Crossway Centre\, 306 Richmond Road\, St Margarets\, TW1 2PD\, United Kingdom
CATEGORIES:Playgroups
END:VEVENT
BEGIN:VEVENT
DTSTART;TZID=Europe/London:20260703T100000
DTEND;TZID=Europe/London:20260703T113000
DTSTAMP:20260423T060318
CREATED:20251203T131409Z
LAST-MODIFIED:20260304T144629Z
UID:10021567-1783072800-1783078200@richmondtwickenhamfamilyhub.com
SUMMARY:Parent & Child Family Group – East Twickenham
DESCRIPTION:The principles that underlie all of the work at The St Michael Steiner School are also at the heart of their Parent and Child groups. These principles come out of observation of the developmental stages that children go through as they grow and a perception of what they need at each stage. \nThe groups work out of the understanding of the young child enhanced by the work of Rudolf Steiner as well as Emmi Pikler. With this in mind\, they aim to provide a supportive environment for parents and carers of young children and a nurturing one for the children themselves. \nTheir most important task is to support you whilst you raise and care for your children. They know that parents/carers of young children can sometimes feel exhausted and isolated during this often joyful\, fulfilling stage of family life. There is an enormous\, ever-growing body of information and advice which can be very helpful\, positive\, practical and well-meaning. However\, it is sometimes contradictory\, overwhelming and\, at its worst\, consumerism/competition-driven. \nIn the Parent and Child Groups\, they strive to offer balance\, the opportunity to relax in nature\, meet other parents or perhaps dabble in a simple seasonal craft. Or help with a little gardening\, peruse the books and pamphlets on offer\, whilst your children explore and play alongside or with each other. \nThe group leaders can offer information about Steiner Waldorf Education\, Emmi Pikler’s Self-Initiated Physical Development /Respectful Care\, as well as parenting issues\, if you want to ask them. \nParent & Child Groups
URL:https://richmondtwickenhamfamilyhub.com/event/parent-child-family-group-east-twickenham/2026-07-03/
LOCATION:Crossway Centre\, 306 Richmond Road\, St Margarets\, TW1 2PD\, United Kingdom
CATEGORIES:Playgroups
END:VEVENT
END:VCALENDAR