BEGIN:VCALENDAR
VERSION:2.0
PRODID:-//Family Hub - ECPv6.15.20//NONSGML v1.0//EN
CALSCALE:GREGORIAN
METHOD:PUBLISH
X-WR-CALNAME:Family Hub
X-ORIGINAL-URL:https://richmondtwickenhamfamilyhub.com
X-WR-CALDESC:Events for Family Hub
REFRESH-INTERVAL;VALUE=DURATION:PT1H
X-Robots-Tag:noindex
X-PUBLISHED-TTL:PT1H
BEGIN:VTIMEZONE
TZID:Europe/London
BEGIN:DAYLIGHT
TZOFFSETFROM:+0000
TZOFFSETTO:+0100
TZNAME:BST
DTSTART:20250330T010000
END:DAYLIGHT
BEGIN:STANDARD
TZOFFSETFROM:+0100
TZOFFSETTO:+0000
TZNAME:GMT
DTSTART:20251026T010000
END:STANDARD
BEGIN:DAYLIGHT
TZOFFSETFROM:+0000
TZOFFSETTO:+0100
TZNAME:BST
DTSTART:20260329T010000
END:DAYLIGHT
BEGIN:STANDARD
TZOFFSETFROM:+0100
TZOFFSETTO:+0000
TZNAME:GMT
DTSTART:20261025T010000
END:STANDARD
BEGIN:DAYLIGHT
TZOFFSETFROM:+0000
TZOFFSETTO:+0100
TZNAME:BST
DTSTART:20270328T010000
END:DAYLIGHT
BEGIN:STANDARD
TZOFFSETFROM:+0100
TZOFFSETTO:+0000
TZNAME:GMT
DTSTART:20271031T010000
END:STANDARD
END:VTIMEZONE
BEGIN:VEVENT
DTSTART;TZID=Europe/London:20260412T100000
DTEND;TZID=Europe/London:20260412T160000
DTSTAMP:20260423T132147
CREATED:20260318T161844Z
LAST-MODIFIED:20260318T161844Z
UID:10021697-1775988000-1776009600@richmondtwickenhamfamilyhub.com
SUMMARY:Easter Egg Hunt – London Museum Of Water & Steam
DESCRIPTION:The Easter Bunny has visited the Museum and left eggs for you to find! Eggs will be hidden amongst the Museum’s historic engines – can you find them all? Complete the trail to claim a special prize!Perfect for children aged 3+yrs. Enjoy even more holiday fun with Easter crafts\, the March Steam Up\, and the new Wildplay Garden! \nNormal admission applies plus £3.50/trail. \nhttps://waterandsteam.org.uk/whats-on-new
URL:https://richmondtwickenhamfamilyhub.com/event/easter-egg-hunt-london-museum-of-water-steam/2026-04-12/
LOCATION:London Museum Of Water & Steam\, Green Dragon Lane\, Brentford\, TW8 0EN\, United Kingdom
CATEGORIES:Holiday/Seasonal Events
END:VEVENT
BEGIN:VEVENT
DTSTART;TZID=Europe/London:20260411T100000
DTEND;TZID=Europe/London:20260411T160000
DTSTAMP:20260423T132147
CREATED:20260318T161844Z
LAST-MODIFIED:20260318T161844Z
UID:10021696-1775901600-1775923200@richmondtwickenhamfamilyhub.com
SUMMARY:Easter Egg Hunt – London Museum Of Water & Steam
DESCRIPTION:The Easter Bunny has visited the Museum and left eggs for you to find! Eggs will be hidden amongst the Museum’s historic engines – can you find them all? Complete the trail to claim a special prize!Perfect for children aged 3+yrs. Enjoy even more holiday fun with Easter crafts\, the March Steam Up\, and the new Wildplay Garden! \nNormal admission applies plus £3.50/trail. \nhttps://waterandsteam.org.uk/whats-on-new
URL:https://richmondtwickenhamfamilyhub.com/event/easter-egg-hunt-london-museum-of-water-steam/2026-04-11/
LOCATION:London Museum Of Water & Steam\, Green Dragon Lane\, Brentford\, TW8 0EN\, United Kingdom
CATEGORIES:Holiday/Seasonal Events
END:VEVENT
BEGIN:VEVENT
DTSTART;TZID=Europe/London:20260410T100000
DTEND;TZID=Europe/London:20260410T160000
DTSTAMP:20260423T132147
CREATED:20260318T161844Z
LAST-MODIFIED:20260318T161844Z
UID:10021695-1775815200-1775836800@richmondtwickenhamfamilyhub.com
SUMMARY:Easter Egg Hunt – London Museum Of Water & Steam
DESCRIPTION:The Easter Bunny has visited the Museum and left eggs for you to find! Eggs will be hidden amongst the Museum’s historic engines – can you find them all? Complete the trail to claim a special prize!Perfect for children aged 3+yrs. Enjoy even more holiday fun with Easter crafts\, the March Steam Up\, and the new Wildplay Garden! \nNormal admission applies plus £3.50/trail. \nhttps://waterandsteam.org.uk/whats-on-new
URL:https://richmondtwickenhamfamilyhub.com/event/easter-egg-hunt-london-museum-of-water-steam/2026-04-10/
LOCATION:London Museum Of Water & Steam\, Green Dragon Lane\, Brentford\, TW8 0EN\, United Kingdom
CATEGORIES:Holiday/Seasonal Events
END:VEVENT
BEGIN:VEVENT
DTSTART;TZID=Europe/London:20260409T100000
DTEND;TZID=Europe/London:20260409T160000
DTSTAMP:20260423T132147
CREATED:20260318T161844Z
LAST-MODIFIED:20260318T161844Z
UID:10021694-1775728800-1775750400@richmondtwickenhamfamilyhub.com
SUMMARY:Easter Egg Hunt – London Museum Of Water & Steam
DESCRIPTION:The Easter Bunny has visited the Museum and left eggs for you to find! Eggs will be hidden amongst the Museum’s historic engines – can you find them all? Complete the trail to claim a special prize!Perfect for children aged 3+yrs. Enjoy even more holiday fun with Easter crafts\, the March Steam Up\, and the new Wildplay Garden! \nNormal admission applies plus £3.50/trail. \nhttps://waterandsteam.org.uk/whats-on-new
URL:https://richmondtwickenhamfamilyhub.com/event/easter-egg-hunt-london-museum-of-water-steam/2026-04-09/
LOCATION:London Museum Of Water & Steam\, Green Dragon Lane\, Brentford\, TW8 0EN\, United Kingdom
CATEGORIES:Holiday/Seasonal Events
END:VEVENT
BEGIN:VEVENT
DTSTART;TZID=Europe/London:20260408T100000
DTEND;TZID=Europe/London:20260408T160000
DTSTAMP:20260423T132147
CREATED:20260318T161844Z
LAST-MODIFIED:20260318T161844Z
UID:10021693-1775642400-1775664000@richmondtwickenhamfamilyhub.com
SUMMARY:Easter Egg Hunt – London Museum Of Water & Steam
DESCRIPTION:The Easter Bunny has visited the Museum and left eggs for you to find! Eggs will be hidden amongst the Museum’s historic engines – can you find them all? Complete the trail to claim a special prize!Perfect for children aged 3+yrs. Enjoy even more holiday fun with Easter crafts\, the March Steam Up\, and the new Wildplay Garden! \nNormal admission applies plus £3.50/trail. \nhttps://waterandsteam.org.uk/whats-on-new
URL:https://richmondtwickenhamfamilyhub.com/event/easter-egg-hunt-london-museum-of-water-steam/2026-04-08/
LOCATION:London Museum Of Water & Steam\, Green Dragon Lane\, Brentford\, TW8 0EN\, United Kingdom
CATEGORIES:Holiday/Seasonal Events
END:VEVENT
BEGIN:VEVENT
DTSTART;TZID=Europe/London:20260407T100000
DTEND;TZID=Europe/London:20260407T160000
DTSTAMP:20260423T132147
CREATED:20260318T161844Z
LAST-MODIFIED:20260318T161844Z
UID:10021692-1775556000-1775577600@richmondtwickenhamfamilyhub.com
SUMMARY:Easter Egg Hunt – London Museum Of Water & Steam
DESCRIPTION:The Easter Bunny has visited the Museum and left eggs for you to find! Eggs will be hidden amongst the Museum’s historic engines – can you find them all? Complete the trail to claim a special prize!Perfect for children aged 3+yrs. Enjoy even more holiday fun with Easter crafts\, the March Steam Up\, and the new Wildplay Garden! \nNormal admission applies plus £3.50/trail. \nhttps://waterandsteam.org.uk/whats-on-new
URL:https://richmondtwickenhamfamilyhub.com/event/easter-egg-hunt-london-museum-of-water-steam/2026-04-07/
LOCATION:London Museum Of Water & Steam\, Green Dragon Lane\, Brentford\, TW8 0EN\, United Kingdom
CATEGORIES:Holiday/Seasonal Events
END:VEVENT
BEGIN:VEVENT
DTSTART;TZID=Europe/London:20260406T100000
DTEND;TZID=Europe/London:20260406T160000
DTSTAMP:20260423T132148
CREATED:20260318T161844Z
LAST-MODIFIED:20260318T161844Z
UID:10021691-1775469600-1775491200@richmondtwickenhamfamilyhub.com
SUMMARY:Easter Egg Hunt – London Museum Of Water & Steam
DESCRIPTION:The Easter Bunny has visited the Museum and left eggs for you to find! Eggs will be hidden amongst the Museum’s historic engines – can you find them all? Complete the trail to claim a special prize!Perfect for children aged 3+yrs. Enjoy even more holiday fun with Easter crafts\, the March Steam Up\, and the new Wildplay Garden! \nNormal admission applies plus £3.50/trail. \nhttps://waterandsteam.org.uk/whats-on-new
URL:https://richmondtwickenhamfamilyhub.com/event/easter-egg-hunt-london-museum-of-water-steam/2026-04-06/
LOCATION:London Museum Of Water & Steam\, Green Dragon Lane\, Brentford\, TW8 0EN\, United Kingdom
CATEGORIES:Holiday/Seasonal Events
END:VEVENT
BEGIN:VEVENT
DTSTART;TZID=Europe/London:20260405T100000
DTEND;TZID=Europe/London:20260405T160000
DTSTAMP:20260423T132148
CREATED:20260318T161844Z
LAST-MODIFIED:20260318T161844Z
UID:10021690-1775383200-1775404800@richmondtwickenhamfamilyhub.com
SUMMARY:Easter Egg Hunt – London Museum Of Water & Steam
DESCRIPTION:The Easter Bunny has visited the Museum and left eggs for you to find! Eggs will be hidden amongst the Museum’s historic engines – can you find them all? Complete the trail to claim a special prize!Perfect for children aged 3+yrs. Enjoy even more holiday fun with Easter crafts\, the March Steam Up\, and the new Wildplay Garden! \nNormal admission applies plus £3.50/trail. \nhttps://waterandsteam.org.uk/whats-on-new
URL:https://richmondtwickenhamfamilyhub.com/event/easter-egg-hunt-london-museum-of-water-steam/2026-04-05/
LOCATION:London Museum Of Water & Steam\, Green Dragon Lane\, Brentford\, TW8 0EN\, United Kingdom
CATEGORIES:Holiday/Seasonal Events
END:VEVENT
BEGIN:VEVENT
DTSTART;TZID=Europe/London:20260404T100000
DTEND;TZID=Europe/London:20260404T160000
DTSTAMP:20260423T132148
CREATED:20260318T161844Z
LAST-MODIFIED:20260318T161844Z
UID:10021689-1775296800-1775318400@richmondtwickenhamfamilyhub.com
SUMMARY:Easter Egg Hunt – London Museum Of Water & Steam
DESCRIPTION:The Easter Bunny has visited the Museum and left eggs for you to find! Eggs will be hidden amongst the Museum’s historic engines – can you find them all? Complete the trail to claim a special prize!Perfect for children aged 3+yrs. Enjoy even more holiday fun with Easter crafts\, the March Steam Up\, and the new Wildplay Garden! \nNormal admission applies plus £3.50/trail. \nhttps://waterandsteam.org.uk/whats-on-new
URL:https://richmondtwickenhamfamilyhub.com/event/easter-egg-hunt-london-museum-of-water-steam/2026-04-04/
LOCATION:London Museum Of Water & Steam\, Green Dragon Lane\, Brentford\, TW8 0EN\, United Kingdom
CATEGORIES:Holiday/Seasonal Events
END:VEVENT
BEGIN:VEVENT
DTSTART;TZID=Europe/London:20260403T100000
DTEND;TZID=Europe/London:20260403T160000
DTSTAMP:20260423T132148
CREATED:20260318T161844Z
LAST-MODIFIED:20260318T161844Z
UID:10021688-1775210400-1775232000@richmondtwickenhamfamilyhub.com
SUMMARY:Easter Egg Hunt – London Museum Of Water & Steam
DESCRIPTION:The Easter Bunny has visited the Museum and left eggs for you to find! Eggs will be hidden amongst the Museum’s historic engines – can you find them all? Complete the trail to claim a special prize!Perfect for children aged 3+yrs. Enjoy even more holiday fun with Easter crafts\, the March Steam Up\, and the new Wildplay Garden! \nNormal admission applies plus £3.50/trail. \nhttps://waterandsteam.org.uk/whats-on-new
URL:https://richmondtwickenhamfamilyhub.com/event/easter-egg-hunt-london-museum-of-water-steam/2026-04-03/
LOCATION:London Museum Of Water & Steam\, Green Dragon Lane\, Brentford\, TW8 0EN\, United Kingdom
CATEGORIES:Holiday/Seasonal Events
END:VEVENT
BEGIN:VEVENT
DTSTART;TZID=Europe/London:20260402T100000
DTEND;TZID=Europe/London:20260402T160000
DTSTAMP:20260423T132148
CREATED:20260318T161844Z
LAST-MODIFIED:20260318T161844Z
UID:10021687-1775124000-1775145600@richmondtwickenhamfamilyhub.com
SUMMARY:Easter Egg Hunt – London Museum Of Water & Steam
DESCRIPTION:The Easter Bunny has visited the Museum and left eggs for you to find! Eggs will be hidden amongst the Museum’s historic engines – can you find them all? Complete the trail to claim a special prize!Perfect for children aged 3+yrs. Enjoy even more holiday fun with Easter crafts\, the March Steam Up\, and the new Wildplay Garden! \nNormal admission applies plus £3.50/trail. \nhttps://waterandsteam.org.uk/whats-on-new
URL:https://richmondtwickenhamfamilyhub.com/event/easter-egg-hunt-london-museum-of-water-steam/2026-04-02/
LOCATION:London Museum Of Water & Steam\, Green Dragon Lane\, Brentford\, TW8 0EN\, United Kingdom
CATEGORIES:Holiday/Seasonal Events
END:VEVENT
BEGIN:VEVENT
DTSTART;TZID=Europe/London:20260401T100000
DTEND;TZID=Europe/London:20260401T160000
DTSTAMP:20260423T132148
CREATED:20260318T161844Z
LAST-MODIFIED:20260318T161844Z
UID:10021686-1775037600-1775059200@richmondtwickenhamfamilyhub.com
SUMMARY:Easter Egg Hunt – London Museum Of Water & Steam
DESCRIPTION:The Easter Bunny has visited the Museum and left eggs for you to find! Eggs will be hidden amongst the Museum’s historic engines – can you find them all? Complete the trail to claim a special prize!Perfect for children aged 3+yrs. Enjoy even more holiday fun with Easter crafts\, the March Steam Up\, and the new Wildplay Garden! \nNormal admission applies plus £3.50/trail. \nhttps://waterandsteam.org.uk/whats-on-new
URL:https://richmondtwickenhamfamilyhub.com/event/easter-egg-hunt-london-museum-of-water-steam/2026-04-01/
LOCATION:London Museum Of Water & Steam\, Green Dragon Lane\, Brentford\, TW8 0EN\, United Kingdom
CATEGORIES:Holiday/Seasonal Events
END:VEVENT
BEGIN:VEVENT
DTSTART;TZID=Europe/London:20260331T100000
DTEND;TZID=Europe/London:20260331T160000
DTSTAMP:20260423T132148
CREATED:20260318T161844Z
LAST-MODIFIED:20260318T161844Z
UID:10021685-1774951200-1774972800@richmondtwickenhamfamilyhub.com
SUMMARY:Easter Egg Hunt – London Museum Of Water & Steam
DESCRIPTION:The Easter Bunny has visited the Museum and left eggs for you to find! Eggs will be hidden amongst the Museum’s historic engines – can you find them all? Complete the trail to claim a special prize!Perfect for children aged 3+yrs. Enjoy even more holiday fun with Easter crafts\, the March Steam Up\, and the new Wildplay Garden! \nNormal admission applies plus £3.50/trail. \nhttps://waterandsteam.org.uk/whats-on-new
URL:https://richmondtwickenhamfamilyhub.com/event/easter-egg-hunt-london-museum-of-water-steam/2026-03-31/
LOCATION:London Museum Of Water & Steam\, Green Dragon Lane\, Brentford\, TW8 0EN\, United Kingdom
CATEGORIES:Holiday/Seasonal Events
END:VEVENT
BEGIN:VEVENT
DTSTART;TZID=Europe/London:20260330T100000
DTEND;TZID=Europe/London:20260330T160000
DTSTAMP:20260423T132148
CREATED:20260318T161844Z
LAST-MODIFIED:20260318T161844Z
UID:10021684-1774864800-1774886400@richmondtwickenhamfamilyhub.com
SUMMARY:Easter Egg Hunt – London Museum Of Water & Steam
DESCRIPTION:The Easter Bunny has visited the Museum and left eggs for you to find! Eggs will be hidden amongst the Museum’s historic engines – can you find them all? Complete the trail to claim a special prize!Perfect for children aged 3+yrs. Enjoy even more holiday fun with Easter crafts\, the March Steam Up\, and the new Wildplay Garden! \nNormal admission applies plus £3.50/trail. \nhttps://waterandsteam.org.uk/whats-on-new
URL:https://richmondtwickenhamfamilyhub.com/event/easter-egg-hunt-london-museum-of-water-steam/2026-03-30/
LOCATION:London Museum Of Water & Steam\, Green Dragon Lane\, Brentford\, TW8 0EN\, United Kingdom
CATEGORIES:Holiday/Seasonal Events
END:VEVENT
BEGIN:VEVENT
DTSTART;TZID=Europe/London:20260329T100000
DTEND;TZID=Europe/London:20260329T160000
DTSTAMP:20260423T132148
CREATED:20260318T161844Z
LAST-MODIFIED:20260318T161844Z
UID:10021683-1774778400-1774800000@richmondtwickenhamfamilyhub.com
SUMMARY:Easter Egg Hunt – London Museum Of Water & Steam
DESCRIPTION:The Easter Bunny has visited the Museum and left eggs for you to find! Eggs will be hidden amongst the Museum’s historic engines – can you find them all? Complete the trail to claim a special prize!Perfect for children aged 3+yrs. Enjoy even more holiday fun with Easter crafts\, the March Steam Up\, and the new Wildplay Garden! \nNormal admission applies plus £3.50/trail. \nhttps://waterandsteam.org.uk/whats-on-new
URL:https://richmondtwickenhamfamilyhub.com/event/easter-egg-hunt-london-museum-of-water-steam/2026-03-29/
LOCATION:London Museum Of Water & Steam\, Green Dragon Lane\, Brentford\, TW8 0EN\, United Kingdom
CATEGORIES:Holiday/Seasonal Events
END:VEVENT
BEGIN:VEVENT
DTSTART;TZID=Europe/London:20260329T100000
DTEND;TZID=Europe/London:20260329T160000
DTSTAMP:20260423T132148
CREATED:20260318T161317Z
LAST-MODIFIED:20260318T161317Z
UID:10021674-1774778400-1774800000@richmondtwickenhamfamilyhub.com
SUMMARY:Steam Up – London Museum Of Water & Steam
DESCRIPTION:Experience the golden-age of engineering as the Museum’s historic engines come to life. \nThroughout the day\, these colossal machines will be set into motion through the power of steam. \nTalk to the team of engineers and discover the science and stories behind London’s public water supply. \nReciprocating engines the Waddon\, the Triple\, the Dancer’s End\, and the Easton and Amos will run at regular intervals every half-an-hour.* \nTwo of historic Cornish engines – still in their original location – will be running at select times throughout the day. \n\nThe Boulton & Watt engine will be running between 12.15 – 12.45pm\, and 3.15 – 3.45pm.\nThe Bull engine will be running be between 2.00 – 3.30pm.\n\n*Subject to availability of the engines \nhttps://waterandsteam.org.uk/events/
URL:https://richmondtwickenhamfamilyhub.com/event/steam-up-london-museum-of-water-steam-2/2026-03-29/
LOCATION:London Museum Of Water & Steam\, Green Dragon Lane\, Brentford\, TW8 0EN\, United Kingdom
CATEGORIES:Kids Activities
END:VEVENT
BEGIN:VEVENT
DTSTART;TZID=Europe/London:20260328T100000
DTEND;TZID=Europe/London:20260328T160000
DTSTAMP:20260423T132148
CREATED:20260318T161844Z
LAST-MODIFIED:20260318T161844Z
UID:10021682-1774692000-1774713600@richmondtwickenhamfamilyhub.com
SUMMARY:Easter Egg Hunt – London Museum Of Water & Steam
DESCRIPTION:The Easter Bunny has visited the Museum and left eggs for you to find! Eggs will be hidden amongst the Museum’s historic engines – can you find them all? Complete the trail to claim a special prize!Perfect for children aged 3+yrs. Enjoy even more holiday fun with Easter crafts\, the March Steam Up\, and the new Wildplay Garden! \nNormal admission applies plus £3.50/trail. \nhttps://waterandsteam.org.uk/whats-on-new
URL:https://richmondtwickenhamfamilyhub.com/event/easter-egg-hunt-london-museum-of-water-steam/2026-03-28/
LOCATION:London Museum Of Water & Steam\, Green Dragon Lane\, Brentford\, TW8 0EN\, United Kingdom
CATEGORIES:Holiday/Seasonal Events
END:VEVENT
BEGIN:VEVENT
DTSTART;TZID=Europe/London:20260328T100000
DTEND;TZID=Europe/London:20260328T160000
DTSTAMP:20260423T132148
CREATED:20260318T161317Z
LAST-MODIFIED:20260318T161317Z
UID:10021673-1774692000-1774713600@richmondtwickenhamfamilyhub.com
SUMMARY:Steam Up – London Museum Of Water & Steam
DESCRIPTION:Experience the golden-age of engineering as the Museum’s historic engines come to life. \nThroughout the day\, these colossal machines will be set into motion through the power of steam. \nTalk to the team of engineers and discover the science and stories behind London’s public water supply. \nReciprocating engines the Waddon\, the Triple\, the Dancer’s End\, and the Easton and Amos will run at regular intervals every half-an-hour.* \nTwo of historic Cornish engines – still in their original location – will be running at select times throughout the day. \n\nThe Boulton & Watt engine will be running between 12.15 – 12.45pm\, and 3.15 – 3.45pm.\nThe Bull engine will be running be between 2.00 – 3.30pm.\n\n*Subject to availability of the engines \nhttps://waterandsteam.org.uk/events/
URL:https://richmondtwickenhamfamilyhub.com/event/steam-up-london-museum-of-water-steam-2/2026-03-28/
LOCATION:London Museum Of Water & Steam\, Green Dragon Lane\, Brentford\, TW8 0EN\, United Kingdom
CATEGORIES:Kids Activities
END:VEVENT
BEGIN:VEVENT
DTSTART;TZID=Europe/London:20260220T100000
DTEND;TZID=Europe/London:20260220T160000
DTSTAMP:20260423T132148
CREATED:20260207T215552Z
LAST-MODIFIED:20260207T215552Z
UID:10021477-1771581600-1771603200@richmondtwickenhamfamilyhub.com
SUMMARY:Trains Trains Trains – London Museum Of Water & Steam
DESCRIPTION:All aboard! Join the Museum for a week of train-themed activities\, including rides on the steam locomotive Thomas Wicksteed; displays of model steam railways with the 16mm Association (Weekend of 21-22 Feb); train-inspired crafting in the Waterworks Gallery. \nNormal admission applies plus train rides are £1 per ride. \n  \nhttps://waterandsteam.org.uk/whats-on-new
URL:https://richmondtwickenhamfamilyhub.com/event/trains-trains-trains-london-museum-of-water-steam/2026-02-20/
LOCATION:London Museum Of Water & Steam\, Green Dragon Lane\, Brentford\, TW8 0EN\, United Kingdom
CATEGORIES:Holiday/Seasonal Events
END:VEVENT
BEGIN:VEVENT
DTSTART;TZID=Europe/London:20260219T100000
DTEND;TZID=Europe/London:20260219T160000
DTSTAMP:20260423T132148
CREATED:20260207T215552Z
LAST-MODIFIED:20260207T215552Z
UID:10021476-1771495200-1771516800@richmondtwickenhamfamilyhub.com
SUMMARY:Trains Trains Trains – London Museum Of Water & Steam
DESCRIPTION:All aboard! Join the Museum for a week of train-themed activities\, including rides on the steam locomotive Thomas Wicksteed; displays of model steam railways with the 16mm Association (Weekend of 21-22 Feb); train-inspired crafting in the Waterworks Gallery. \nNormal admission applies plus train rides are £1 per ride. \n  \nhttps://waterandsteam.org.uk/whats-on-new
URL:https://richmondtwickenhamfamilyhub.com/event/trains-trains-trains-london-museum-of-water-steam/2026-02-19/
LOCATION:London Museum Of Water & Steam\, Green Dragon Lane\, Brentford\, TW8 0EN\, United Kingdom
CATEGORIES:Holiday/Seasonal Events
END:VEVENT
BEGIN:VEVENT
DTSTART;TZID=Europe/London:20260218T100000
DTEND;TZID=Europe/London:20260218T160000
DTSTAMP:20260423T132148
CREATED:20260207T215552Z
LAST-MODIFIED:20260207T215552Z
UID:10021475-1771408800-1771430400@richmondtwickenhamfamilyhub.com
SUMMARY:Trains Trains Trains – London Museum Of Water & Steam
DESCRIPTION:All aboard! Join the Museum for a week of train-themed activities\, including rides on the steam locomotive Thomas Wicksteed; displays of model steam railways with the 16mm Association (Weekend of 21-22 Feb); train-inspired crafting in the Waterworks Gallery. \nNormal admission applies plus train rides are £1 per ride. \n  \nhttps://waterandsteam.org.uk/whats-on-new
URL:https://richmondtwickenhamfamilyhub.com/event/trains-trains-trains-london-museum-of-water-steam/2026-02-18/
LOCATION:London Museum Of Water & Steam\, Green Dragon Lane\, Brentford\, TW8 0EN\, United Kingdom
CATEGORIES:Holiday/Seasonal Events
END:VEVENT
BEGIN:VEVENT
DTSTART;TZID=Europe/London:20260217T100000
DTEND;TZID=Europe/London:20260217T160000
DTSTAMP:20260423T132148
CREATED:20260207T215552Z
LAST-MODIFIED:20260207T215552Z
UID:10021474-1771322400-1771344000@richmondtwickenhamfamilyhub.com
SUMMARY:Trains Trains Trains – London Museum Of Water & Steam
DESCRIPTION:All aboard! Join the Museum for a week of train-themed activities\, including rides on the steam locomotive Thomas Wicksteed; displays of model steam railways with the 16mm Association (Weekend of 21-22 Feb); train-inspired crafting in the Waterworks Gallery. \nNormal admission applies plus train rides are £1 per ride. \n  \nhttps://waterandsteam.org.uk/whats-on-new
URL:https://richmondtwickenhamfamilyhub.com/event/trains-trains-trains-london-museum-of-water-steam/2026-02-17/
LOCATION:London Museum Of Water & Steam\, Green Dragon Lane\, Brentford\, TW8 0EN\, United Kingdom
CATEGORIES:Holiday/Seasonal Events
END:VEVENT
BEGIN:VEVENT
DTSTART;TZID=Europe/London:20260216T100000
DTEND;TZID=Europe/London:20260216T160000
DTSTAMP:20260423T132148
CREATED:20260207T215552Z
LAST-MODIFIED:20260207T215552Z
UID:10021473-1771236000-1771257600@richmondtwickenhamfamilyhub.com
SUMMARY:Trains Trains Trains – London Museum Of Water & Steam
DESCRIPTION:All aboard! Join the Museum for a week of train-themed activities\, including rides on the steam locomotive Thomas Wicksteed; displays of model steam railways with the 16mm Association (Weekend of 21-22 Feb); train-inspired crafting in the Waterworks Gallery. \nNormal admission applies plus train rides are £1 per ride. \n  \nhttps://waterandsteam.org.uk/whats-on-new
URL:https://richmondtwickenhamfamilyhub.com/event/trains-trains-trains-london-museum-of-water-steam/2026-02-16/
LOCATION:London Museum Of Water & Steam\, Green Dragon Lane\, Brentford\, TW8 0EN\, United Kingdom
CATEGORIES:Holiday/Seasonal Events
END:VEVENT
END:VCALENDAR