BEGIN:VCALENDAR
VERSION:2.0
PRODID:-//Family Hub - ECPv6.15.20//NONSGML v1.0//EN
CALSCALE:GREGORIAN
METHOD:PUBLISH
X-WR-CALNAME:Family Hub
X-ORIGINAL-URL:https://richmondtwickenhamfamilyhub.com
X-WR-CALDESC:Events for Family Hub
REFRESH-INTERVAL;VALUE=DURATION:PT1H
X-Robots-Tag:noindex
X-PUBLISHED-TTL:PT1H
BEGIN:VTIMEZONE
TZID:Europe/London
BEGIN:DAYLIGHT
TZOFFSETFROM:+0000
TZOFFSETTO:+0100
TZNAME:BST
DTSTART:20250330T010000
END:DAYLIGHT
BEGIN:STANDARD
TZOFFSETFROM:+0100
TZOFFSETTO:+0000
TZNAME:GMT
DTSTART:20251026T010000
END:STANDARD
BEGIN:DAYLIGHT
TZOFFSETFROM:+0000
TZOFFSETTO:+0100
TZNAME:BST
DTSTART:20260329T010000
END:DAYLIGHT
BEGIN:STANDARD
TZOFFSETFROM:+0100
TZOFFSETTO:+0000
TZNAME:GMT
DTSTART:20261025T010000
END:STANDARD
BEGIN:DAYLIGHT
TZOFFSETFROM:+0000
TZOFFSETTO:+0100
TZNAME:BST
DTSTART:20270328T010000
END:DAYLIGHT
BEGIN:STANDARD
TZOFFSETFROM:+0100
TZOFFSETTO:+0000
TZNAME:GMT
DTSTART:20271031T010000
END:STANDARD
END:VTIMEZONE
BEGIN:VEVENT
DTSTART;TZID=Europe/London:20260426T090000
DTEND;TZID=Europe/London:20260426T100000
DTSTAMP:20260423T060838
CREATED:20260114T214024Z
LAST-MODIFIED:20260114T214024Z
UID:10021215-1777194000-1777197600@richmondtwickenhamfamilyhub.com
SUMMARY:Junior Parkrun – Moormead\, St Margarets
DESCRIPTION:A 2k event for juniors only (4 to 14 year olds). ​ \nThe aim is to have fun. Please go along and join in whatever your pace! \nWhat does it cost to join in?\nNothing – it’s free! but please register before your first visit. Only ever register with parkrun once. Don’t forget to take a printed copy of your barcode (request a reminder). \nhttps://www.parkrun.org.uk/moormead-juniors/
URL:https://richmondtwickenhamfamilyhub.com/event/junior-parkrun-moormead-st-margarets/2026-04-26/
LOCATION:Moormead & Bandy Recreation Gound\, Moor Mead Road\, St Margarets\, TW1 1JS\, United Kingdom
CATEGORIES:Kids Activities
END:VEVENT
BEGIN:VEVENT
DTSTART;TZID=Europe/London:20260503T090000
DTEND;TZID=Europe/London:20260503T100000
DTSTAMP:20260423T060838
CREATED:20260114T214024Z
LAST-MODIFIED:20260114T214024Z
UID:10021216-1777798800-1777802400@richmondtwickenhamfamilyhub.com
SUMMARY:Junior Parkrun – Moormead\, St Margarets
DESCRIPTION:A 2k event for juniors only (4 to 14 year olds). ​ \nThe aim is to have fun. Please go along and join in whatever your pace! \nWhat does it cost to join in?\nNothing – it’s free! but please register before your first visit. Only ever register with parkrun once. Don’t forget to take a printed copy of your barcode (request a reminder). \nhttps://www.parkrun.org.uk/moormead-juniors/
URL:https://richmondtwickenhamfamilyhub.com/event/junior-parkrun-moormead-st-margarets/2026-05-03/
LOCATION:Moormead & Bandy Recreation Gound\, Moor Mead Road\, St Margarets\, TW1 1JS\, United Kingdom
CATEGORIES:Kids Activities
END:VEVENT
BEGIN:VEVENT
DTSTART;TZID=Europe/London:20260510T090000
DTEND;TZID=Europe/London:20260510T100000
DTSTAMP:20260423T060838
CREATED:20260114T214024Z
LAST-MODIFIED:20260114T214024Z
UID:10021217-1778403600-1778407200@richmondtwickenhamfamilyhub.com
SUMMARY:Junior Parkrun – Moormead\, St Margarets
DESCRIPTION:A 2k event for juniors only (4 to 14 year olds). ​ \nThe aim is to have fun. Please go along and join in whatever your pace! \nWhat does it cost to join in?\nNothing – it’s free! but please register before your first visit. Only ever register with parkrun once. Don’t forget to take a printed copy of your barcode (request a reminder). \nhttps://www.parkrun.org.uk/moormead-juniors/
URL:https://richmondtwickenhamfamilyhub.com/event/junior-parkrun-moormead-st-margarets/2026-05-10/
LOCATION:Moormead & Bandy Recreation Gound\, Moor Mead Road\, St Margarets\, TW1 1JS\, United Kingdom
CATEGORIES:Kids Activities
END:VEVENT
BEGIN:VEVENT
DTSTART;TZID=Europe/London:20260517T090000
DTEND;TZID=Europe/London:20260517T100000
DTSTAMP:20260423T060838
CREATED:20260114T214024Z
LAST-MODIFIED:20260114T214024Z
UID:10021218-1779008400-1779012000@richmondtwickenhamfamilyhub.com
SUMMARY:Junior Parkrun – Moormead\, St Margarets
DESCRIPTION:A 2k event for juniors only (4 to 14 year olds). ​ \nThe aim is to have fun. Please go along and join in whatever your pace! \nWhat does it cost to join in?\nNothing – it’s free! but please register before your first visit. Only ever register with parkrun once. Don’t forget to take a printed copy of your barcode (request a reminder). \nhttps://www.parkrun.org.uk/moormead-juniors/
URL:https://richmondtwickenhamfamilyhub.com/event/junior-parkrun-moormead-st-margarets/2026-05-17/
LOCATION:Moormead & Bandy Recreation Gound\, Moor Mead Road\, St Margarets\, TW1 1JS\, United Kingdom
CATEGORIES:Kids Activities
END:VEVENT
BEGIN:VEVENT
DTSTART;TZID=Europe/London:20260524T090000
DTEND;TZID=Europe/London:20260524T100000
DTSTAMP:20260423T060838
CREATED:20260114T214024Z
LAST-MODIFIED:20260114T214024Z
UID:10021219-1779613200-1779616800@richmondtwickenhamfamilyhub.com
SUMMARY:Junior Parkrun – Moormead\, St Margarets
DESCRIPTION:A 2k event for juniors only (4 to 14 year olds). ​ \nThe aim is to have fun. Please go along and join in whatever your pace! \nWhat does it cost to join in?\nNothing – it’s free! but please register before your first visit. Only ever register with parkrun once. Don’t forget to take a printed copy of your barcode (request a reminder). \nhttps://www.parkrun.org.uk/moormead-juniors/
URL:https://richmondtwickenhamfamilyhub.com/event/junior-parkrun-moormead-st-margarets/2026-05-24/
LOCATION:Moormead & Bandy Recreation Gound\, Moor Mead Road\, St Margarets\, TW1 1JS\, United Kingdom
CATEGORIES:Kids Activities
END:VEVENT
BEGIN:VEVENT
DTSTART;TZID=Europe/London:20260531T090000
DTEND;TZID=Europe/London:20260531T100000
DTSTAMP:20260423T060838
CREATED:20260114T214024Z
LAST-MODIFIED:20260114T214024Z
UID:10021220-1780218000-1780221600@richmondtwickenhamfamilyhub.com
SUMMARY:Junior Parkrun – Moormead\, St Margarets
DESCRIPTION:A 2k event for juniors only (4 to 14 year olds). ​ \nThe aim is to have fun. Please go along and join in whatever your pace! \nWhat does it cost to join in?\nNothing – it’s free! but please register before your first visit. Only ever register with parkrun once. Don’t forget to take a printed copy of your barcode (request a reminder). \nhttps://www.parkrun.org.uk/moormead-juniors/
URL:https://richmondtwickenhamfamilyhub.com/event/junior-parkrun-moormead-st-margarets/2026-05-31/
LOCATION:Moormead & Bandy Recreation Gound\, Moor Mead Road\, St Margarets\, TW1 1JS\, United Kingdom
CATEGORIES:Kids Activities
END:VEVENT
BEGIN:VEVENT
DTSTART;TZID=Europe/London:20260607T090000
DTEND;TZID=Europe/London:20260607T100000
DTSTAMP:20260423T060838
CREATED:20260114T214024Z
LAST-MODIFIED:20260114T214024Z
UID:10021221-1780822800-1780826400@richmondtwickenhamfamilyhub.com
SUMMARY:Junior Parkrun – Moormead\, St Margarets
DESCRIPTION:A 2k event for juniors only (4 to 14 year olds). ​ \nThe aim is to have fun. Please go along and join in whatever your pace! \nWhat does it cost to join in?\nNothing – it’s free! but please register before your first visit. Only ever register with parkrun once. Don’t forget to take a printed copy of your barcode (request a reminder). \nhttps://www.parkrun.org.uk/moormead-juniors/
URL:https://richmondtwickenhamfamilyhub.com/event/junior-parkrun-moormead-st-margarets/2026-06-07/
LOCATION:Moormead & Bandy Recreation Gound\, Moor Mead Road\, St Margarets\, TW1 1JS\, United Kingdom
CATEGORIES:Kids Activities
END:VEVENT
BEGIN:VEVENT
DTSTART;TZID=Europe/London:20260614T090000
DTEND;TZID=Europe/London:20260614T100000
DTSTAMP:20260423T060838
CREATED:20260114T214024Z
LAST-MODIFIED:20260114T214024Z
UID:10021222-1781427600-1781431200@richmondtwickenhamfamilyhub.com
SUMMARY:Junior Parkrun – Moormead\, St Margarets
DESCRIPTION:A 2k event for juniors only (4 to 14 year olds). ​ \nThe aim is to have fun. Please go along and join in whatever your pace! \nWhat does it cost to join in?\nNothing – it’s free! but please register before your first visit. Only ever register with parkrun once. Don’t forget to take a printed copy of your barcode (request a reminder). \nhttps://www.parkrun.org.uk/moormead-juniors/
URL:https://richmondtwickenhamfamilyhub.com/event/junior-parkrun-moormead-st-margarets/2026-06-14/
LOCATION:Moormead & Bandy Recreation Gound\, Moor Mead Road\, St Margarets\, TW1 1JS\, United Kingdom
CATEGORIES:Kids Activities
END:VEVENT
BEGIN:VEVENT
DTSTART;TZID=Europe/London:20260621T090000
DTEND;TZID=Europe/London:20260621T100000
DTSTAMP:20260423T060839
CREATED:20260114T214024Z
LAST-MODIFIED:20260114T214024Z
UID:10021223-1782032400-1782036000@richmondtwickenhamfamilyhub.com
SUMMARY:Junior Parkrun – Moormead\, St Margarets
DESCRIPTION:A 2k event for juniors only (4 to 14 year olds). ​ \nThe aim is to have fun. Please go along and join in whatever your pace! \nWhat does it cost to join in?\nNothing – it’s free! but please register before your first visit. Only ever register with parkrun once. Don’t forget to take a printed copy of your barcode (request a reminder). \nhttps://www.parkrun.org.uk/moormead-juniors/
URL:https://richmondtwickenhamfamilyhub.com/event/junior-parkrun-moormead-st-margarets/2026-06-21/
LOCATION:Moormead & Bandy Recreation Gound\, Moor Mead Road\, St Margarets\, TW1 1JS\, United Kingdom
CATEGORIES:Kids Activities
END:VEVENT
BEGIN:VEVENT
DTSTART;TZID=Europe/London:20260628T090000
DTEND;TZID=Europe/London:20260628T100000
DTSTAMP:20260423T060839
CREATED:20260114T214024Z
LAST-MODIFIED:20260114T214024Z
UID:10021224-1782637200-1782640800@richmondtwickenhamfamilyhub.com
SUMMARY:Junior Parkrun – Moormead\, St Margarets
DESCRIPTION:A 2k event for juniors only (4 to 14 year olds). ​ \nThe aim is to have fun. Please go along and join in whatever your pace! \nWhat does it cost to join in?\nNothing – it’s free! but please register before your first visit. Only ever register with parkrun once. Don’t forget to take a printed copy of your barcode (request a reminder). \nhttps://www.parkrun.org.uk/moormead-juniors/
URL:https://richmondtwickenhamfamilyhub.com/event/junior-parkrun-moormead-st-margarets/2026-06-28/
LOCATION:Moormead & Bandy Recreation Gound\, Moor Mead Road\, St Margarets\, TW1 1JS\, United Kingdom
CATEGORIES:Kids Activities
END:VEVENT
BEGIN:VEVENT
DTSTART;TZID=Europe/London:20260705T090000
DTEND;TZID=Europe/London:20260705T100000
DTSTAMP:20260423T060839
CREATED:20260114T214024Z
LAST-MODIFIED:20260114T214024Z
UID:10021225-1783242000-1783245600@richmondtwickenhamfamilyhub.com
SUMMARY:Junior Parkrun – Moormead\, St Margarets
DESCRIPTION:A 2k event for juniors only (4 to 14 year olds). ​ \nThe aim is to have fun. Please go along and join in whatever your pace! \nWhat does it cost to join in?\nNothing – it’s free! but please register before your first visit. Only ever register with parkrun once. Don’t forget to take a printed copy of your barcode (request a reminder). \nhttps://www.parkrun.org.uk/moormead-juniors/
URL:https://richmondtwickenhamfamilyhub.com/event/junior-parkrun-moormead-st-margarets/2026-07-05/
LOCATION:Moormead & Bandy Recreation Gound\, Moor Mead Road\, St Margarets\, TW1 1JS\, United Kingdom
CATEGORIES:Kids Activities
END:VEVENT
BEGIN:VEVENT
DTSTART;TZID=Europe/London:20260712T090000
DTEND;TZID=Europe/London:20260712T100000
DTSTAMP:20260423T060839
CREATED:20260114T214024Z
LAST-MODIFIED:20260114T214024Z
UID:10021226-1783846800-1783850400@richmondtwickenhamfamilyhub.com
SUMMARY:Junior Parkrun – Moormead\, St Margarets
DESCRIPTION:A 2k event for juniors only (4 to 14 year olds). ​ \nThe aim is to have fun. Please go along and join in whatever your pace! \nWhat does it cost to join in?\nNothing – it’s free! but please register before your first visit. Only ever register with parkrun once. Don’t forget to take a printed copy of your barcode (request a reminder). \nhttps://www.parkrun.org.uk/moormead-juniors/
URL:https://richmondtwickenhamfamilyhub.com/event/junior-parkrun-moormead-st-margarets/2026-07-12/
LOCATION:Moormead & Bandy Recreation Gound\, Moor Mead Road\, St Margarets\, TW1 1JS\, United Kingdom
CATEGORIES:Kids Activities
END:VEVENT
BEGIN:VEVENT
DTSTART;TZID=Europe/London:20260719T090000
DTEND;TZID=Europe/London:20260719T100000
DTSTAMP:20260423T060839
CREATED:20260114T214024Z
LAST-MODIFIED:20260114T214024Z
UID:10021227-1784451600-1784455200@richmondtwickenhamfamilyhub.com
SUMMARY:Junior Parkrun – Moormead\, St Margarets
DESCRIPTION:A 2k event for juniors only (4 to 14 year olds). ​ \nThe aim is to have fun. Please go along and join in whatever your pace! \nWhat does it cost to join in?\nNothing – it’s free! but please register before your first visit. Only ever register with parkrun once. Don’t forget to take a printed copy of your barcode (request a reminder). \nhttps://www.parkrun.org.uk/moormead-juniors/
URL:https://richmondtwickenhamfamilyhub.com/event/junior-parkrun-moormead-st-margarets/2026-07-19/
LOCATION:Moormead & Bandy Recreation Gound\, Moor Mead Road\, St Margarets\, TW1 1JS\, United Kingdom
CATEGORIES:Kids Activities
END:VEVENT
BEGIN:VEVENT
DTSTART;TZID=Europe/London:20260726T090000
DTEND;TZID=Europe/London:20260726T100000
DTSTAMP:20260423T060839
CREATED:20260114T214024Z
LAST-MODIFIED:20260114T214024Z
UID:10021228-1785056400-1785060000@richmondtwickenhamfamilyhub.com
SUMMARY:Junior Parkrun – Moormead\, St Margarets
DESCRIPTION:A 2k event for juniors only (4 to 14 year olds). ​ \nThe aim is to have fun. Please go along and join in whatever your pace! \nWhat does it cost to join in?\nNothing – it’s free! but please register before your first visit. Only ever register with parkrun once. Don’t forget to take a printed copy of your barcode (request a reminder). \nhttps://www.parkrun.org.uk/moormead-juniors/
URL:https://richmondtwickenhamfamilyhub.com/event/junior-parkrun-moormead-st-margarets/2026-07-26/
LOCATION:Moormead & Bandy Recreation Gound\, Moor Mead Road\, St Margarets\, TW1 1JS\, United Kingdom
CATEGORIES:Kids Activities
END:VEVENT
BEGIN:VEVENT
DTSTART;TZID=Europe/London:20260802T090000
DTEND;TZID=Europe/London:20260802T100000
DTSTAMP:20260423T060839
CREATED:20260114T214024Z
LAST-MODIFIED:20260114T214024Z
UID:10021229-1785661200-1785664800@richmondtwickenhamfamilyhub.com
SUMMARY:Junior Parkrun – Moormead\, St Margarets
DESCRIPTION:A 2k event for juniors only (4 to 14 year olds). ​ \nThe aim is to have fun. Please go along and join in whatever your pace! \nWhat does it cost to join in?\nNothing – it’s free! but please register before your first visit. Only ever register with parkrun once. Don’t forget to take a printed copy of your barcode (request a reminder). \nhttps://www.parkrun.org.uk/moormead-juniors/
URL:https://richmondtwickenhamfamilyhub.com/event/junior-parkrun-moormead-st-margarets/2026-08-02/
LOCATION:Moormead & Bandy Recreation Gound\, Moor Mead Road\, St Margarets\, TW1 1JS\, United Kingdom
CATEGORIES:Kids Activities
END:VEVENT
BEGIN:VEVENT
DTSTART;TZID=Europe/London:20260809T090000
DTEND;TZID=Europe/London:20260809T100000
DTSTAMP:20260423T060839
CREATED:20260114T214024Z
LAST-MODIFIED:20260114T214024Z
UID:10021230-1786266000-1786269600@richmondtwickenhamfamilyhub.com
SUMMARY:Junior Parkrun – Moormead\, St Margarets
DESCRIPTION:A 2k event for juniors only (4 to 14 year olds). ​ \nThe aim is to have fun. Please go along and join in whatever your pace! \nWhat does it cost to join in?\nNothing – it’s free! but please register before your first visit. Only ever register with parkrun once. Don’t forget to take a printed copy of your barcode (request a reminder). \nhttps://www.parkrun.org.uk/moormead-juniors/
URL:https://richmondtwickenhamfamilyhub.com/event/junior-parkrun-moormead-st-margarets/2026-08-09/
LOCATION:Moormead & Bandy Recreation Gound\, Moor Mead Road\, St Margarets\, TW1 1JS\, United Kingdom
CATEGORIES:Kids Activities
END:VEVENT
BEGIN:VEVENT
DTSTART;TZID=Europe/London:20260816T090000
DTEND;TZID=Europe/London:20260816T100000
DTSTAMP:20260423T060839
CREATED:20260114T214024Z
LAST-MODIFIED:20260114T214024Z
UID:10021231-1786870800-1786874400@richmondtwickenhamfamilyhub.com
SUMMARY:Junior Parkrun – Moormead\, St Margarets
DESCRIPTION:A 2k event for juniors only (4 to 14 year olds). ​ \nThe aim is to have fun. Please go along and join in whatever your pace! \nWhat does it cost to join in?\nNothing – it’s free! but please register before your first visit. Only ever register with parkrun once. Don’t forget to take a printed copy of your barcode (request a reminder). \nhttps://www.parkrun.org.uk/moormead-juniors/
URL:https://richmondtwickenhamfamilyhub.com/event/junior-parkrun-moormead-st-margarets/2026-08-16/
LOCATION:Moormead & Bandy Recreation Gound\, Moor Mead Road\, St Margarets\, TW1 1JS\, United Kingdom
CATEGORIES:Kids Activities
END:VEVENT
BEGIN:VEVENT
DTSTART;TZID=Europe/London:20260823T090000
DTEND;TZID=Europe/London:20260823T100000
DTSTAMP:20260423T060839
CREATED:20260114T214024Z
LAST-MODIFIED:20260114T214024Z
UID:10021232-1787475600-1787479200@richmondtwickenhamfamilyhub.com
SUMMARY:Junior Parkrun – Moormead\, St Margarets
DESCRIPTION:A 2k event for juniors only (4 to 14 year olds). ​ \nThe aim is to have fun. Please go along and join in whatever your pace! \nWhat does it cost to join in?\nNothing – it’s free! but please register before your first visit. Only ever register with parkrun once. Don’t forget to take a printed copy of your barcode (request a reminder). \nhttps://www.parkrun.org.uk/moormead-juniors/
URL:https://richmondtwickenhamfamilyhub.com/event/junior-parkrun-moormead-st-margarets/2026-08-23/
LOCATION:Moormead & Bandy Recreation Gound\, Moor Mead Road\, St Margarets\, TW1 1JS\, United Kingdom
CATEGORIES:Kids Activities
END:VEVENT
BEGIN:VEVENT
DTSTART;TZID=Europe/London:20260830T090000
DTEND;TZID=Europe/London:20260830T100000
DTSTAMP:20260423T060839
CREATED:20260114T214024Z
LAST-MODIFIED:20260114T214024Z
UID:10021233-1788080400-1788084000@richmondtwickenhamfamilyhub.com
SUMMARY:Junior Parkrun – Moormead\, St Margarets
DESCRIPTION:A 2k event for juniors only (4 to 14 year olds). ​ \nThe aim is to have fun. Please go along and join in whatever your pace! \nWhat does it cost to join in?\nNothing – it’s free! but please register before your first visit. Only ever register with parkrun once. Don’t forget to take a printed copy of your barcode (request a reminder). \nhttps://www.parkrun.org.uk/moormead-juniors/
URL:https://richmondtwickenhamfamilyhub.com/event/junior-parkrun-moormead-st-margarets/2026-08-30/
LOCATION:Moormead & Bandy Recreation Gound\, Moor Mead Road\, St Margarets\, TW1 1JS\, United Kingdom
CATEGORIES:Kids Activities
END:VEVENT
BEGIN:VEVENT
DTSTART;TZID=Europe/London:20260906T090000
DTEND;TZID=Europe/London:20260906T100000
DTSTAMP:20260423T060839
CREATED:20260114T214024Z
LAST-MODIFIED:20260114T214024Z
UID:10021234-1788685200-1788688800@richmondtwickenhamfamilyhub.com
SUMMARY:Junior Parkrun – Moormead\, St Margarets
DESCRIPTION:A 2k event for juniors only (4 to 14 year olds). ​ \nThe aim is to have fun. Please go along and join in whatever your pace! \nWhat does it cost to join in?\nNothing – it’s free! but please register before your first visit. Only ever register with parkrun once. Don’t forget to take a printed copy of your barcode (request a reminder). \nhttps://www.parkrun.org.uk/moormead-juniors/
URL:https://richmondtwickenhamfamilyhub.com/event/junior-parkrun-moormead-st-margarets/2026-09-06/
LOCATION:Moormead & Bandy Recreation Gound\, Moor Mead Road\, St Margarets\, TW1 1JS\, United Kingdom
CATEGORIES:Kids Activities
END:VEVENT
BEGIN:VEVENT
DTSTART;TZID=Europe/London:20260913T090000
DTEND;TZID=Europe/London:20260913T100000
DTSTAMP:20260423T060839
CREATED:20260114T214024Z
LAST-MODIFIED:20260114T214024Z
UID:10021235-1789290000-1789293600@richmondtwickenhamfamilyhub.com
SUMMARY:Junior Parkrun – Moormead\, St Margarets
DESCRIPTION:A 2k event for juniors only (4 to 14 year olds). ​ \nThe aim is to have fun. Please go along and join in whatever your pace! \nWhat does it cost to join in?\nNothing – it’s free! but please register before your first visit. Only ever register with parkrun once. Don’t forget to take a printed copy of your barcode (request a reminder). \nhttps://www.parkrun.org.uk/moormead-juniors/
URL:https://richmondtwickenhamfamilyhub.com/event/junior-parkrun-moormead-st-margarets/2026-09-13/
LOCATION:Moormead & Bandy Recreation Gound\, Moor Mead Road\, St Margarets\, TW1 1JS\, United Kingdom
CATEGORIES:Kids Activities
END:VEVENT
BEGIN:VEVENT
DTSTART;TZID=Europe/London:20260920T090000
DTEND;TZID=Europe/London:20260920T100000
DTSTAMP:20260423T060839
CREATED:20260114T214024Z
LAST-MODIFIED:20260114T214024Z
UID:10021236-1789894800-1789898400@richmondtwickenhamfamilyhub.com
SUMMARY:Junior Parkrun – Moormead\, St Margarets
DESCRIPTION:A 2k event for juniors only (4 to 14 year olds). ​ \nThe aim is to have fun. Please go along and join in whatever your pace! \nWhat does it cost to join in?\nNothing – it’s free! but please register before your first visit. Only ever register with parkrun once. Don’t forget to take a printed copy of your barcode (request a reminder). \nhttps://www.parkrun.org.uk/moormead-juniors/
URL:https://richmondtwickenhamfamilyhub.com/event/junior-parkrun-moormead-st-margarets/2026-09-20/
LOCATION:Moormead & Bandy Recreation Gound\, Moor Mead Road\, St Margarets\, TW1 1JS\, United Kingdom
CATEGORIES:Kids Activities
END:VEVENT
BEGIN:VEVENT
DTSTART;TZID=Europe/London:20260927T090000
DTEND;TZID=Europe/London:20260927T100000
DTSTAMP:20260423T060839
CREATED:20260114T214024Z
LAST-MODIFIED:20260114T214024Z
UID:10021237-1790499600-1790503200@richmondtwickenhamfamilyhub.com
SUMMARY:Junior Parkrun – Moormead\, St Margarets
DESCRIPTION:A 2k event for juniors only (4 to 14 year olds). ​ \nThe aim is to have fun. Please go along and join in whatever your pace! \nWhat does it cost to join in?\nNothing – it’s free! but please register before your first visit. Only ever register with parkrun once. Don’t forget to take a printed copy of your barcode (request a reminder). \nhttps://www.parkrun.org.uk/moormead-juniors/
URL:https://richmondtwickenhamfamilyhub.com/event/junior-parkrun-moormead-st-margarets/2026-09-27/
LOCATION:Moormead & Bandy Recreation Gound\, Moor Mead Road\, St Margarets\, TW1 1JS\, United Kingdom
CATEGORIES:Kids Activities
END:VEVENT
BEGIN:VEVENT
DTSTART;TZID=Europe/London:20261004T090000
DTEND;TZID=Europe/London:20261004T100000
DTSTAMP:20260423T060839
CREATED:20260114T214024Z
LAST-MODIFIED:20260114T214024Z
UID:10021238-1791104400-1791108000@richmondtwickenhamfamilyhub.com
SUMMARY:Junior Parkrun – Moormead\, St Margarets
DESCRIPTION:A 2k event for juniors only (4 to 14 year olds). ​ \nThe aim is to have fun. Please go along and join in whatever your pace! \nWhat does it cost to join in?\nNothing – it’s free! but please register before your first visit. Only ever register with parkrun once. Don’t forget to take a printed copy of your barcode (request a reminder). \nhttps://www.parkrun.org.uk/moormead-juniors/
URL:https://richmondtwickenhamfamilyhub.com/event/junior-parkrun-moormead-st-margarets/2026-10-04/
LOCATION:Moormead & Bandy Recreation Gound\, Moor Mead Road\, St Margarets\, TW1 1JS\, United Kingdom
CATEGORIES:Kids Activities
END:VEVENT
BEGIN:VEVENT
DTSTART;TZID=Europe/London:20261011T090000
DTEND;TZID=Europe/London:20261011T100000
DTSTAMP:20260423T060839
CREATED:20260114T214024Z
LAST-MODIFIED:20260114T214024Z
UID:10021239-1791709200-1791712800@richmondtwickenhamfamilyhub.com
SUMMARY:Junior Parkrun – Moormead\, St Margarets
DESCRIPTION:A 2k event for juniors only (4 to 14 year olds). ​ \nThe aim is to have fun. Please go along and join in whatever your pace! \nWhat does it cost to join in?\nNothing – it’s free! but please register before your first visit. Only ever register with parkrun once. Don’t forget to take a printed copy of your barcode (request a reminder). \nhttps://www.parkrun.org.uk/moormead-juniors/
URL:https://richmondtwickenhamfamilyhub.com/event/junior-parkrun-moormead-st-margarets/2026-10-11/
LOCATION:Moormead & Bandy Recreation Gound\, Moor Mead Road\, St Margarets\, TW1 1JS\, United Kingdom
CATEGORIES:Kids Activities
END:VEVENT
BEGIN:VEVENT
DTSTART;TZID=Europe/London:20261018T090000
DTEND;TZID=Europe/London:20261018T100000
DTSTAMP:20260423T060839
CREATED:20260114T214024Z
LAST-MODIFIED:20260114T214024Z
UID:10021240-1792314000-1792317600@richmondtwickenhamfamilyhub.com
SUMMARY:Junior Parkrun – Moormead\, St Margarets
DESCRIPTION:A 2k event for juniors only (4 to 14 year olds). ​ \nThe aim is to have fun. Please go along and join in whatever your pace! \nWhat does it cost to join in?\nNothing – it’s free! but please register before your first visit. Only ever register with parkrun once. Don’t forget to take a printed copy of your barcode (request a reminder). \nhttps://www.parkrun.org.uk/moormead-juniors/
URL:https://richmondtwickenhamfamilyhub.com/event/junior-parkrun-moormead-st-margarets/2026-10-18/
LOCATION:Moormead & Bandy Recreation Gound\, Moor Mead Road\, St Margarets\, TW1 1JS\, United Kingdom
CATEGORIES:Kids Activities
END:VEVENT
BEGIN:VEVENT
DTSTART;TZID=Europe/London:20261025T090000
DTEND;TZID=Europe/London:20261025T100000
DTSTAMP:20260423T060839
CREATED:20260114T214024Z
LAST-MODIFIED:20260114T214024Z
UID:10021241-1792918800-1792922400@richmondtwickenhamfamilyhub.com
SUMMARY:Junior Parkrun – Moormead\, St Margarets
DESCRIPTION:A 2k event for juniors only (4 to 14 year olds). ​ \nThe aim is to have fun. Please go along and join in whatever your pace! \nWhat does it cost to join in?\nNothing – it’s free! but please register before your first visit. Only ever register with parkrun once. Don’t forget to take a printed copy of your barcode (request a reminder). \nhttps://www.parkrun.org.uk/moormead-juniors/
URL:https://richmondtwickenhamfamilyhub.com/event/junior-parkrun-moormead-st-margarets/2026-10-25/
LOCATION:Moormead & Bandy Recreation Gound\, Moor Mead Road\, St Margarets\, TW1 1JS\, United Kingdom
CATEGORIES:Kids Activities
END:VEVENT
BEGIN:VEVENT
DTSTART;TZID=Europe/London:20261101T090000
DTEND;TZID=Europe/London:20261101T100000
DTSTAMP:20260423T060839
CREATED:20260114T214024Z
LAST-MODIFIED:20260114T214024Z
UID:10021242-1793523600-1793527200@richmondtwickenhamfamilyhub.com
SUMMARY:Junior Parkrun – Moormead\, St Margarets
DESCRIPTION:A 2k event for juniors only (4 to 14 year olds). ​ \nThe aim is to have fun. Please go along and join in whatever your pace! \nWhat does it cost to join in?\nNothing – it’s free! but please register before your first visit. Only ever register with parkrun once. Don’t forget to take a printed copy of your barcode (request a reminder). \nhttps://www.parkrun.org.uk/moormead-juniors/
URL:https://richmondtwickenhamfamilyhub.com/event/junior-parkrun-moormead-st-margarets/2026-11-01/
LOCATION:Moormead & Bandy Recreation Gound\, Moor Mead Road\, St Margarets\, TW1 1JS\, United Kingdom
CATEGORIES:Kids Activities
END:VEVENT
BEGIN:VEVENT
DTSTART;TZID=Europe/London:20261108T090000
DTEND;TZID=Europe/London:20261108T100000
DTSTAMP:20260423T060839
CREATED:20260114T214024Z
LAST-MODIFIED:20260114T214024Z
UID:10021243-1794128400-1794132000@richmondtwickenhamfamilyhub.com
SUMMARY:Junior Parkrun – Moormead\, St Margarets
DESCRIPTION:A 2k event for juniors only (4 to 14 year olds). ​ \nThe aim is to have fun. Please go along and join in whatever your pace! \nWhat does it cost to join in?\nNothing – it’s free! but please register before your first visit. Only ever register with parkrun once. Don’t forget to take a printed copy of your barcode (request a reminder). \nhttps://www.parkrun.org.uk/moormead-juniors/
URL:https://richmondtwickenhamfamilyhub.com/event/junior-parkrun-moormead-st-margarets/2026-11-08/
LOCATION:Moormead & Bandy Recreation Gound\, Moor Mead Road\, St Margarets\, TW1 1JS\, United Kingdom
CATEGORIES:Kids Activities
END:VEVENT
BEGIN:VEVENT
DTSTART;TZID=Europe/London:20261115T090000
DTEND;TZID=Europe/London:20261115T100000
DTSTAMP:20260423T060839
CREATED:20260114T214024Z
LAST-MODIFIED:20260114T214024Z
UID:10021244-1794733200-1794736800@richmondtwickenhamfamilyhub.com
SUMMARY:Junior Parkrun – Moormead\, St Margarets
DESCRIPTION:A 2k event for juniors only (4 to 14 year olds). ​ \nThe aim is to have fun. Please go along and join in whatever your pace! \nWhat does it cost to join in?\nNothing – it’s free! but please register before your first visit. Only ever register with parkrun once. Don’t forget to take a printed copy of your barcode (request a reminder). \nhttps://www.parkrun.org.uk/moormead-juniors/
URL:https://richmondtwickenhamfamilyhub.com/event/junior-parkrun-moormead-st-margarets/2026-11-15/
LOCATION:Moormead & Bandy Recreation Gound\, Moor Mead Road\, St Margarets\, TW1 1JS\, United Kingdom
CATEGORIES:Kids Activities
END:VEVENT
END:VCALENDAR