BEGIN:VCALENDAR
VERSION:2.0
PRODID:-//Family Hub - ECPv6.15.20//NONSGML v1.0//EN
CALSCALE:GREGORIAN
METHOD:PUBLISH
X-WR-CALNAME:Family Hub
X-ORIGINAL-URL:https://richmondtwickenhamfamilyhub.com
X-WR-CALDESC:Events for Family Hub
REFRESH-INTERVAL;VALUE=DURATION:PT1H
X-Robots-Tag:noindex
X-PUBLISHED-TTL:PT1H
BEGIN:VTIMEZONE
TZID:Europe/London
BEGIN:DAYLIGHT
TZOFFSETFROM:+0000
TZOFFSETTO:+0100
TZNAME:BST
DTSTART:20240331T010000
END:DAYLIGHT
BEGIN:STANDARD
TZOFFSETFROM:+0100
TZOFFSETTO:+0000
TZNAME:GMT
DTSTART:20241027T010000
END:STANDARD
BEGIN:DAYLIGHT
TZOFFSETFROM:+0000
TZOFFSETTO:+0100
TZNAME:BST
DTSTART:20250330T010000
END:DAYLIGHT
BEGIN:STANDARD
TZOFFSETFROM:+0100
TZOFFSETTO:+0000
TZNAME:GMT
DTSTART:20251026T010000
END:STANDARD
BEGIN:DAYLIGHT
TZOFFSETFROM:+0000
TZOFFSETTO:+0100
TZNAME:BST
DTSTART:20260329T010000
END:DAYLIGHT
BEGIN:STANDARD
TZOFFSETFROM:+0100
TZOFFSETTO:+0000
TZNAME:GMT
DTSTART:20261025T010000
END:STANDARD
BEGIN:DAYLIGHT
TZOFFSETFROM:+0000
TZOFFSETTO:+0100
TZNAME:BST
DTSTART:20270328T010000
END:DAYLIGHT
BEGIN:STANDARD
TZOFFSETFROM:+0100
TZOFFSETTO:+0000
TZNAME:GMT
DTSTART:20271031T010000
END:STANDARD
END:VTIMEZONE
BEGIN:VEVENT
DTSTART;TZID=Europe/London:20260330T140000
DTEND;TZID=Europe/London:20260330T160000
DTSTAMP:20260423T125124
CREATED:20260309T132137Z
LAST-MODIFIED:20260309T132137Z
UID:10021568-1774879200-1774886400@richmondtwickenhamfamilyhub.com
SUMMARY:Easter Sewing Workshop (5+yrs) – Twickenham
DESCRIPTION:This Easter holiday\, join Pins & Needles for some sewing fun. The children will be making Easter Bunny Wands\, Chunky Chickens\, Sleeping Bunnies in a Carrot\, Cheeky Chicks in an Egg\, and the cutest Bunny Necklaces!​​ \nhttps://www.pinsandneedles.club/easter-workshops
URL:https://richmondtwickenhamfamilyhub.com/event/easter-sewing-workshop-5yrs-twickenham/
LOCATION:Patch Twickenham\, 42 York Street\, Twickenham\, TW1 3BW
CATEGORIES:Holiday/Seasonal Workshops
END:VEVENT
BEGIN:VEVENT
DTSTART;TZID=Europe/London:20251220T140000
DTEND;TZID=Europe/London:20251220T160000
DTSTAMP:20260423T125124
CREATED:20251203T125946Z
LAST-MODIFIED:20251203T125946Z
UID:10020721-1766239200-1766246400@richmondtwickenhamfamilyhub.com
SUMMARY:Elf Buddies Family Christmas Sewing Workshop – Twickenham
DESCRIPTION:Join a magical Christmas workshop where you and your little elf can enjoy some cosy\, festive quality time together\, stitching adorable decorations perfect for gifting or hanging proudly on your Christmas tree. \n​The workshop runs from 2.00-4.00pm and takes place at Patch in Twickenham. Suitable for little elves from age 5+ but no age restriction for big elves! \nTickets are £55 for one big elf and one little elf (£5 discount for Autumn or Spring term school club members) or you can add extra elves for £25 per head when you book. \nPLUS!  Hot tea\, coffee\, soft drinks and festive elf-approved nibbles will be served! \nPlaces are limited\, so don’t miss out! Beginners welcome…​ \nhttps://www.pinsandneedles.club/christmas-workshops
URL:https://richmondtwickenhamfamilyhub.com/event/elf-buddies-family-christmas-sewing-workshop-twickenham/
LOCATION:Patch Twickenham\, 42 York Street\, Twickenham\, TW1 3BW
CATEGORIES:Holiday/Seasonal Workshops
END:VEVENT
BEGIN:VEVENT
DTSTART;TZID=Europe/London:20251031T100000
DTEND;TZID=Europe/London:20251031T120000
DTSTAMP:20260423T125124
CREATED:20251027T143011Z
LAST-MODIFIED:20251027T143011Z
UID:10020567-1761904800-1761912000@richmondtwickenhamfamilyhub.com
SUMMARY:Spooky Sewing Workshop (5-11yrs) – Twickenham
DESCRIPTION:Take your little makers along for some spooky stitching! Choose from fun Halloween projects like Boo! Banners\, Ghoulish Ghosties\, Eerie Eyeballs\, Flappy Bats and Pixie Pumpkins. Perfect for ages 5–11. \nBeginners are welcome and you can choose your project on the day. Spaces are limited\, so book early! \nTime: 10am -12pm\nAll dates and locations:\nMonday 27th October – Scoop & Waffle\, Hampton Hill\nTuesday 28th October – The White House Family Hub\, Hampton\nFriday 31st October (on Halloween!) – Patch\, Twickenham \nPricing:\n£34 per child (Autumn term school club members save £5) \nhttps://www.pinsandneedles.club/spooky-workshops
URL:https://richmondtwickenhamfamilyhub.com/event/spooky-sewing-workshop-5-11yrs-twickenham-2/
LOCATION:Patch Twickenham\, 42 York Street\, Twickenham\, TW1 3BW
CATEGORIES:Holiday/Seasonal Workshops
END:VEVENT
END:VCALENDAR