BEGIN:VCALENDAR
VERSION:2.0
PRODID:-//Family Hub - ECPv6.15.20//NONSGML v1.0//EN
CALSCALE:GREGORIAN
METHOD:PUBLISH
X-WR-CALNAME:Family Hub
X-ORIGINAL-URL:https://richmondtwickenhamfamilyhub.com
X-WR-CALDESC:Events for Family Hub
REFRESH-INTERVAL;VALUE=DURATION:PT1H
X-Robots-Tag:noindex
X-PUBLISHED-TTL:PT1H
BEGIN:VTIMEZONE
TZID:Europe/London
BEGIN:DAYLIGHT
TZOFFSETFROM:+0000
TZOFFSETTO:+0100
TZNAME:BST
DTSTART:20250330T010000
END:DAYLIGHT
BEGIN:STANDARD
TZOFFSETFROM:+0100
TZOFFSETTO:+0000
TZNAME:GMT
DTSTART:20251026T010000
END:STANDARD
BEGIN:DAYLIGHT
TZOFFSETFROM:+0000
TZOFFSETTO:+0100
TZNAME:BST
DTSTART:20260329T010000
END:DAYLIGHT
BEGIN:STANDARD
TZOFFSETFROM:+0100
TZOFFSETTO:+0000
TZNAME:GMT
DTSTART:20261025T010000
END:STANDARD
BEGIN:DAYLIGHT
TZOFFSETFROM:+0000
TZOFFSETTO:+0100
TZNAME:BST
DTSTART:20270328T010000
END:DAYLIGHT
BEGIN:STANDARD
TZOFFSETFROM:+0100
TZOFFSETTO:+0000
TZNAME:GMT
DTSTART:20271031T010000
END:STANDARD
END:VTIMEZONE
BEGIN:VEVENT
DTSTART;TZID=Europe/London:20260323T101500
DTEND;TZID=Europe/London:20260323T164500
DTSTAMP:20260423T092435
CREATED:20260114T212156Z
LAST-MODIFIED:20260114T212156Z
UID:10021001-1774260900-1774284300@richmondtwickenhamfamilyhub.com
SUMMARY:Penny Poppins Messy Play – Mortlake
DESCRIPTION:Penny Poppins Musical Playtime & Messy Play. \n\nMonday sessions at 10.15-11.15am & 3.45-4.45pm\nWeekly themed messy play classes consist of 40 minutes of messy playtime\, where you and your little ones can explore the room freely. There is a range of sensory experiences which include foam\, water\, spaghetti\, sand\, paint\, mud and more. You will also get the opportunity to create something to take home with you! You will finish the class off with 20 minutes of musical playtime. With familiar songs and rhymes.\n\n\n£10.00 per session\n\nClasses are drop in and pay as you go but please remember to check that the session you wish to attend is running. You can book here.\n\nhttps://www.pennypoppinsmusic.co.uk
URL:https://richmondtwickenhamfamilyhub.com/event/penny-poppins-messy-play-mortlake-2/2026-03-23/
LOCATION:St Mary The Virgin Church\, Mortlake High Street\, Mortlake\, SW14 8JA\, United Kingdom
CATEGORIES:Kids Classes
END:VEVENT
BEGIN:VEVENT
DTSTART;TZID=Europe/London:20260316T101500
DTEND;TZID=Europe/London:20260316T164500
DTSTAMP:20260423T092435
CREATED:20260114T212156Z
LAST-MODIFIED:20260114T212156Z
UID:10021000-1773656100-1773679500@richmondtwickenhamfamilyhub.com
SUMMARY:Penny Poppins Messy Play – Mortlake
DESCRIPTION:Penny Poppins Musical Playtime & Messy Play. \n\nMonday sessions at 10.15-11.15am & 3.45-4.45pm\nWeekly themed messy play classes consist of 40 minutes of messy playtime\, where you and your little ones can explore the room freely. There is a range of sensory experiences which include foam\, water\, spaghetti\, sand\, paint\, mud and more. You will also get the opportunity to create something to take home with you! You will finish the class off with 20 minutes of musical playtime. With familiar songs and rhymes.\n\n\n£10.00 per session\n\nClasses are drop in and pay as you go but please remember to check that the session you wish to attend is running. You can book here.\n\nhttps://www.pennypoppinsmusic.co.uk
URL:https://richmondtwickenhamfamilyhub.com/event/penny-poppins-messy-play-mortlake-2/2026-03-16/
LOCATION:St Mary The Virgin Church\, Mortlake High Street\, Mortlake\, SW14 8JA\, United Kingdom
CATEGORIES:Kids Classes
END:VEVENT
BEGIN:VEVENT
DTSTART;TZID=Europe/London:20260309T101500
DTEND;TZID=Europe/London:20260309T164500
DTSTAMP:20260423T092435
CREATED:20260114T212156Z
LAST-MODIFIED:20260114T212156Z
UID:10020999-1773051300-1773074700@richmondtwickenhamfamilyhub.com
SUMMARY:Penny Poppins Messy Play – Mortlake
DESCRIPTION:Penny Poppins Musical Playtime & Messy Play. \n\nMonday sessions at 10.15-11.15am & 3.45-4.45pm\nWeekly themed messy play classes consist of 40 minutes of messy playtime\, where you and your little ones can explore the room freely. There is a range of sensory experiences which include foam\, water\, spaghetti\, sand\, paint\, mud and more. You will also get the opportunity to create something to take home with you! You will finish the class off with 20 minutes of musical playtime. With familiar songs and rhymes.\n\n\n£10.00 per session\n\nClasses are drop in and pay as you go but please remember to check that the session you wish to attend is running. You can book here.\n\nhttps://www.pennypoppinsmusic.co.uk
URL:https://richmondtwickenhamfamilyhub.com/event/penny-poppins-messy-play-mortlake-2/2026-03-09/
LOCATION:St Mary The Virgin Church\, Mortlake High Street\, Mortlake\, SW14 8JA\, United Kingdom
CATEGORIES:Kids Classes
END:VEVENT
BEGIN:VEVENT
DTSTART;TZID=Europe/London:20260302T101500
DTEND;TZID=Europe/London:20260302T164500
DTSTAMP:20260423T092435
CREATED:20260114T212156Z
LAST-MODIFIED:20260114T212156Z
UID:10020998-1772446500-1772469900@richmondtwickenhamfamilyhub.com
SUMMARY:Penny Poppins Messy Play – Mortlake
DESCRIPTION:Penny Poppins Musical Playtime & Messy Play. \n\nMonday sessions at 10.15-11.15am & 3.45-4.45pm\nWeekly themed messy play classes consist of 40 minutes of messy playtime\, where you and your little ones can explore the room freely. There is a range of sensory experiences which include foam\, water\, spaghetti\, sand\, paint\, mud and more. You will also get the opportunity to create something to take home with you! You will finish the class off with 20 minutes of musical playtime. With familiar songs and rhymes.\n\n\n£10.00 per session\n\nClasses are drop in and pay as you go but please remember to check that the session you wish to attend is running. You can book here.\n\nhttps://www.pennypoppinsmusic.co.uk
URL:https://richmondtwickenhamfamilyhub.com/event/penny-poppins-messy-play-mortlake-2/2026-03-02/
LOCATION:St Mary The Virgin Church\, Mortlake High Street\, Mortlake\, SW14 8JA\, United Kingdom
CATEGORIES:Kids Classes
END:VEVENT
BEGIN:VEVENT
DTSTART;TZID=Europe/London:20260223T101500
DTEND;TZID=Europe/London:20260223T164500
DTSTAMP:20260423T092435
CREATED:20260114T212156Z
LAST-MODIFIED:20260114T212156Z
UID:10020997-1771841700-1771865100@richmondtwickenhamfamilyhub.com
SUMMARY:Penny Poppins Messy Play – Mortlake
DESCRIPTION:Penny Poppins Musical Playtime & Messy Play. \n\nMonday sessions at 10.15-11.15am & 3.45-4.45pm\nWeekly themed messy play classes consist of 40 minutes of messy playtime\, where you and your little ones can explore the room freely. There is a range of sensory experiences which include foam\, water\, spaghetti\, sand\, paint\, mud and more. You will also get the opportunity to create something to take home with you! You will finish the class off with 20 minutes of musical playtime. With familiar songs and rhymes.\n\n\n£10.00 per session\n\nClasses are drop in and pay as you go but please remember to check that the session you wish to attend is running. You can book here.\n\nhttps://www.pennypoppinsmusic.co.uk
URL:https://richmondtwickenhamfamilyhub.com/event/penny-poppins-messy-play-mortlake-2/2026-02-23/
LOCATION:St Mary The Virgin Church\, Mortlake High Street\, Mortlake\, SW14 8JA\, United Kingdom
CATEGORIES:Kids Classes
END:VEVENT
BEGIN:VEVENT
DTSTART;TZID=Europe/London:20260209T101500
DTEND;TZID=Europe/London:20260209T164500
DTSTAMP:20260423T092435
CREATED:20260114T212156Z
LAST-MODIFIED:20260114T212156Z
UID:10020996-1770632100-1770655500@richmondtwickenhamfamilyhub.com
SUMMARY:Penny Poppins Messy Play – Mortlake
DESCRIPTION:Penny Poppins Musical Playtime & Messy Play. \n\nMonday sessions at 10.15-11.15am & 3.45-4.45pm\nWeekly themed messy play classes consist of 40 minutes of messy playtime\, where you and your little ones can explore the room freely. There is a range of sensory experiences which include foam\, water\, spaghetti\, sand\, paint\, mud and more. You will also get the opportunity to create something to take home with you! You will finish the class off with 20 minutes of musical playtime. With familiar songs and rhymes.\n\n\n£10.00 per session\n\nClasses are drop in and pay as you go but please remember to check that the session you wish to attend is running. You can book here.\n\nhttps://www.pennypoppinsmusic.co.uk
URL:https://richmondtwickenhamfamilyhub.com/event/penny-poppins-messy-play-mortlake-2/2026-02-09/
LOCATION:St Mary The Virgin Church\, Mortlake High Street\, Mortlake\, SW14 8JA\, United Kingdom
CATEGORIES:Kids Classes
END:VEVENT
BEGIN:VEVENT
DTSTART;TZID=Europe/London:20260202T101500
DTEND;TZID=Europe/London:20260202T164500
DTSTAMP:20260423T092436
CREATED:20260114T212156Z
LAST-MODIFIED:20260114T212156Z
UID:10020995-1770027300-1770050700@richmondtwickenhamfamilyhub.com
SUMMARY:Penny Poppins Messy Play – Mortlake
DESCRIPTION:Penny Poppins Musical Playtime & Messy Play. \n\nMonday sessions at 10.15-11.15am & 3.45-4.45pm\nWeekly themed messy play classes consist of 40 minutes of messy playtime\, where you and your little ones can explore the room freely. There is a range of sensory experiences which include foam\, water\, spaghetti\, sand\, paint\, mud and more. You will also get the opportunity to create something to take home with you! You will finish the class off with 20 minutes of musical playtime. With familiar songs and rhymes.\n\n\n£10.00 per session\n\nClasses are drop in and pay as you go but please remember to check that the session you wish to attend is running. You can book here.\n\nhttps://www.pennypoppinsmusic.co.uk
URL:https://richmondtwickenhamfamilyhub.com/event/penny-poppins-messy-play-mortlake-2/2026-02-02/
LOCATION:St Mary The Virgin Church\, Mortlake High Street\, Mortlake\, SW14 8JA\, United Kingdom
CATEGORIES:Kids Classes
END:VEVENT
BEGIN:VEVENT
DTSTART;TZID=Europe/London:20260126T101500
DTEND;TZID=Europe/London:20260126T164500
DTSTAMP:20260423T092436
CREATED:20260114T212156Z
LAST-MODIFIED:20260114T212156Z
UID:10020994-1769422500-1769445900@richmondtwickenhamfamilyhub.com
SUMMARY:Penny Poppins Messy Play – Mortlake
DESCRIPTION:Penny Poppins Musical Playtime & Messy Play. \n\nMonday sessions at 10.15-11.15am & 3.45-4.45pm\nWeekly themed messy play classes consist of 40 minutes of messy playtime\, where you and your little ones can explore the room freely. There is a range of sensory experiences which include foam\, water\, spaghetti\, sand\, paint\, mud and more. You will also get the opportunity to create something to take home with you! You will finish the class off with 20 minutes of musical playtime. With familiar songs and rhymes.\n\n\n£10.00 per session\n\nClasses are drop in and pay as you go but please remember to check that the session you wish to attend is running. You can book here.\n\nhttps://www.pennypoppinsmusic.co.uk
URL:https://richmondtwickenhamfamilyhub.com/event/penny-poppins-messy-play-mortlake-2/2026-01-26/
LOCATION:St Mary The Virgin Church\, Mortlake High Street\, Mortlake\, SW14 8JA\, United Kingdom
CATEGORIES:Kids Classes
END:VEVENT
BEGIN:VEVENT
DTSTART;TZID=Europe/London:20260119T101500
DTEND;TZID=Europe/London:20260119T164500
DTSTAMP:20260423T092436
CREATED:20260114T212156Z
LAST-MODIFIED:20260114T212156Z
UID:10020993-1768817700-1768841100@richmondtwickenhamfamilyhub.com
SUMMARY:Penny Poppins Messy Play – Mortlake
DESCRIPTION:Penny Poppins Musical Playtime & Messy Play. \n\nMonday sessions at 10.15-11.15am & 3.45-4.45pm\nWeekly themed messy play classes consist of 40 minutes of messy playtime\, where you and your little ones can explore the room freely. There is a range of sensory experiences which include foam\, water\, spaghetti\, sand\, paint\, mud and more. You will also get the opportunity to create something to take home with you! You will finish the class off with 20 minutes of musical playtime. With familiar songs and rhymes.\n\n\n£10.00 per session\n\nClasses are drop in and pay as you go but please remember to check that the session you wish to attend is running. You can book here.\n\nhttps://www.pennypoppinsmusic.co.uk
URL:https://richmondtwickenhamfamilyhub.com/event/penny-poppins-messy-play-mortlake-2/2026-01-19/
LOCATION:St Mary The Virgin Church\, Mortlake High Street\, Mortlake\, SW14 8JA\, United Kingdom
CATEGORIES:Kids Classes
END:VEVENT
END:VCALENDAR